BEGIN:VCALENDAR
VERSION:2.0
PRODID:-//RSU 23 Old Orchard Beach Schools - ECPv6.15.18//NONSGML v1.0//EN
CALSCALE:GREGORIAN
METHOD:PUBLISH
X-ORIGINAL-URL:https://rsu23.org
X-WR-CALDESC:Events for RSU 23 Old Orchard Beach Schools
REFRESH-INTERVAL;VALUE=DURATION:PT1H
X-Robots-Tag:noindex
X-PUBLISHED-TTL:PT1H
BEGIN:VTIMEZONE
TZID:America/New_York
BEGIN:DAYLIGHT
TZOFFSETFROM:-0500
TZOFFSETTO:-0400
TZNAME:EDT
DTSTART:20220313T070000
END:DAYLIGHT
BEGIN:STANDARD
TZOFFSETFROM:-0400
TZOFFSETTO:-0500
TZNAME:EST
DTSTART:20221106T060000
END:STANDARD
BEGIN:DAYLIGHT
TZOFFSETFROM:-0500
TZOFFSETTO:-0400
TZNAME:EDT
DTSTART:20230312T070000
END:DAYLIGHT
BEGIN:STANDARD
TZOFFSETFROM:-0400
TZOFFSETTO:-0500
TZNAME:EST
DTSTART:20231105T060000
END:STANDARD
BEGIN:DAYLIGHT
TZOFFSETFROM:-0500
TZOFFSETTO:-0400
TZNAME:EDT
DTSTART:20240310T070000
END:DAYLIGHT
BEGIN:STANDARD
TZOFFSETFROM:-0400
TZOFFSETTO:-0500
TZNAME:EST
DTSTART:20241103T060000
END:STANDARD
END:VTIMEZONE
BEGIN:VEVENT
DTSTART;VALUE=DATE:20230308
DTEND;VALUE=DATE:20230309
DTSTAMP:20260421T061245
CREATED:20221208T000150Z
LAST-MODIFIED:20230309T000306Z
UID:99152-1678233600-1678319999@rsu23.org
SUMMARY:Early Release Day
DESCRIPTION:
URL:https://rsu23.org/event/early-release-day-63/
CATEGORIES:Jameson Elementary
END:VEVENT
BEGIN:VEVENT
DTSTART;VALUE=DATE:20230308
DTEND;VALUE=DATE:20230309
DTSTAMP:20260421T061245
CREATED:20221208T001502Z
LAST-MODIFIED:20230308T234622Z
UID:99155-1678233600-1678319999@rsu23.org
SUMMARY:Early Release
DESCRIPTION:
URL:https://rsu23.org/event/early-release-18/
CATEGORIES:OOBHS
END:VEVENT
BEGIN:VEVENT
DTSTART;VALUE=DATE:20230308
DTEND;VALUE=DATE:20230309
DTSTAMP:20260421T061245
CREATED:20221208T003021Z
LAST-MODIFIED:20230308T234622Z
UID:99159-1678233600-1678319999@rsu23.org
SUMMARY:Early Release Day
DESCRIPTION:
URL:https://rsu23.org/event/early-release-day-64/
CATEGORIES:Loranger Memorial
END:VEVENT
BEGIN:VEVENT
DTSTART;VALUE=DATE:20230310
DTEND;VALUE=DATE:20230311
DTSTAMP:20260421T061245
CREATED:20221210T001510Z
LAST-MODIFIED:20230310T234915Z
UID:99411-1678406400-1678492799@rsu23.org
SUMMARY:Last day Trimester 2
DESCRIPTION:
URL:https://rsu23.org/event/last-day-trimester-2/
CATEGORIES:Loranger Memorial
END:VEVENT
BEGIN:VEVENT
DTSTART;TZID=America/New_York:20230315T150000
DTEND;TZID=America/New_York:20230315T190000
DTSTAMP:20260421T061245
CREATED:20230313T191804Z
LAST-MODIFIED:20230315T223509Z
UID:110071-1678892400-1678906800@rsu23.org
SUMMARY:Parent-Teacher Conferences
DESCRIPTION:
URL:https://rsu23.org/event/parent-teacher-conferences-22/
CATEGORIES:Jameson Elementary
END:VEVENT
BEGIN:VEVENT
DTSTART;TZID=America/New_York:20230315T150000
DTEND;TZID=America/New_York:20230315T190000
DTSTAMP:20260421T061245
CREATED:20230313T193044Z
LAST-MODIFIED:20230315T230103Z
UID:110074-1678892400-1678906800@rsu23.org
SUMMARY:Parent-Teacher Conferences
DESCRIPTION:
URL:https://rsu23.org/event/parent-teacher-conferences-24/
CATEGORIES:Loranger Memorial
END:VEVENT
BEGIN:VEVENT
DTSTART;TZID=America/New_York:20230323T150000
DTEND;TZID=America/New_York:20230323T190000
DTSTAMP:20260421T061245
CREATED:20230313T191804Z
LAST-MODIFIED:20230323T222558Z
UID:110072-1679583600-1679598000@rsu23.org
SUMMARY:Parent-Teacher Conferences
DESCRIPTION:
URL:https://rsu23.org/event/parent-teacher-conferences-23/
CATEGORIES:Jameson Elementary
END:VEVENT
BEGIN:VEVENT
DTSTART;TZID=America/New_York:20230323T150000
DTEND;TZID=America/New_York:20230323T190000
DTSTAMP:20260421T061245
CREATED:20230313T193044Z
LAST-MODIFIED:20230323T223032Z
UID:110075-1679583600-1679598000@rsu23.org
SUMMARY:Parent-Teacher Conferences
DESCRIPTION:
URL:https://rsu23.org/event/parent-teacher-conferences-25/
CATEGORIES:Loranger Memorial
END:VEVENT
END:VCALENDAR