BEGIN:VCALENDAR
VERSION:2.0
PRODID:-//RSU 23 Old Orchard Beach Schools - ECPv6.15.18//NONSGML v1.0//EN
CALSCALE:GREGORIAN
METHOD:PUBLISH
X-ORIGINAL-URL:https://rsu23.org
X-WR-CALDESC:Events for RSU 23 Old Orchard Beach Schools
REFRESH-INTERVAL;VALUE=DURATION:PT1H
X-Robots-Tag:noindex
X-PUBLISHED-TTL:PT1H
BEGIN:VTIMEZONE
TZID:America/New_York
BEGIN:DAYLIGHT
TZOFFSETFROM:-0500
TZOFFSETTO:-0400
TZNAME:EDT
DTSTART:20220313T070000
END:DAYLIGHT
BEGIN:STANDARD
TZOFFSETFROM:-0400
TZOFFSETTO:-0500
TZNAME:EST
DTSTART:20221106T060000
END:STANDARD
BEGIN:DAYLIGHT
TZOFFSETFROM:-0500
TZOFFSETTO:-0400
TZNAME:EDT
DTSTART:20230312T070000
END:DAYLIGHT
BEGIN:STANDARD
TZOFFSETFROM:-0400
TZOFFSETTO:-0500
TZNAME:EST
DTSTART:20231105T060000
END:STANDARD
BEGIN:DAYLIGHT
TZOFFSETFROM:-0500
TZOFFSETTO:-0400
TZNAME:EDT
DTSTART:20240310T070000
END:DAYLIGHT
BEGIN:STANDARD
TZOFFSETFROM:-0400
TZOFFSETTO:-0500
TZNAME:EST
DTSTART:20241103T060000
END:STANDARD
END:VTIMEZONE
BEGIN:VEVENT
DTSTART;VALUE=DATE:20230201
DTEND;VALUE=DATE:20230202
DTSTAMP:20260421T075556
CREATED:20221103T000012Z
LAST-MODIFIED:20230201T234643Z
UID:95048-1675209600-1675295999@rsu23.org
SUMMARY:Early Release Day
DESCRIPTION:
URL:https://rsu23.org/event/early-release-day-61/
CATEGORIES:Jameson Elementary
END:VEVENT
BEGIN:VEVENT
DTSTART;VALUE=DATE:20230201
DTEND;VALUE=DATE:20230202
DTSTAMP:20260421T075556
CREATED:20221103T001603Z
LAST-MODIFIED:20230201T233405Z
UID:95051-1675209600-1675295999@rsu23.org
SUMMARY:Early Release
DESCRIPTION:
URL:https://rsu23.org/event/early-release-17/
CATEGORIES:OOBHS
END:VEVENT
BEGIN:VEVENT
DTSTART;VALUE=DATE:20230201
DTEND;VALUE=DATE:20230202
DTSTAMP:20260421T075556
CREATED:20221103T003008Z
LAST-MODIFIED:20230201T231816Z
UID:95055-1675209600-1675295999@rsu23.org
SUMMARY:Early Release Day
DESCRIPTION:
URL:https://rsu23.org/event/early-release-day-62/
CATEGORIES:Loranger Memorial
END:VEVENT
BEGIN:VEVENT
DTSTART;VALUE=DATE:20230220
DTEND;VALUE=DATE:20230221
DTSTAMP:20260421T075556
CREATED:20221122T000147Z
LAST-MODIFIED:20230220T232648Z
UID:97313-1676851200-1676937599@rsu23.org
SUMMARY:Presidents' Day - No School
DESCRIPTION:
URL:https://rsu23.org/event/presidents-day-no-school/
CATEGORIES:Loranger Memorial
END:VEVENT
BEGIN:VEVENT
DTSTART;VALUE=DATE:20230220
DTEND;VALUE=DATE:20230221
DTSTAMP:20260421T075556
CREATED:20221122T000148Z
LAST-MODIFIED:20230213T192210Z
UID:97314-1676851200-1676937599@rsu23.org
SUMMARY:Presidents' Day - No School
DESCRIPTION:
URL:https://rsu23.org/event/presidents-day-no-school-2/
CATEGORIES:OOBHS
END:VEVENT
BEGIN:VEVENT
DTSTART;VALUE=DATE:20230220
DTEND;VALUE=DATE:20230221
DTSTAMP:20260421T075556
CREATED:20221122T001621Z
LAST-MODIFIED:20230220T224808Z
UID:97317-1676851200-1676937599@rsu23.org
SUMMARY:Presidents' Day - No School
DESCRIPTION:
URL:https://rsu23.org/event/presidents-day-no-school-3/
CATEGORIES:Jameson Elementary
END:VEVENT
BEGIN:VEVENT
DTSTART;VALUE=DATE:20230221
DTEND;VALUE=DATE:20230226
DTSTAMP:20260421T075556
CREATED:20221123T001509Z
LAST-MODIFIED:20230213T192210Z
UID:97433-1676937600-1677369599@rsu23.org
SUMMARY:No School - February Break
DESCRIPTION:
URL:https://rsu23.org/event/no-school-february-break/
CATEGORIES:OOBHS
END:VEVENT
BEGIN:VEVENT
DTSTART;VALUE=DATE:20230221
DTEND;VALUE=DATE:20230226
DTSTAMP:20260421T075556
CREATED:20221123T001510Z
LAST-MODIFIED:20230225T235813Z
UID:97435-1676937600-1677369599@rsu23.org
SUMMARY:No School - February Break
DESCRIPTION:
URL:https://rsu23.org/event/no-school-february-break-2/
CATEGORIES:Loranger Memorial
END:VEVENT
BEGIN:VEVENT
DTSTART;VALUE=DATE:20230221
DTEND;VALUE=DATE:20230226
DTSTAMP:20260421T075556
CREATED:20221123T003124Z
LAST-MODIFIED:20230225T233808Z
UID:97437-1676937600-1677369599@rsu23.org
SUMMARY:No School - February Break
DESCRIPTION:
URL:https://rsu23.org/event/no-school-february-break-3/
CATEGORIES:Jameson Elementary
END:VEVENT
END:VCALENDAR