BEGIN:VCALENDAR
VERSION:2.0
PRODID:-//RSU 23 Old Orchard Beach Schools - ECPv6.15.18//NONSGML v1.0//EN
CALSCALE:GREGORIAN
METHOD:PUBLISH
X-ORIGINAL-URL:https://rsu23.org
X-WR-CALDESC:Events for RSU 23 Old Orchard Beach Schools
REFRESH-INTERVAL;VALUE=DURATION:PT1H
X-Robots-Tag:noindex
X-PUBLISHED-TTL:PT1H
BEGIN:VTIMEZONE
TZID:America/New_York
BEGIN:DAYLIGHT
TZOFFSETFROM:-0500
TZOFFSETTO:-0400
TZNAME:EDT
DTSTART:20210314T070000
END:DAYLIGHT
BEGIN:STANDARD
TZOFFSETFROM:-0400
TZOFFSETTO:-0500
TZNAME:EST
DTSTART:20211107T060000
END:STANDARD
BEGIN:DAYLIGHT
TZOFFSETFROM:-0500
TZOFFSETTO:-0400
TZNAME:EDT
DTSTART:20220313T070000
END:DAYLIGHT
BEGIN:STANDARD
TZOFFSETFROM:-0400
TZOFFSETTO:-0500
TZNAME:EST
DTSTART:20221106T060000
END:STANDARD
BEGIN:DAYLIGHT
TZOFFSETFROM:-0500
TZOFFSETTO:-0400
TZNAME:EDT
DTSTART:20230312T070000
END:DAYLIGHT
BEGIN:STANDARD
TZOFFSETFROM:-0400
TZOFFSETTO:-0500
TZNAME:EST
DTSTART:20231105T060000
END:STANDARD
BEGIN:DAYLIGHT
TZOFFSETFROM:-0500
TZOFFSETTO:-0400
TZNAME:EDT
DTSTART:20240310T070000
END:DAYLIGHT
BEGIN:STANDARD
TZOFFSETFROM:-0400
TZOFFSETTO:-0500
TZNAME:EST
DTSTART:20241103T060000
END:STANDARD
END:VTIMEZONE
BEGIN:VEVENT
DTSTART;VALUE=DATE:20221223
DTEND;VALUE=DATE:20230103
DTSTAMP:20260421T092650
CREATED:20220924T003009Z
LAST-MODIFIED:20221222T181513Z
UID:91269-1671753600-1672703999@rsu23.org
SUMMARY:No School - Winter Break
DESCRIPTION:
URL:https://rsu23.org/event/no-school-winter-break/
CATEGORIES:OOBHS
END:VEVENT
BEGIN:VEVENT
DTSTART;VALUE=DATE:20221223
DTEND;VALUE=DATE:20230103
DTSTAMP:20260421T092650
CREATED:20221012T163032Z
LAST-MODIFIED:20230102T234722Z
UID:93288-1671753600-1672703999@rsu23.org
SUMMARY:No School - Winter Break
DESCRIPTION:
URL:https://rsu23.org/event/no-school-winter-break-2/
CATEGORIES:Loranger Memorial
END:VEVENT
BEGIN:VEVENT
DTSTART;VALUE=DATE:20221223
DTEND;VALUE=DATE:20230103
DTSTAMP:20260421T092650
CREATED:20221012T164509Z
LAST-MODIFIED:20230102T233015Z
UID:93294-1671753600-1672703999@rsu23.org
SUMMARY:No School - Winter Break
DESCRIPTION:
URL:https://rsu23.org/event/no-school-winter-break-3/
CATEGORIES:Jameson Elementary
END:VEVENT
BEGIN:VEVENT
DTSTART;VALUE=DATE:20230111
DTEND;VALUE=DATE:20230112
DTSTAMP:20260421T092650
CREATED:20221013T003008Z
LAST-MODIFIED:20230111T231857Z
UID:93336-1673395200-1673481599@rsu23.org
SUMMARY:Early Release Day
DESCRIPTION:
URL:https://rsu23.org/event/early-release-day-59/
CATEGORIES:Jameson Elementary
END:VEVENT
BEGIN:VEVENT
DTSTART;VALUE=DATE:20230111
DTEND;VALUE=DATE:20230112
DTSTAMP:20260421T092650
CREATED:20221013T003010Z
LAST-MODIFIED:20230111T234944Z
UID:93338-1673395200-1673481599@rsu23.org
SUMMARY:Early Release Day
DESCRIPTION:
URL:https://rsu23.org/event/early-release-day-60/
CATEGORIES:Loranger Memorial
END:VEVENT
BEGIN:VEVENT
DTSTART;VALUE=DATE:20230111
DTEND;VALUE=DATE:20230112
DTSTAMP:20260421T092650
CREATED:20221031T182409Z
LAST-MODIFIED:20230111T233301Z
UID:94866-1673395200-1673481599@rsu23.org
SUMMARY:Early Release
DESCRIPTION:
URL:https://rsu23.org/event/early-release-16/
CATEGORIES:OOBHS
END:VEVENT
BEGIN:VEVENT
DTSTART;VALUE=DATE:20230116
DTEND;VALUE=DATE:20230117
DTSTAMP:20260421T092650
CREATED:20221018T001648Z
LAST-MODIFIED:20230116T234457Z
UID:93743-1673827200-1673913599@rsu23.org
SUMMARY:Martin Luther King\, Jr. Day - No School
DESCRIPTION:
URL:https://rsu23.org/event/martin-luther-king-jr-day-no-school-3/
CATEGORIES:Loranger Memorial
END:VEVENT
BEGIN:VEVENT
DTSTART;VALUE=DATE:20230116
DTEND;VALUE=DATE:20230117
DTSTAMP:20260421T092650
CREATED:20221018T001649Z
LAST-MODIFIED:20230116T233000Z
UID:93745-1673827200-1673913599@rsu23.org
SUMMARY:Martin Luther King\, Jr. Day - No School
DESCRIPTION:
URL:https://rsu23.org/event/martin-luther-king-jr-day-no-school-4/
CATEGORIES:Jameson Elementary
END:VEVENT
BEGIN:VEVENT
DTSTART;VALUE=DATE:20230116
DTEND;VALUE=DATE:20230117
DTSTAMP:20260421T092650
CREATED:20221031T182409Z
LAST-MODIFIED:20230116T233001Z
UID:94867-1673827200-1673913599@rsu23.org
SUMMARY:Martin Luther King\, Jr. Day - No School
DESCRIPTION:
URL:https://rsu23.org/event/martin-luther-king-jr-day-no-school-5/
CATEGORIES:OOBHS
END:VEVENT
END:VCALENDAR