BEGIN:VCALENDAR
VERSION:2.0
PRODID:-//RSU 23 Old Orchard Beach Schools - ECPv6.15.18//NONSGML v1.0//EN
CALSCALE:GREGORIAN
METHOD:PUBLISH
X-ORIGINAL-URL:https://rsu23.org
X-WR-CALDESC:Events for RSU 23 Old Orchard Beach Schools
REFRESH-INTERVAL;VALUE=DURATION:PT1H
X-Robots-Tag:noindex
X-PUBLISHED-TTL:PT1H
BEGIN:VTIMEZONE
TZID:America/New_York
BEGIN:DAYLIGHT
TZOFFSETFROM:-0500
TZOFFSETTO:-0400
TZNAME:EDT
DTSTART:20210314T070000
END:DAYLIGHT
BEGIN:STANDARD
TZOFFSETFROM:-0400
TZOFFSETTO:-0500
TZNAME:EST
DTSTART:20211107T060000
END:STANDARD
BEGIN:DAYLIGHT
TZOFFSETFROM:-0500
TZOFFSETTO:-0400
TZNAME:EDT
DTSTART:20220313T070000
END:DAYLIGHT
BEGIN:STANDARD
TZOFFSETFROM:-0400
TZOFFSETTO:-0500
TZNAME:EST
DTSTART:20221106T060000
END:STANDARD
BEGIN:DAYLIGHT
TZOFFSETFROM:-0500
TZOFFSETTO:-0400
TZNAME:EDT
DTSTART:20230312T070000
END:DAYLIGHT
BEGIN:STANDARD
TZOFFSETFROM:-0400
TZOFFSETTO:-0500
TZNAME:EST
DTSTART:20231105T060000
END:STANDARD
END:VTIMEZONE
BEGIN:VEVENT
DTSTART;TZID=America/New_York:20220901T190000
DTEND;TZID=America/New_York:20220901T200000
DTSTAMP:20260421T162946
CREATED:20220901T101620Z
LAST-MODIFIED:20220901T232957Z
UID:88565-1662058800-1662062400@rsu23.org
SUMMARY:HS Football Home Opener
DESCRIPTION:
URL:https://rsu23.org/event/hs-football-home-opener/
CATEGORIES:OOBHS
END:VEVENT
BEGIN:VEVENT
DTSTART;VALUE=DATE:20220905
DTEND;VALUE=DATE:20220906
DTSTAMP:20260421T162946
CREATED:20220905T181555Z
LAST-MODIFIED:20220905T234528Z
UID:89115-1662336000-1662422399@rsu23.org
SUMMARY:Labor Day - No School
DESCRIPTION:
URL:https://rsu23.org/event/labor-day-no-school/
CATEGORIES:OOBHS
END:VEVENT
BEGIN:VEVENT
DTSTART;VALUE=DATE:20220913
DTEND;VALUE=DATE:20220914
DTSTAMP:20260421T162946
CREATED:20220907T014517Z
LAST-MODIFIED:20220914T000035Z
UID:89281-1663027200-1663113599@rsu23.org
SUMMARY:PSAT sign up deadline (grade 10 only)
DESCRIPTION:
URL:https://rsu23.org/event/psat-sign-up-deadline-grade-10-only/
CATEGORIES:OOBHS
END:VEVENT
BEGIN:VEVENT
DTSTART;VALUE=DATE:20220914
DTEND;VALUE=DATE:20220915
DTSTAMP:20260421T162946
CREATED:20220815T134538Z
LAST-MODIFIED:20220914T233109Z
UID:86381-1663113600-1663199999@rsu23.org
SUMMARY:Early Release Day
DESCRIPTION:
URL:https://rsu23.org/event/early-release-day-51/
CATEGORIES:Loranger Memorial
END:VEVENT
BEGIN:VEVENT
DTSTART;VALUE=DATE:20220914
DTEND;VALUE=DATE:20220915
DTSTAMP:20260421T162946
CREATED:20220815T141705Z
LAST-MODIFIED:20220914T233109Z
UID:86388-1663113600-1663199999@rsu23.org
SUMMARY:Early Release Day
DESCRIPTION:
URL:https://rsu23.org/event/early-release-day-52/
CATEGORIES:Jameson Elementary
END:VEVENT
BEGIN:VEVENT
DTSTART;VALUE=DATE:20220914
DTEND;VALUE=DATE:20220915
DTSTAMP:20260421T162946
CREATED:20220905T174507Z
LAST-MODIFIED:20220914T234526Z
UID:89103-1663113600-1663199999@rsu23.org
SUMMARY:Early Release
DESCRIPTION:
URL:https://rsu23.org/event/early-release-12/
CATEGORIES:OOBHS
END:VEVENT
BEGIN:VEVENT
DTSTART;TZID=America/New_York:20220914T170000
DTEND;TZID=America/New_York:20220914T180000
DTSTAMP:20260421T162946
CREATED:20220815T134538Z
LAST-MODIFIED:20220914T214510Z
UID:86382-1663174800-1663178400@rsu23.org
SUMMARY:LMS Open House
DESCRIPTION:
URL:https://rsu23.org/event/lms-open-house-2/
CATEGORIES:Loranger Memorial
END:VEVENT
BEGIN:VEVENT
DTSTART;TZID=America/New_York:20220914T180000
DTEND;TZID=America/New_York:20220914T200000
DTSTAMP:20260421T162946
CREATED:20220905T174507Z
LAST-MODIFIED:20220914T234526Z
UID:89104-1663178400-1663185600@rsu23.org
SUMMARY:HS Open House
DESCRIPTION:
URL:https://rsu23.org/event/hs-open-house/
CATEGORIES:OOBHS
END:VEVENT
BEGIN:VEVENT
DTSTART;VALUE=DATE:20220920
DTEND;VALUE=DATE:20220921
DTSTAMP:20260421T162946
CREATED:20220721T170117Z
LAST-MODIFIED:20220920T234619Z
UID:83418-1663632000-1663718399@rsu23.org
SUMMARY:Picture Day
DESCRIPTION:
URL:https://rsu23.org/event/picture-day-2/
CATEGORIES:Loranger Memorial
END:VEVENT
BEGIN:VEVENT
DTSTART;TZID=America/New_York:20220922T163000
DTEND;TZID=America/New_York:20220922T183000
DTSTAMP:20260421T162946
CREATED:20220907T011546Z
LAST-MODIFIED:20220922T220108Z
UID:89277-1663864200-1663871400@rsu23.org
SUMMARY:BRCOT Open House
DESCRIPTION:
URL:https://rsu23.org/event/brcot-open-house/
CATEGORIES:OOBHS
END:VEVENT
END:VCALENDAR