BEGIN:VCALENDAR
VERSION:2.0
PRODID:-//RSU 23 Old Orchard Beach Schools - ECPv6.15.18//NONSGML v1.0//EN
CALSCALE:GREGORIAN
METHOD:PUBLISH
X-WR-CALNAME:RSU 23 Old Orchard Beach Schools
X-ORIGINAL-URL:https://rsu23.org
X-WR-CALDESC:Events for RSU 23 Old Orchard Beach Schools
REFRESH-INTERVAL;VALUE=DURATION:PT1H
X-Robots-Tag:noindex
X-PUBLISHED-TTL:PT1H
BEGIN:VTIMEZONE
TZID:America/New_York
BEGIN:DAYLIGHT
TZOFFSETFROM:-0500
TZOFFSETTO:-0400
TZNAME:EDT
DTSTART:20170312T070000
END:DAYLIGHT
BEGIN:STANDARD
TZOFFSETFROM:-0400
TZOFFSETTO:-0500
TZNAME:EST
DTSTART:20171105T060000
END:STANDARD
BEGIN:DAYLIGHT
TZOFFSETFROM:-0500
TZOFFSETTO:-0400
TZNAME:EDT
DTSTART:20180311T070000
END:DAYLIGHT
BEGIN:STANDARD
TZOFFSETFROM:-0400
TZOFFSETTO:-0500
TZNAME:EST
DTSTART:20181104T060000
END:STANDARD
BEGIN:DAYLIGHT
TZOFFSETFROM:-0500
TZOFFSETTO:-0400
TZNAME:EDT
DTSTART:20190310T070000
END:DAYLIGHT
BEGIN:STANDARD
TZOFFSETFROM:-0400
TZOFFSETTO:-0500
TZNAME:EST
DTSTART:20191103T060000
END:STANDARD
END:VTIMEZONE
BEGIN:VEVENT
DTSTART;TZID=America/New_York:20181023T143000
DTEND;TZID=America/New_York:20181023T180000
DTSTAMP:20260425T082744
CREATED:20181017T202845Z
LAST-MODIFIED:20181018T185200Z
UID:11630-1540305000-1540317600@rsu23.org
SUMMARY:Jameson Scholastic Book Fair
DESCRIPTION:
URL:https://rsu23.org/event/jameson-scholastic-book-fair-4/
CATEGORIES:Jameson Elementary
END:VEVENT
BEGIN:VEVENT
DTSTART;TZID=America/New_York:20181023T143000
DTEND;TZID=America/New_York:20181023T180000
DTSTAMP:20260425T082744
CREATED:20180910T130923Z
LAST-MODIFIED:20181018T185200Z
UID:8933-1540305000-1540317600@rsu23.org
SUMMARY:Parent-Teacher conferences
DESCRIPTION:
URL:https://rsu23.org/event/parent-teacher-conferences-4/
CATEGORIES:Jameson Elementary
END:VEVENT
BEGIN:VEVENT
DTSTART;TZID=America/New_York:20181023T080000
DTEND;TZID=America/New_York:20181023T110000
DTSTAMP:20260425T082744
CREATED:20181021T193051Z
LAST-MODIFIED:20181023T234457Z
UID:11824-1540281600-1540292400@rsu23.org
SUMMARY:Clean Water Program Grade 5 Visit
DESCRIPTION:
URL:https://rsu23.org/event/clean-water-program-grade-5-visit/
CATEGORIES:Loranger Memorial
END:VEVENT
BEGIN:VEVENT
DTSTART;VALUE=DATE:20181023
DTEND;VALUE=DATE:20181024
DTSTAMP:20260425T082744
CREATED:20180919T145031Z
LAST-MODIFIED:20181023T234457Z
UID:9686-1540252800-1540339199@rsu23.org
SUMMARY:Kieve Trip
DESCRIPTION:
URL:https://rsu23.org/event/kieve-trip-2/
CATEGORIES:Loranger Memorial
END:VEVENT
BEGIN:VEVENT
DTSTART;TZID=America/New_York:20181022T160000
DTEND;TZID=America/New_York:20181022T170000
DTSTAMP:20260425T082744
CREATED:20180910T180600Z
LAST-MODIFIED:20180911T175401Z
UID:9029-1540224000-1540227600@rsu23.org
SUMMARY:Field Hockey HOME vs. Yarmouth
DESCRIPTION:
URL:https://rsu23.org/event/field-hockey-home-vs-yarmouth/
CATEGORIES:Loranger Memorial
END:VEVENT
BEGIN:VEVENT
DTSTART;TZID=America/New_York:20181022T153000
DTEND;TZID=America/New_York:20181022T163000
DTSTAMP:20260425T082744
CREATED:20180910T180559Z
LAST-MODIFIED:20180911T175401Z
UID:9028-1540222200-1540225800@rsu23.org
SUMMARY:Girls Soccer HOME vs. Fryeburg
DESCRIPTION:
URL:https://rsu23.org/event/girls-soccer-home-vs-fryeburg/
CATEGORIES:Loranger Memorial
END:VEVENT
BEGIN:VEVENT
DTSTART;TZID=America/New_York:20181022T143000
DTEND;TZID=America/New_York:20181022T150000
DTSTAMP:20260425T082744
CREATED:20181017T202844Z
LAST-MODIFIED:20181018T185200Z
UID:11629-1540218600-1540220400@rsu23.org
SUMMARY:Jameson Scholastic Book Fair
DESCRIPTION:
URL:https://rsu23.org/event/jameson-scholastic-book-fair-3/
CATEGORIES:Jameson Elementary
END:VEVENT
BEGIN:VEVENT
DTSTART;VALUE=DATE:20181022
DTEND;VALUE=DATE:20181023
DTSTAMP:20260425T082744
CREATED:20180919T145030Z
LAST-MODIFIED:20181022T235004Z
UID:9685-1540166400-1540252799@rsu23.org
SUMMARY:Kieve Trip
DESCRIPTION:
URL:https://rsu23.org/event/kieve-trip/
CATEGORIES:Loranger Memorial
END:VEVENT
BEGIN:VEVENT
DTSTART;TZID=America/New_York:20181019T143000
DTEND;TZID=America/New_York:20181019T150000
DTSTAMP:20260425T082744
CREATED:20181017T202844Z
LAST-MODIFIED:20181018T185200Z
UID:11628-1539959400-1539961200@rsu23.org
SUMMARY:Jameson Scholastic Book Fair
DESCRIPTION:
URL:https://rsu23.org/event/jameson-scholastic-book-fair-2/
CATEGORIES:Jameson Elementary
END:VEVENT
BEGIN:VEVENT
DTSTART;TZID=America/New_York:20181019T133000
DTEND;TZID=America/New_York:20181019T143000
DTSTAMP:20260425T082744
CREATED:20181011T191457Z
LAST-MODIFIED:20181017T165229Z
UID:11221-1539955800-1539959400@rsu23.org
SUMMARY:Becky-conference room
DESCRIPTION:
URL:https://rsu23.org/event/becky-conference-room-3/
CATEGORIES:Jameson Elementary
END:VEVENT
BEGIN:VEVENT
DTSTART;TZID=America/New_York:20181018T180000
DTEND;TZID=America/New_York:20181018T190000
DTSTAMP:20260425T082744
CREATED:20180910T130922Z
LAST-MODIFIED:20181018T185159Z
UID:8931-1539885600-1539889200@rsu23.org
SUMMARY:School Board meeting
DESCRIPTION:
URL:https://rsu23.org/event/school-board-meeting-3/
LOCATION:Old Orchard Beach Town Hall\, 1 Portland Ave\, Old Orchard Beach\, ME 04064\, USA\, 2 Portland Ave\, United States
CATEGORIES:Jameson Elementary
END:VEVENT
BEGIN:VEVENT
DTSTART;TZID=America/New_York:20181018T160000
DTEND;TZID=America/New_York:20181018T170000
DTSTAMP:20260425T082744
CREATED:20180910T180559Z
LAST-MODIFIED:20180911T175401Z
UID:9027-1539878400-1539882000@rsu23.org
SUMMARY:Field Hockey @Fryeburg  Bus 2:30 PM
DESCRIPTION:
URL:https://rsu23.org/event/field-hockey-fryeburg-bus-230-pm/
CATEGORIES:Loranger Memorial
END:VEVENT
BEGIN:VEVENT
DTSTART;TZID=America/New_York:20181018T144500
DTEND;TZID=America/New_York:20181018T174500
DTSTAMP:20260425T082744
CREATED:20180910T180558Z
LAST-MODIFIED:20180911T175401Z
UID:9026-1539873900-1539884700@rsu23.org
SUMMARY:Cross Country CCC Inv. @ Twinbrook Bus 12:45 PM
DESCRIPTION:
URL:https://rsu23.org/event/cross-country-ccc-inv-twinbrook-bus-1245-pm/
CATEGORIES:Loranger Memorial
END:VEVENT
BEGIN:VEVENT
DTSTART;TZID=America/New_York:20181018T143000
DTEND;TZID=America/New_York:20181018T150000
DTSTAMP:20260425T082744
CREATED:20181017T202844Z
LAST-MODIFIED:20181018T185159Z
UID:11627-1539873000-1539874800@rsu23.org
SUMMARY:Jameson Scholastic Book Fair
DESCRIPTION:
URL:https://rsu23.org/event/jameson-scholastic-book-fair/
CATEGORIES:Jameson Elementary
END:VEVENT
BEGIN:VEVENT
DTSTART;TZID=America/New_York:20181018T113000
DTEND;TZID=America/New_York:20181018T123000
DTSTAMP:20260425T082744
CREATED:20181011T191456Z
LAST-MODIFIED:20181017T165228Z
UID:11220-1539862200-1539865800@rsu23.org
SUMMARY:Becky-conference room
DESCRIPTION:
URL:https://rsu23.org/event/becky-conference-room-2/
CATEGORIES:Jameson Elementary
END:VEVENT
BEGIN:VEVENT
DTSTART;TZID=America/New_York:20181018T090000
DTEND;TZID=America/New_York:20181018T100000
DTSTAMP:20260425T082744
CREATED:20181011T191456Z
LAST-MODIFIED:20181017T165228Z
UID:11219-1539853200-1539856800@rsu23.org
SUMMARY:Becky-conference room
DESCRIPTION:
URL:https://rsu23.org/event/becky-conference-room/
CATEGORIES:Jameson Elementary
END:VEVENT
BEGIN:VEVENT
DTSTART;TZID=America/New_York:20181017T153000
DTEND;TZID=America/New_York:20181017T163000
DTSTAMP:20260425T082744
CREATED:20180910T180558Z
LAST-MODIFIED:20180911T175400Z
UID:9025-1539790200-1539793800@rsu23.org
SUMMARY:Girls Soccer HOME vs. Jordan Small
DESCRIPTION:
URL:https://rsu23.org/event/girls-soccer-home-vs-jordan-small/
CATEGORIES:Loranger Memorial
END:VEVENT
BEGIN:VEVENT
DTSTART;TZID=America/New_York:20181017T120000
DTEND;TZID=America/New_York:20181017T180000
DTSTAMP:20260425T082744
CREATED:20180910T130921Z
LAST-MODIFIED:20181017T214718Z
UID:8930-1539777600-1539799200@rsu23.org
SUMMARY:Parent-Teacher conferences
DESCRIPTION:
URL:https://rsu23.org/event/parent-teacher-conferences-3/
CATEGORIES:Jameson Elementary
END:VEVENT
BEGIN:VEVENT
DTSTART;VALUE=DATE:20181017
DTEND;VALUE=DATE:20181018
DTSTAMP:20260425T082744
CREATED:20180910T130921Z
LAST-MODIFIED:20181017T214718Z
UID:8929-1539734400-1539820799@rsu23.org
SUMMARY:Early Release Day\, students dismissed @ 11:30
DESCRIPTION:
URL:https://rsu23.org/event/early-release-day-students-dismissed-1130-2/
CATEGORIES:Jameson Elementary
END:VEVENT
BEGIN:VEVENT
DTSTART;TZID=America/New_York:20181016T153000
DTEND;TZID=America/New_York:20181016T163000
DTSTAMP:20260425T082744
CREATED:20180910T180557Z
LAST-MODIFIED:20180911T175400Z
UID:9024-1539703800-1539707400@rsu23.org
SUMMARY:Girls Soccer @Sacopee Bus 2:00 PM
DESCRIPTION:
URL:https://rsu23.org/event/girls-soccer-sacopee-bus-200-pm/
CATEGORIES:Loranger Memorial
END:VEVENT
BEGIN:VEVENT
DTSTART;TZID=America/New_York:20181015T160000
DTEND;TZID=America/New_York:20181015T170000
DTSTAMP:20260425T082744
CREATED:20180910T180556Z
LAST-MODIFIED:20180911T175400Z
UID:9023-1539619200-1539622800@rsu23.org
SUMMARY:Field Hockey @Freeport Bus 2:45 PM
DESCRIPTION:
URL:https://rsu23.org/event/field-hockey-freeport-bus-245-pm/
CATEGORIES:Loranger Memorial
END:VEVENT
BEGIN:VEVENT
DTSTART;TZID=America/New_York:20181012T183000
DTEND;TZID=America/New_York:20181012T203000
DTSTAMP:20260425T082744
CREATED:20180910T130808Z
LAST-MODIFIED:20181012T071010Z
UID:8921-1539369000-1539376200@rsu23.org
SUMMARY:LMS School Dance to benefit LMS Athletics
DESCRIPTION:Had to move the date to 10/12 due to a few reasons\, no school that day and long weekend.  The 12th is busy as well\, but lets make it  work.  We have a DJ who will charge us just $100.  Thanks. G
URL:https://rsu23.org/event/lms-school-dance-to-benefit-lms-athletics/
CATEGORIES:Loranger Memorial
END:VEVENT
BEGIN:VEVENT
DTSTART;TZID=America/New_York:20181012T153000
DTEND;TZID=America/New_York:20181012T163000
DTSTAMP:20260425T082744
CREATED:20180910T180556Z
LAST-MODIFIED:20180911T175400Z
UID:9022-1539358200-1539361800@rsu23.org
SUMMARY:Girls Soccer HOME vs. Wayneflete
DESCRIPTION:Jared Site Manager
URL:https://rsu23.org/event/girls-soccer-home-vs-wayneflete/
CATEGORIES:Loranger Memorial
END:VEVENT
BEGIN:VEVENT
DTSTART;TZID=America/New_York:20181012T153000
DTEND;TZID=America/New_York:20181012T163000
DTSTAMP:20260425T082744
CREATED:20180910T180555Z
LAST-MODIFIED:20180911T175400Z
UID:9021-1539358200-1539361800@rsu23.org
SUMMARY:Field Hockey HOME vs. Sacopee
DESCRIPTION:Jared Site Manager
URL:https://rsu23.org/event/field-hockey-home-vs-sacopee/
CATEGORIES:Loranger Memorial
END:VEVENT
BEGIN:VEVENT
DTSTART;TZID=America/New_York:20181011T160000
DTEND;TZID=America/New_York:20181011T180000
DTSTAMP:20260425T082744
CREATED:20180910T180555Z
LAST-MODIFIED:20180911T175400Z
UID:9020-1539273600-1539280800@rsu23.org
SUMMARY:Cross Country @ Poland Bus 2:30 PM
DESCRIPTION:
URL:https://rsu23.org/event/cross-country-poland-bus-230-pm/
CATEGORIES:Loranger Memorial
END:VEVENT
BEGIN:VEVENT
DTSTART;TZID=America/New_York:20181011T160000
DTEND;TZID=America/New_York:20181011T180000
DTSTAMP:20260425T082744
CREATED:20180910T180554Z
LAST-MODIFIED:20180911T175359Z
UID:9019-1539273600-1539280800@rsu23.org
SUMMARY:LMS Football @Sacopee Bus 2:00
DESCRIPTION:Traip is no longer in our league.  This game will be rescheduled with another opponent(s).
URL:https://rsu23.org/event/lms-football-sacopee-bus-200/
CATEGORIES:Loranger Memorial
END:VEVENT
BEGIN:VEVENT
DTSTART;TZID=America/New_York:20181011T084000
DTEND;TZID=America/New_York:20181011T101500
DTSTAMP:20260425T082744
CREATED:20181001T150053Z
LAST-MODIFIED:20181011T234736Z
UID:10540-1539247200-1539252900@rsu23.org
SUMMARY:6th Trip to Marsh
DESCRIPTION:
URL:https://rsu23.org/event/6th-trip-to-marsh-3/
CATEGORIES:Loranger Memorial
END:VEVENT
BEGIN:VEVENT
DTSTART;TZID=America/New_York:20181011T075000
DTEND;TZID=America/New_York:20181011T082000
DTSTAMP:20260425T082744
CREATED:20180910T180157Z
LAST-MODIFIED:20181011T234736Z
UID:8988-1539244200-1539246000@rsu23.org
SUMMARY:LMS 6-8 Chorus!
DESCRIPTION:
URL:https://rsu23.org/event/lms-6-8-chorus-9/
CATEGORIES:Loranger Memorial
END:VEVENT
BEGIN:VEVENT
DTSTART;TZID=America/New_York:20181011T073000
DTEND;TZID=America/New_York:20181011T083000
DTSTAMP:20260425T082744
CREATED:20181005T164505Z
LAST-MODIFIED:20181011T234735Z
UID:10812-1539243000-1539246600@rsu23.org
SUMMARY:Band/Chorus Fundraiser Pies and Cookies Begins
DESCRIPTION:
URL:https://rsu23.org/event/band-chorus-fundraiser-pies-and-cookies-begins/
CATEGORIES:Loranger Memorial
END:VEVENT
BEGIN:VEVENT
DTSTART;TZID=America/New_York:20181010T153000
DTEND;TZID=America/New_York:20181010T163000
DTSTAMP:20260425T082744
CREATED:20180910T180554Z
LAST-MODIFIED:20180911T175359Z
UID:9017-1539185400-1539189000@rsu23.org
SUMMARY:Field Hockey HOME vs. Cape
DESCRIPTION:
URL:https://rsu23.org/event/field-hockey-home-vs-cape/
CATEGORIES:Loranger Memorial
END:VEVENT
END:VCALENDAR