BEGIN:VCALENDAR
VERSION:2.0
PRODID:-//RSU 23 Old Orchard Beach Schools - ECPv6.15.18//NONSGML v1.0//EN
CALSCALE:GREGORIAN
METHOD:PUBLISH
X-WR-CALNAME:RSU 23 Old Orchard Beach Schools
X-ORIGINAL-URL:https://rsu23.org
X-WR-CALDESC:Events for RSU 23 Old Orchard Beach Schools
REFRESH-INTERVAL;VALUE=DURATION:PT1H
X-Robots-Tag:noindex
X-PUBLISHED-TTL:PT1H
BEGIN:VTIMEZONE
TZID:America/New_York
BEGIN:DAYLIGHT
TZOFFSETFROM:-0500
TZOFFSETTO:-0400
TZNAME:EDT
DTSTART:20170312T070000
END:DAYLIGHT
BEGIN:STANDARD
TZOFFSETFROM:-0400
TZOFFSETTO:-0500
TZNAME:EST
DTSTART:20171105T060000
END:STANDARD
BEGIN:DAYLIGHT
TZOFFSETFROM:-0500
TZOFFSETTO:-0400
TZNAME:EDT
DTSTART:20180311T070000
END:DAYLIGHT
BEGIN:STANDARD
TZOFFSETFROM:-0400
TZOFFSETTO:-0500
TZNAME:EST
DTSTART:20181104T060000
END:STANDARD
BEGIN:DAYLIGHT
TZOFFSETFROM:-0500
TZOFFSETTO:-0400
TZNAME:EDT
DTSTART:20190310T070000
END:DAYLIGHT
BEGIN:STANDARD
TZOFFSETFROM:-0400
TZOFFSETTO:-0500
TZNAME:EST
DTSTART:20191103T060000
END:STANDARD
END:VTIMEZONE
BEGIN:VEVENT
DTSTART;TZID=America/New_York:20180928T144500
DTEND;TZID=America/New_York:20180928T164500
DTSTAMP:20260425T093744
CREATED:20180910T180550Z
LAST-MODIFIED:20180911T175358Z
UID:9008-1538145900-1538153100@rsu23.org
SUMMARY:Cross Country @ Scarborough Inv.  Smiling Hill Bus 1:30 PM
DESCRIPTION:
URL:https://rsu23.org/event/cross-country-scarborough-inv-smiling-hill-bus-130-pm/
CATEGORIES:Loranger Memorial
END:VEVENT
BEGIN:VEVENT
DTSTART;TZID=America/New_York:20180927T160000
DTEND;TZID=America/New_York:20180927T180000
DTSTAMP:20260425T093744
CREATED:20180910T180549Z
LAST-MODIFIED:20180911T175358Z
UID:9007-1538064000-1538071200@rsu23.org
SUMMARY:LMS Football HOME vs. GNG
DESCRIPTION:Jared Site Manager
URL:https://rsu23.org/event/lms-football-home-vs-gng/
CATEGORIES:Loranger Memorial
END:VEVENT
BEGIN:VEVENT
DTSTART;TZID=America/New_York:20180927T160000
DTEND;TZID=America/New_York:20180927T170000
DTSTAMP:20260425T093744
CREATED:20180910T180549Z
LAST-MODIFIED:20180911T175358Z
UID:9006-1538064000-1538067600@rsu23.org
SUMMARY:Field Hockey HOME vs. Bath
DESCRIPTION:Jared Site Manager
URL:https://rsu23.org/event/field-hockey-home-vs-bath/
CATEGORIES:Loranger Memorial
END:VEVENT
BEGIN:VEVENT
DTSTART;TZID=America/New_York:20180927T153000
DTEND;TZID=America/New_York:20180927T163000
DTSTAMP:20260425T093744
CREATED:20180910T180549Z
LAST-MODIFIED:20180911T175357Z
UID:9005-1538062200-1538065800@rsu23.org
SUMMARY:Girls Soccer @Fryeburg Bus 2:00 PM
DESCRIPTION:
URL:https://rsu23.org/event/girls-soccer-fryeburg-bus-200-pm/
CATEGORIES:Loranger Memorial
END:VEVENT
BEGIN:VEVENT
DTSTART;TZID=America/New_York:20180927T113000
DTEND;TZID=America/New_York:20180927T133000
DTSTAMP:20260425T093744
CREATED:20180910T130205Z
LAST-MODIFIED:20180927T232358Z
UID:8910-1538047800-1538055000@rsu23.org
SUMMARY:3rd Grade Trip
DESCRIPTION:
URL:https://rsu23.org/event/3rd-grade-trip/
LOCATION:Scarborough Marsh
CATEGORIES:Loranger Memorial
END:VEVENT
BEGIN:VEVENT
DTSTART;TZID=America/New_York:20180927T075000
DTEND;TZID=America/New_York:20180927T082000
DTSTAMP:20260425T093744
CREATED:20180910T142529Z
LAST-MODIFIED:20180927T232358Z
UID:8961-1538034600-1538036400@rsu23.org
SUMMARY:LMS 6-8 Chorus!!
DESCRIPTION:
URL:https://rsu23.org/event/lms-6-8-chorus-3/
CATEGORIES:Loranger Memorial
END:VEVENT
BEGIN:VEVENT
DTSTART;TZID=America/New_York:20180926T075000
DTEND;TZID=America/New_York:20180926T082000
DTSTAMP:20260425T093744
CREATED:20180910T142529Z
LAST-MODIFIED:20180912T183212Z
UID:8960-1537948200-1537950000@rsu23.org
SUMMARY:LMS 6-8 Chorus!
DESCRIPTION:
URL:https://rsu23.org/event/lms-6-8-chorus-2/
CATEGORIES:Loranger Memorial
END:VEVENT
BEGIN:VEVENT
DTSTART;TZID=America/New_York:20180925T153000
DTEND;TZID=America/New_York:20180925T163000
DTSTAMP:20260425T093744
CREATED:20180910T180548Z
LAST-MODIFIED:20180911T175357Z
UID:9004-1537889400-1537893000@rsu23.org
SUMMARY:Girls Soccer @Jordan Small Bus 2:30 PM
DESCRIPTION:
URL:https://rsu23.org/event/girls-soccer-jordan-small-bus-230-pm/
CATEGORIES:Loranger Memorial
END:VEVENT
BEGIN:VEVENT
DTSTART;TZID=America/New_York:20180925T075000
DTEND;TZID=America/New_York:20180925T082000
DTSTAMP:20260425T093744
CREATED:20180910T142528Z
LAST-MODIFIED:20180912T183212Z
UID:8959-1537861800-1537863600@rsu23.org
SUMMARY:LMS 6-8 Chorus!
DESCRIPTION:
URL:https://rsu23.org/event/lms-6-8-chorus/
CATEGORIES:Loranger Memorial
END:VEVENT
BEGIN:VEVENT
DTSTART;TZID=America/New_York:20180924T160000
DTEND;TZID=America/New_York:20180924T180000
DTSTAMP:20260425T093744
CREATED:20180910T180548Z
LAST-MODIFIED:20180911T175357Z
UID:9003-1537804800-1537812000@rsu23.org
SUMMARY:Cross Country @ Greely Twinbrook Relays Bus 2:00 PM
DESCRIPTION:
URL:https://rsu23.org/event/cross-country-greely-twinbrook-relays-bus-200-pm/
CATEGORIES:Loranger Memorial
END:VEVENT
BEGIN:VEVENT
DTSTART;TZID=America/New_York:20180922T100000
DTEND;TZID=America/New_York:20180922T120000
DTSTAMP:20260425T093744
CREATED:20180910T180547Z
LAST-MODIFIED:20180911T175357Z
UID:9002-1537610400-1537617600@rsu23.org
SUMMARY:LMS Football @Freeport Bus 8:30
DESCRIPTION:
URL:https://rsu23.org/event/lms-football-freeport-bus-830/
CATEGORIES:Loranger Memorial
END:VEVENT
BEGIN:VEVENT
DTSTART;TZID=America/New_York:20180921T153000
DTEND;TZID=America/New_York:20180921T163000
DTSTAMP:20260425T093744
CREATED:20180910T180547Z
LAST-MODIFIED:20180911T175357Z
UID:9001-1537543800-1537547400@rsu23.org
SUMMARY:Girls Soccer HOME vs. Sacopee
DESCRIPTION:
URL:https://rsu23.org/event/girls-soccer-home-vs-sacopee/
CATEGORIES:Loranger Memorial
END:VEVENT
BEGIN:VEVENT
DTSTART;TZID=America/New_York:20180921T120000
DTEND;TZID=America/New_York:20180921T140000
DTSTAMP:20260425T093744
CREATED:20180910T130204Z
LAST-MODIFIED:20180921T231522Z
UID:8908-1537531200-1537538400@rsu23.org
SUMMARY:6th & 3rd Grade Trip
DESCRIPTION:
URL:https://rsu23.org/event/6th-3rd-grade-trip/
LOCATION:OOB Clean Up
CATEGORIES:Loranger Memorial
END:VEVENT
BEGIN:VEVENT
DTSTART;TZID=America/New_York:20180920T180000
DTEND;TZID=America/New_York:20180920T190000
DTSTAMP:20260425T093744
CREATED:20180822T205256Z
LAST-MODIFIED:20180920T234828Z
UID:8101-1537466400-1537470000@rsu23.org
SUMMARY:School Board meeting
DESCRIPTION:
URL:https://rsu23.org/event/school-board-meeting-2/
LOCATION:Old Orchard Beach Town Hall\, 1 Portland Ave\, Old Orchard Beach\, ME 04064\, USA\, 2 Portland Ave\, United States
CATEGORIES:Jameson Elementary
END:VEVENT
BEGIN:VEVENT
DTSTART;TZID=America/New_York:20180920T160000
DTEND;TZID=America/New_York:20180920T173000
DTSTAMP:20260425T093744
CREATED:20180910T180546Z
LAST-MODIFIED:20180911T175357Z
UID:9000-1537459200-1537464600@rsu23.org
SUMMARY:Field Hockey HOME vs. Poland
DESCRIPTION:
URL:https://rsu23.org/event/field-hockey-home-vs-poland/
CATEGORIES:Loranger Memorial
END:VEVENT
BEGIN:VEVENT
DTSTART;TZID=America/New_York:20180920T140000
DTEND;TZID=America/New_York:20180920T180000
DTSTAMP:20260425T093744
CREATED:20180910T180546Z
LAST-MODIFIED:20180911T175356Z
UID:8999-1537452000-1537466400@rsu23.org
SUMMARY:LMS HOSTS XCountry Meet
DESCRIPTION:Prep at 2:00.  Meet at 4:00.
URL:https://rsu23.org/event/lms-hosts-xcountry-meet/
CATEGORIES:Loranger Memorial
END:VEVENT
BEGIN:VEVENT
DTSTART;TZID=America/New_York:20180920T083000
DTEND;TZID=America/New_York:20180920T111500
DTSTAMP:20260425T093744
CREATED:20180910T130202Z
LAST-MODIFIED:20180920T231619Z
UID:8906-1537432200-1537442100@rsu23.org
SUMMARY:6th Grade Trip
DESCRIPTION:
URL:https://rsu23.org/event/6th-grade-trip/
LOCATION:Saco Health
CATEGORIES:Loranger Memorial
END:VEVENT
BEGIN:VEVENT
DTSTART;TZID=America/New_York:20180920T075000
DTEND;TZID=America/New_York:20180920T082000
DTSTAMP:20260425T093744
CREATED:20180910T142527Z
LAST-MODIFIED:20180920T231618Z
UID:8958-1537429800-1537431600@rsu23.org
SUMMARY:NO LMS 6-8 Chorus Today!
DESCRIPTION:
URL:https://rsu23.org/event/no-lms-6-8-chorus-today/
CATEGORIES:Loranger Memorial
END:VEVENT
BEGIN:VEVENT
DTSTART;TZID=America/New_York:20180919T133000
DTEND;TZID=America/New_York:20180919T143000
DTSTAMP:20260425T093744
CREATED:20180912T170359Z
LAST-MODIFIED:20180919T231553Z
UID:9211-1537363800-1537367400@rsu23.org
SUMMARY:Music and Arts Demo
DESCRIPTION:
URL:https://rsu23.org/event/music-and-arts-demo/
CATEGORIES:Loranger Memorial
END:VEVENT
BEGIN:VEVENT
DTSTART;TZID=America/New_York:20180919T123000
DTEND;TZID=America/New_York:20180919T133000
DTSTAMP:20260425T093744
CREATED:20180919T123229Z
LAST-MODIFIED:20180919T231553Z
UID:9676-1537360200-1537363800@rsu23.org
SUMMARY:Beach Profiling GATES
DESCRIPTION:
URL:https://rsu23.org/event/beach-profiling-gates/
CATEGORIES:Loranger Memorial
END:VEVENT
BEGIN:VEVENT
DTSTART;TZID=America/New_York:20180919T075000
DTEND;TZID=America/New_York:20180919T082000
DTSTAMP:20260425T093744
CREATED:20180913T144537Z
LAST-MODIFIED:20180919T231553Z
UID:9271-1537343400-1537345200@rsu23.org
SUMMARY:LMS 6-8 Chorus
DESCRIPTION:
URL:https://rsu23.org/event/lms-6-8-chorus-10/
CATEGORIES:Loranger Memorial
END:VEVENT
BEGIN:VEVENT
DTSTART;TZID=America/New_York:20180919T075000
DTEND;TZID=America/New_York:20180919T082000
DTSTAMP:20260425T093744
CREATED:20180910T142527Z
LAST-MODIFIED:20180912T183210Z
UID:8957-1537343400-1537345200@rsu23.org
SUMMARY:LMS Chorus Start!
DESCRIPTION:
URL:https://rsu23.org/event/lms-chorus-start-2/
CATEGORIES:Loranger Memorial
END:VEVENT
BEGIN:VEVENT
DTSTART;VALUE=DATE:20180919
DTEND;VALUE=DATE:20180920
DTSTAMP:20260425T093744
CREATED:20180828T162144Z
LAST-MODIFIED:20180919T234940Z
UID:8348-1537315200-1537401599@rsu23.org
SUMMARY:Jameson School Picture Day
DESCRIPTION:
URL:https://rsu23.org/event/jameson-school-picture-day/
CATEGORIES:Jameson Elementary
END:VEVENT
BEGIN:VEVENT
DTSTART;TZID=America/New_York:20180918T075000
DTEND;TZID=America/New_York:20180918T082000
DTSTAMP:20260425T093744
CREATED:20180910T130200Z
LAST-MODIFIED:20180918T230151Z
UID:8904-1537257000-1537258800@rsu23.org
SUMMARY:LMS Chorus Start!
DESCRIPTION:
URL:https://rsu23.org/event/lms-chorus-start/
CATEGORIES:Loranger Memorial
END:VEVENT
BEGIN:VEVENT
DTSTART;TZID=America/New_York:20180917T160000
DTEND;TZID=America/New_York:20180917T173000
DTSTAMP:20260425T093744
CREATED:20180910T180545Z
LAST-MODIFIED:20180911T175356Z
UID:8998-1537200000-1537205400@rsu23.org
SUMMARY:Field Hockey @Lake Region Bus 2:30 PM
DESCRIPTION:
URL:https://rsu23.org/event/field-hockey-lake-region-bus-230-pm/
CATEGORIES:Loranger Memorial
END:VEVENT
BEGIN:VEVENT
DTSTART;TZID=America/New_York:20180917T153000
DTEND;TZID=America/New_York:20180917T163000
DTSTAMP:20260425T093744
CREATED:20180910T180545Z
LAST-MODIFIED:20180911T175356Z
UID:8997-1537198200-1537201800@rsu23.org
SUMMARY:Girls Soccer HOME vs. NYA
DESCRIPTION:
URL:https://rsu23.org/event/girls-soccer-home-vs-nya/
CATEGORIES:Loranger Memorial
END:VEVENT
BEGIN:VEVENT
DTSTART;TZID=America/New_York:20180917T121500
DTEND;TZID=America/New_York:20180917T140000
DTSTAMP:20260425T093744
CREATED:20180910T130200Z
LAST-MODIFIED:20180917T231825Z
UID:8903-1537186500-1537192800@rsu23.org
SUMMARY:7th Trip
DESCRIPTION:
URL:https://rsu23.org/event/7th-trip/
LOCATION:Ocean Park Marshes
CATEGORIES:Loranger Memorial
END:VEVENT
BEGIN:VEVENT
DTSTART;TZID=America/New_York:20180913T160000
DTEND;TZID=America/New_York:20180913T180000
DTSTAMP:20260425T093744
CREATED:20180910T180544Z
LAST-MODIFIED:20180911T175356Z
UID:8995-1536854400-1536861600@rsu23.org
SUMMARY:Cross Country @ Maine Coast (Free) Bus at 2:30
DESCRIPTION:
URL:https://rsu23.org/event/cross-country-maine-coast-free-bus-at-230/
CATEGORIES:Loranger Memorial
END:VEVENT
BEGIN:VEVENT
DTSTART;TZID=America/New_York:20180913T160000
DTEND;TZID=America/New_York:20180913T180000
DTSTAMP:20260425T093744
CREATED:20180910T180544Z
LAST-MODIFIED:20180911T175356Z
UID:8996-1536854400-1536861600@rsu23.org
SUMMARY:Field Hockey HOME vs. Greely
DESCRIPTION:
URL:https://rsu23.org/event/field-hockey-home-vs-greely/
CATEGORIES:Loranger Memorial
END:VEVENT
BEGIN:VEVENT
DTSTART;TZID=America/New_York:20180913T160000
DTEND;TZID=America/New_York:20180913T180000
DTSTAMP:20260425T093744
CREATED:20180910T180543Z
LAST-MODIFIED:20180911T175356Z
UID:8994-1536854400-1536861600@rsu23.org
SUMMARY:LMS Football HOME vs. Sacopee
DESCRIPTION:
URL:https://rsu23.org/event/lms-football-home-vs-sacopee/
CATEGORIES:Loranger Memorial
END:VEVENT
END:VCALENDAR