BEGIN:VCALENDAR
VERSION:2.0
PRODID:-//RSU 23 Old Orchard Beach Schools - ECPv6.15.18//NONSGML v1.0//EN
CALSCALE:GREGORIAN
METHOD:PUBLISH
X-WR-CALNAME:RSU 23 Old Orchard Beach Schools
X-ORIGINAL-URL:https://rsu23.org
X-WR-CALDESC:Events for RSU 23 Old Orchard Beach Schools
REFRESH-INTERVAL;VALUE=DURATION:PT1H
X-Robots-Tag:noindex
X-PUBLISHED-TTL:PT1H
BEGIN:VTIMEZONE
TZID:America/New_York
BEGIN:DAYLIGHT
TZOFFSETFROM:-0500
TZOFFSETTO:-0400
TZNAME:EDT
DTSTART:20180311T070000
END:DAYLIGHT
BEGIN:STANDARD
TZOFFSETFROM:-0400
TZOFFSETTO:-0500
TZNAME:EST
DTSTART:20181104T060000
END:STANDARD
BEGIN:DAYLIGHT
TZOFFSETFROM:-0500
TZOFFSETTO:-0400
TZNAME:EDT
DTSTART:20190310T070000
END:DAYLIGHT
BEGIN:STANDARD
TZOFFSETFROM:-0400
TZOFFSETTO:-0500
TZNAME:EST
DTSTART:20191103T060000
END:STANDARD
BEGIN:DAYLIGHT
TZOFFSETFROM:-0500
TZOFFSETTO:-0400
TZNAME:EDT
DTSTART:20200308T070000
END:DAYLIGHT
BEGIN:STANDARD
TZOFFSETFROM:-0400
TZOFFSETTO:-0500
TZNAME:EST
DTSTART:20201101T060000
END:STANDARD
END:VTIMEZONE
BEGIN:VEVENT
DTSTART;VALUE=DATE:20190409
DTEND;VALUE=DATE:20190410
DTSTAMP:20260424T091951
CREATED:20190408T105654Z
LAST-MODIFIED:20190409T112513Z
UID:16566-1554768000-1554854399@rsu23.org
SUMMARY:SAT Test - Juniors
DESCRIPTION:
URL:https://rsu23.org/event/sat-test-juniors/
LOCATION:Old Orchard Beach High School\, 40 Emerson Cummings Blvd\, Old Orchard Beach\, ME 04064\, USA\, 2 Emerson Dr\, United States
CATEGORIES:OOBHS
END:VEVENT
BEGIN:VEVENT
DTSTART;TZID=America/New_York:20190408T142000
DTEND;TZID=America/New_York:20190408T152000
DTSTAMP:20260424T091951
CREATED:20190211T133715Z
LAST-MODIFIED:20190408T110122Z
UID:15227-1554733200-1554736800@rsu23.org
SUMMARY:Loranger Glee Club Rehearsal
DESCRIPTION:
URL:https://rsu23.org/event/loranger-glee-club-rehearsal-3/
CATEGORIES:Loranger Memorial
END:VEVENT
BEGIN:VEVENT
DTSTART;TZID=America/New_York:20190408T133000
DTEND;TZID=America/New_York:20190408T183000
DTSTAMP:20260424T091951
CREATED:20190408T110122Z
LAST-MODIFIED:20190408T110122Z
UID:16604-1554730200-1554748200@rsu23.org
SUMMARY:Band/Chorus Pizza Kit Pickup LMS Band Room
DESCRIPTION:
URL:https://rsu23.org/event/band-chorus-pizza-kit-pickup-lms-band-room/
CATEGORIES:Loranger Memorial
END:VEVENT
BEGIN:VEVENT
DTSTART;TZID=America/New_York:20190408T073000
DTEND;TZID=America/New_York:20190408T083000
DTSTAMP:20260424T091951
CREATED:20190408T110122Z
LAST-MODIFIED:20190408T110122Z
UID:16603-1554708600-1554712200@rsu23.org
SUMMARY:Loranger Chorus Dress Rehearsal
DESCRIPTION:
URL:https://rsu23.org/event/loranger-chorus-dress-rehearsal/
CATEGORIES:Loranger Memorial
END:VEVENT
BEGIN:VEVENT
DTSTART;TZID=America/New_York:20190405T183000
DTEND;TZID=America/New_York:20190405T203000
DTSTAMP:20260424T091951
CREATED:20190119T144151Z
LAST-MODIFIED:20190227T173241Z
UID:14090-1554489000-1554496200@rsu23.org
SUMMARY:LMS Dance
DESCRIPTION:
URL:https://rsu23.org/event/lms-dance-3/
CATEGORIES:Loranger Memorial
END:VEVENT
BEGIN:VEVENT
DTSTART;VALUE=DATE:20190403
DTEND;VALUE=DATE:20190404
DTSTAMP:20260424T091951
CREATED:20190128T093755Z
LAST-MODIFIED:20190301T200009Z
UID:14288-1554249600-1554335999@rsu23.org
SUMMARY:Early Release Day\, students dismissed @ 11:30
DESCRIPTION:
URL:https://rsu23.org/event/early-release-day-students-dismissed-1130-8/
CATEGORIES:Jameson Elementary
END:VEVENT
BEGIN:VEVENT
DTSTART;TZID=America/New_York:20190401T183000
DTEND;TZID=America/New_York:20190401T203000
DTSTAMP:20260424T091951
CREATED:20190118T231613Z
LAST-MODIFIED:20190119T133806Z
UID:14068-1554143400-1554150600@rsu23.org
SUMMARY:LMS Dance
DESCRIPTION:
URL:https://rsu23.org/event/lms-dance/
CATEGORIES:Loranger Memorial
END:VEVENT
BEGIN:VEVENT
DTSTART;TZID=America/New_York:20190401T142000
DTEND;TZID=America/New_York:20190401T152000
DTSTAMP:20260424T091951
CREATED:20190211T133715Z
LAST-MODIFIED:20190227T173241Z
UID:15226-1554128400-1554132000@rsu23.org
SUMMARY:Loranger Glee Club Rehearsal
DESCRIPTION:
URL:https://rsu23.org/event/loranger-glee-club-rehearsal-2/
CATEGORIES:Loranger Memorial
END:VEVENT
BEGIN:VEVENT
DTSTART;TZID=America/New_York:20190401T084500
DTEND;TZID=America/New_York:20190401T134000
DTSTAMP:20260424T091951
CREATED:20190201T212933Z
LAST-MODIFIED:20190227T173240Z
UID:14613-1554108300-1554126000@rsu23.org
SUMMARY:6th UNE Field Trip
DESCRIPTION:
URL:https://rsu23.org/event/6th-une-field-trip/
CATEGORIES:Loranger Memorial
END:VEVENT
BEGIN:VEVENT
DTSTART;TZID=America/New_York:20190328T180000
DTEND;TZID=America/New_York:20190328T190000
DTSTAMP:20260424T091951
CREATED:20190128T093755Z
LAST-MODIFIED:20190314T135148Z
UID:14286-1553796000-1553799600@rsu23.org
SUMMARY:School Board meeting
DESCRIPTION:
URL:https://rsu23.org/event/school-board-meeting-7/
LOCATION:Old Orchard Beach Town Hall\, 1 Portland Ave\, Old Orchard Beach\, ME 04064\, USA\, 2 Portland Ave\, United States
CATEGORIES:Jameson Elementary
END:VEVENT
BEGIN:VEVENT
DTSTART;TZID=America/New_York:20190325T142000
DTEND;TZID=America/New_York:20190325T152000
DTSTAMP:20260424T091951
CREATED:20190211T133714Z
LAST-MODIFIED:20190301T181630Z
UID:15225-1553523600-1553527200@rsu23.org
SUMMARY:Loranger Glee Club Rehearsal
DESCRIPTION:
URL:https://rsu23.org/event/loranger-glee-club-rehearsal/
CATEGORIES:Loranger Memorial
END:VEVENT
BEGIN:VEVENT
DTSTART;TZID=America/New_York:20190323T080000
DTEND;TZID=America/New_York:20190323T160000
DTSTAMP:20260424T091951
CREATED:20190118T231613Z
LAST-MODIFIED:20190301T181630Z
UID:14067-1553328000-1553356800@rsu23.org
SUMMARY:LMS Band Trip Westbrook MS
DESCRIPTION:
URL:https://rsu23.org/event/lms-band-trip-westbrook-ms-3/
CATEGORIES:Loranger Memorial
END:VEVENT
BEGIN:VEVENT
DTSTART;TZID=America/New_York:20190321T143000
DTEND;TZID=America/New_York:20190321T180000
DTSTAMP:20260424T091951
CREATED:20190128T093755Z
LAST-MODIFIED:20190301T200009Z
UID:14287-1553178600-1553191200@rsu23.org
SUMMARY:Parent-Teacher conferences
DESCRIPTION:
URL:https://rsu23.org/event/parent-teacher-conferences-7/
CATEGORIES:Jameson Elementary
END:VEVENT
BEGIN:VEVENT
DTSTART;TZID=America/New_York:20190314T143000
DTEND;TZID=America/New_York:20190314T180000
DTSTAMP:20260424T091951
CREATED:20190128T093755Z
LAST-MODIFIED:20190301T200009Z
UID:14285-1552573800-1552586400@rsu23.org
SUMMARY:Parent-Teacher conferences
DESCRIPTION:
URL:https://rsu23.org/event/parent-teacher-conferences-6/
CATEGORIES:Jameson Elementary
END:VEVENT
BEGIN:VEVENT
DTSTART;TZID=America/New_York:20190313T084000
DTEND;TZID=America/New_York:20190313T101500
DTSTAMP:20260424T091951
CREATED:20190225T164829Z
LAST-MODIFIED:20190301T181630Z
UID:16047-1552466400-1552472100@rsu23.org
SUMMARY:6th Grade field trip (beach )
DESCRIPTION:
URL:https://rsu23.org/event/6th-grade-field-trip-beach/
CATEGORIES:Loranger Memorial
END:VEVENT
BEGIN:VEVENT
DTSTART;TZID=America/New_York:20190311T142000
DTEND;TZID=America/New_York:20190311T152000
DTSTAMP:20260424T091951
CREATED:20190211T133714Z
LAST-MODIFIED:20190301T181630Z
UID:15224-1552314000-1552317600@rsu23.org
SUMMARY:Grades 3-5 Glee Club rehearsal
DESCRIPTION:
URL:https://rsu23.org/event/grades-3-5-glee-club-rehearsal-3/
CATEGORIES:Loranger Memorial
END:VEVENT
BEGIN:VEVENT
DTSTART;VALUE=DATE:20190310
DTEND;VALUE=DATE:20190311
DTSTAMP:20260424T091951
CREATED:20181224T180527Z
LAST-MODIFIED:20190301T181630Z
UID:13480-1552176000-1552262399@rsu23.org
SUMMARY:FOKO ORGAN LMS STAGE/GYM
DESCRIPTION:
URL:https://rsu23.org/event/foko-organ-lms-stage-gym-6/
CATEGORIES:Loranger Memorial
END:VEVENT
BEGIN:VEVENT
DTSTART;VALUE=DATE:20190310
DTEND;VALUE=DATE:20190311
DTSTAMP:20260424T091951
CREATED:20181224T164827Z
LAST-MODIFIED:20181224T164827Z
UID:13475-1552176000-1552262399@rsu23.org
SUMMARY:FOKO ORGAN LMS STAGE/GYM
DESCRIPTION:
URL:https://rsu23.org/event/foko-organ-lms-stage-gym-3/
CATEGORIES:Loranger Memorial
END:VEVENT
BEGIN:VEVENT
DTSTART;TZID=America/New_York:20190307T173000
DTEND;TZID=America/New_York:20190307T213000
DTSTAMP:20260424T091951
CREATED:20190118T231613Z
LAST-MODIFIED:20190301T181630Z
UID:14066-1551979800-1551994200@rsu23.org
SUMMARY:LMS Band Trip
DESCRIPTION:
URL:https://rsu23.org/event/lms-band-trip/
CATEGORIES:Loranger Memorial
END:VEVENT
BEGIN:VEVENT
DTSTART;TZID=America/New_York:20190307T120000
DTEND;TZID=America/New_York:20190307T143000
DTSTAMP:20260424T091951
CREATED:20181207T005519Z
LAST-MODIFIED:20190209T171303Z
UID:13033-1551960000-1551969000@rsu23.org
SUMMARY:organ program presentations
DESCRIPTION:
URL:https://rsu23.org/event/organ-program-presentations-4/
CATEGORIES:Loranger Memorial
END:VEVENT
BEGIN:VEVENT
DTSTART;VALUE=DATE:20190306
DTEND;VALUE=DATE:20190307
DTSTAMP:20260424T091951
CREATED:20190128T093755Z
LAST-MODIFIED:20190301T200009Z
UID:14284-1551830400-1551916799@rsu23.org
SUMMARY:Early Release Day\, students dismissed @ 11:30
DESCRIPTION:
URL:https://rsu23.org/event/early-release-day-students-dismissed-1130-7/
CATEGORIES:Jameson Elementary
END:VEVENT
BEGIN:VEVENT
DTSTART;TZID=America/New_York:20190305T120000
DTEND;TZID=America/New_York:20190305T140000
DTSTAMP:20260424T091951
CREATED:20181205T001700Z
LAST-MODIFIED:20190209T171302Z
UID:12976-1551787200-1551794400@rsu23.org
SUMMARY:organ program presentations
DESCRIPTION:
URL:https://rsu23.org/event/organ-program-presentations-3/
CATEGORIES:Loranger Memorial
END:VEVENT
BEGIN:VEVENT
DTSTART;TZID=America/New_York:20190304T142000
DTEND;TZID=America/New_York:20190304T152000
DTSTAMP:20260424T091951
CREATED:20190211T133714Z
LAST-MODIFIED:20190301T181630Z
UID:15223-1551709200-1551712800@rsu23.org
SUMMARY:Grades 3-5 Glee Club rehearsal
DESCRIPTION:
URL:https://rsu23.org/event/grades-3-5-glee-club-rehearsal-2/
CATEGORIES:Loranger Memorial
END:VEVENT
BEGIN:VEVENT
DTSTART;TZID=America/New_York:20190304T142000
DTEND;TZID=America/New_York:20190304T152000
DTSTAMP:20260424T091951
CREATED:20190211T133713Z
LAST-MODIFIED:20190301T181630Z
UID:15222-1551709200-1551712800@rsu23.org
SUMMARY:Grades 3-5 Glee Club rehearsal
DESCRIPTION:
URL:https://rsu23.org/event/grades-3-5-glee-club-rehearsal/
CATEGORIES:Loranger Memorial
END:VEVENT
BEGIN:VEVENT
DTSTART;TZID=America/New_York:20190301T183000
DTEND;TZID=America/New_York:20190301T203000
DTSTAMP:20260424T091951
CREATED:20190119T144150Z
LAST-MODIFIED:20190301T181630Z
UID:14089-1551465000-1551472200@rsu23.org
SUMMARY:LMS Dance
DESCRIPTION:
URL:https://rsu23.org/event/lms-dance-2/
CATEGORIES:Loranger Memorial
END:VEVENT
BEGIN:VEVENT
DTSTART;TZID=America/New_York:20190301T084500
DTEND;TZID=America/New_York:20190301T134000
DTSTAMP:20260424T091951
CREATED:20190225T164828Z
LAST-MODIFIED:20190301T181630Z
UID:16046-1551429900-1551447600@rsu23.org
SUMMARY:6th Grade Field Trip (college exposure\, Sci labs)
DESCRIPTION:
URL:https://rsu23.org/event/6th-grade-field-trip-college-exposure-sci-labs/
CATEGORIES:Loranger Memorial
END:VEVENT
BEGIN:VEVENT
DTSTART;TZID=America/New_York:20190301T083000
DTEND;TZID=America/New_York:20190301T100000
DTSTAMP:20260424T091951
CREATED:20190227T181451Z
LAST-MODIFIED:20190301T200009Z
UID:16306-1551429000-1551434400@rsu23.org
SUMMARY:Read Across America Day - Guest Readers
DESCRIPTION:
URL:https://rsu23.org/event/read-across-america-day-guest-readers/
LOCATION:Jameson School
CATEGORIES:Jameson Elementary
END:VEVENT
BEGIN:VEVENT
DTSTART;TZID=America/New_York:20190301T073000
DTEND;TZID=America/New_York:20190301T083000
DTSTAMP:20260424T091951
CREATED:20190227T173238Z
LAST-MODIFIED:20190301T181629Z
UID:16301-1551425400-1551429000@rsu23.org
SUMMARY:Chorus for D1 Students
DESCRIPTION:
URL:https://rsu23.org/event/chorus-for-d1-students/
CATEGORIES:Loranger Memorial
END:VEVENT
BEGIN:VEVENT
DTSTART;TZID=America/New_York:20190228T180000
DTEND;TZID=America/New_York:20190228T190000
DTSTAMP:20260424T091951
CREATED:20190129T205408Z
LAST-MODIFIED:20190228T000345Z
UID:14421-1551376800-1551380400@rsu23.org
SUMMARY:School Board meeting
DESCRIPTION:
URL:https://rsu23.org/event/school-board-meeting-9/
LOCATION:Old Orchard Beach Town Hall\, 1 Portland Ave\, Old Orchard Beach\, ME 04064\, USA\, 2 Portland Ave\, United States
CATEGORIES:Jameson Elementary
END:VEVENT
BEGIN:VEVENT
DTSTART;TZID=America/New_York:20190228T120000
DTEND;TZID=America/New_York:20190228T140000
DTSTAMP:20260424T091951
CREATED:20181130T000127Z
LAST-MODIFIED:20190209T171302Z
UID:12840-1551355200-1551362400@rsu23.org
SUMMARY:organ program presentations
DESCRIPTION:
URL:https://rsu23.org/event/organ-program-presentations-2/
CATEGORIES:Loranger Memorial
END:VEVENT
END:VCALENDAR