BEGIN:VCALENDAR
VERSION:2.0
PRODID:-//RSU 23 Old Orchard Beach Schools - ECPv6.15.18//NONSGML v1.0//EN
CALSCALE:GREGORIAN
METHOD:PUBLISH
X-WR-CALNAME:RSU 23 Old Orchard Beach Schools
X-ORIGINAL-URL:https://rsu23.org
X-WR-CALDESC:Events for RSU 23 Old Orchard Beach Schools
REFRESH-INTERVAL;VALUE=DURATION:PT1H
X-Robots-Tag:noindex
X-PUBLISHED-TTL:PT1H
BEGIN:VTIMEZONE
TZID:America/New_York
BEGIN:DAYLIGHT
TZOFFSETFROM:-0500
TZOFFSETTO:-0400
TZNAME:EDT
DTSTART:20170312T070000
END:DAYLIGHT
BEGIN:STANDARD
TZOFFSETFROM:-0400
TZOFFSETTO:-0500
TZNAME:EST
DTSTART:20171105T060000
END:STANDARD
BEGIN:DAYLIGHT
TZOFFSETFROM:-0500
TZOFFSETTO:-0400
TZNAME:EDT
DTSTART:20180311T070000
END:DAYLIGHT
BEGIN:STANDARD
TZOFFSETFROM:-0400
TZOFFSETTO:-0500
TZNAME:EST
DTSTART:20181104T060000
END:STANDARD
BEGIN:DAYLIGHT
TZOFFSETFROM:-0500
TZOFFSETTO:-0400
TZNAME:EDT
DTSTART:20190310T070000
END:DAYLIGHT
BEGIN:STANDARD
TZOFFSETFROM:-0400
TZOFFSETTO:-0500
TZNAME:EST
DTSTART:20191103T060000
END:STANDARD
BEGIN:DAYLIGHT
TZOFFSETFROM:-0500
TZOFFSETTO:-0400
TZNAME:EDT
DTSTART:20200308T070000
END:DAYLIGHT
BEGIN:STANDARD
TZOFFSETFROM:-0400
TZOFFSETTO:-0500
TZNAME:EST
DTSTART:20201101T060000
END:STANDARD
END:VTIMEZONE
BEGIN:VEVENT
DTSTART;TZID=America/New_York:20190208T183000
DTEND;TZID=America/New_York:20190208T203000
DTSTAMP:20260424T034417
CREATED:20181214T183605Z
LAST-MODIFIED:20190209T225814Z
UID:13235-1549650600-1549657800@rsu23.org
SUMMARY:Loranger 6-8 School Dance!
DESCRIPTION:
URL:https://rsu23.org/event/loranger-6-8-school-dance-tentative/
CATEGORIES:Loranger Memorial
END:VEVENT
BEGIN:VEVENT
DTSTART;TZID=America/New_York:20190208T170000
DTEND;TZID=America/New_York:20190208T200000
DTSTAMP:20260424T034417
CREATED:20190128T093754Z
LAST-MODIFIED:20190209T231027Z
UID:14281-1549645200-1549656000@rsu23.org
SUMMARY:PTO Kid's Night Out (pending volunteer participation)
DESCRIPTION:
URL:https://rsu23.org/event/pto-kids-night-out-pending-volunteer-participation/
LOCATION:Jameson cafenasium
CATEGORIES:Jameson Elementary
END:VEVENT
BEGIN:VEVENT
DTSTART;TZID=America/New_York:20190207T123000
DTEND;TZID=America/New_York:20190207T140000
DTSTAMP:20260424T034417
CREATED:20190116T151808Z
LAST-MODIFIED:20190207T230547Z
UID:14007-1549542600-1549548000@rsu23.org
SUMMARY:Organ Presentation Grades 4-5
DESCRIPTION:
URL:https://rsu23.org/event/organ-presentation-grades-4-5-4/
CATEGORIES:Loranger Memorial
END:VEVENT
BEGIN:VEVENT
DTSTART;VALUE=DATE:20190206
DTEND;VALUE=DATE:20190207
DTSTAMP:20260424T034417
CREATED:20190128T093754Z
LAST-MODIFIED:20190206T233811Z
UID:14280-1549411200-1549497599@rsu23.org
SUMMARY:Early Release Day\, students dismissed @ 11:30
DESCRIPTION:
URL:https://rsu23.org/event/early-release-day-students-dismissed-1130-6/
CATEGORIES:Jameson Elementary
END:VEVENT
BEGIN:VEVENT
DTSTART;TZID=America/New_York:20190205T123000
DTEND;TZID=America/New_York:20190205T140000
DTSTAMP:20260424T034417
CREATED:20190116T151808Z
LAST-MODIFIED:20190205T224720Z
UID:14006-1549369800-1549375200@rsu23.org
SUMMARY:Organ Presentation Grades 4-5
DESCRIPTION:
URL:https://rsu23.org/event/organ-presentation-grades-4-5-3/
CATEGORIES:Loranger Memorial
END:VEVENT
BEGIN:VEVENT
DTSTART;TZID=America/New_York:20190202T073000
DTEND;TZID=America/New_York:20190202T170000
DTSTAMP:20260424T034417
CREATED:20190118T231611Z
LAST-MODIFIED:20190202T233956Z
UID:14063-1549092600-1549126800@rsu23.org
SUMMARY:LMS Band Trip York HS
DESCRIPTION:
URL:https://rsu23.org/event/lms-band-trip-york-hs-2/
CATEGORIES:Loranger Memorial
END:VEVENT
BEGIN:VEVENT
DTSTART;TZID=America/New_York:20190201T143000
DTEND;TZID=America/New_York:20190201T183000
DTSTAMP:20260424T034417
CREATED:20190118T231611Z
LAST-MODIFIED:20190201T235139Z
UID:14062-1549031400-1549045800@rsu23.org
SUMMARY:LMS Band Trip York HS
DESCRIPTION:
URL:https://rsu23.org/event/lms-band-trip-york-hs/
CATEGORIES:Loranger Memorial
END:VEVENT
BEGIN:VEVENT
DTSTART;TZID=America/New_York:20190131T123000
DTEND;TZID=America/New_York:20190131T140000
DTSTAMP:20260424T034417
CREATED:20190116T151808Z
LAST-MODIFIED:20190130T230445Z
UID:14005-1548937800-1548943200@rsu23.org
SUMMARY:Organ Presentation Grades 4-5
DESCRIPTION:
URL:https://rsu23.org/event/organ-presentation-grades-4-5-2/
CATEGORIES:Loranger Memorial
END:VEVENT
BEGIN:VEVENT
DTSTART;TZID=America/New_York:20190129T123000
DTEND;TZID=America/New_York:20190129T140000
DTSTAMP:20260424T034417
CREATED:20190116T151807Z
LAST-MODIFIED:20190129T223342Z
UID:14004-1548765000-1548770400@rsu23.org
SUMMARY:Organ Presentation Grades 4-5
DESCRIPTION:
URL:https://rsu23.org/event/organ-presentation-grades-4-5/
CATEGORIES:Loranger Memorial
END:VEVENT
BEGIN:VEVENT
DTSTART;TZID=America/New_York:20190118T183000
DTEND;TZID=America/New_York:20190118T203000
DTSTAMP:20260424T034417
CREATED:20190102T160113Z
LAST-MODIFIED:20190119T234213Z
UID:13672-1547836200-1547843400@rsu23.org
SUMMARY:LMS Dance- Gr. 6-8 (pending volunteer participation)
DESCRIPTION:
URL:https://rsu23.org/event/lms-dance-gr-6-8-pending-volunteer-participation/
LOCATION:Loranger Middle School\, Old Orchard Beach\, ME 04064\, USA\, 2 School St\, United States
CATEGORIES:Loranger Memorial
END:VEVENT
BEGIN:VEVENT
DTSTART;TZID=America/New_York:20190114T083000
DTEND;TZID=America/New_York:20190114T103000
DTSTAMP:20260424T034417
CREATED:20181113T133211Z
LAST-MODIFIED:20190114T231838Z
UID:12401-1547454600-1547461800@rsu23.org
SUMMARY:6th Beach Trip
DESCRIPTION:
URL:https://rsu23.org/event/6th-beach-trip-2/
CATEGORIES:Loranger Memorial
END:VEVENT
BEGIN:VEVENT
DTSTART;VALUE=DATE:20190113
DTEND;VALUE=DATE:20190114
DTSTAMP:20260424T034417
CREATED:20181224T180526Z
LAST-MODIFIED:20190113T235043Z
UID:13478-1547337600-1547423999@rsu23.org
SUMMARY:FOKO ORGAN LMS STAGE/GYM
DESCRIPTION:
URL:https://rsu23.org/event/foko-organ-lms-stage-gym-4/
CATEGORIES:Loranger Memorial
END:VEVENT
BEGIN:VEVENT
DTSTART;VALUE=DATE:20190113
DTEND;VALUE=DATE:20190114
DTSTAMP:20260424T034417
CREATED:20181224T164826Z
LAST-MODIFIED:20190113T235043Z
UID:13473-1547337600-1547423999@rsu23.org
SUMMARY:FOKO ORGAN LMS STAGE/GYM
DESCRIPTION:
URL:https://rsu23.org/event/foko-organ-lms-stage-gym/
CATEGORIES:Loranger Memorial
END:VEVENT
BEGIN:VEVENT
DTSTART;VALUE=DATE:20190109
DTEND;VALUE=DATE:20190110
DTSTAMP:20260424T034417
CREATED:20181003T001730Z
LAST-MODIFIED:20181017T110153Z
UID:10637-1546992000-1547078399@rsu23.org
SUMMARY:Early Release Day\, students dismissed @ 11:30
DESCRIPTION:
URL:https://rsu23.org/event/early-release-day-students-dismissed-1130-5/
CATEGORIES:Jameson Elementary
END:VEVENT
BEGIN:VEVENT
DTSTART;VALUE=DATE:20181224
DTEND;VALUE=DATE:20190102
DTSTAMP:20260424T034417
CREATED:20180925T004744Z
LAST-MODIFIED:20181017T110152Z
UID:10115-1545609600-1546387199@rsu23.org
SUMMARY:No school - holiday vacation
DESCRIPTION:
URL:https://rsu23.org/event/no-school-holiday-vacation/
CATEGORIES:Jameson Elementary
END:VEVENT
BEGIN:VEVENT
DTSTART;TZID=America/New_York:20181220T180000
DTEND;TZID=America/New_York:20181220T190000
DTSTAMP:20260424T034417
CREATED:20181005T164509Z
LAST-MODIFIED:20181221T232405Z
UID:10815-1545328800-1545332400@rsu23.org
SUMMARY:Loranger Holiday Concert 3-8
DESCRIPTION:
URL:https://rsu23.org/event/loranger-holiday-concert-3-8/
CATEGORIES:Loranger Memorial
END:VEVENT
BEGIN:VEVENT
DTSTART;TZID=America/New_York:20181220T180000
DTEND;TZID=America/New_York:20181220T190000
DTSTAMP:20260424T034417
CREATED:20180921T004811Z
LAST-MODIFIED:20181205T144107Z
UID:9815-1545328800-1545332400@rsu23.org
SUMMARY:School Board meeting- (no meeting)
DESCRIPTION:
URL:https://rsu23.org/event/school-board-meeting-5/
LOCATION:Old Orchard Beach Town Hall\, 1 Portland Ave\, Old Orchard Beach\, ME 04064\, USA\, 2 Portland Ave\, United States
CATEGORIES:Jameson Elementary
END:VEVENT
BEGIN:VEVENT
DTSTART;TZID=America/New_York:20181220T130000
DTEND;TZID=America/New_York:20181220T140000
DTSTAMP:20260424T034418
CREATED:20181213T161620Z
LAST-MODIFIED:20181220T230037Z
UID:13204-1545310800-1545314400@rsu23.org
SUMMARY:Holiday Concert Students
DESCRIPTION:
URL:https://rsu23.org/event/holiday-concert-students/
CATEGORIES:Loranger Memorial
END:VEVENT
BEGIN:VEVENT
DTSTART;TZID=America/New_York:20181220T120000
DTEND;TZID=America/New_York:20181220T130000
DTSTAMP:20260424T034418
CREATED:20181219T003226Z
LAST-MODIFIED:20181220T230037Z
UID:13331-1545307200-1545310800@rsu23.org
SUMMARY:Chorus dress rehearsals
DESCRIPTION:
URL:https://rsu23.org/event/chorus-dress-rehearsals/
CATEGORIES:Loranger Memorial
END:VEVENT
BEGIN:VEVENT
DTSTART;TZID=America/New_York:20181219T120000
DTEND;TZID=America/New_York:20181219T143000
DTSTAMP:20260424T034418
CREATED:20181127T133816Z
LAST-MODIFIED:20181219T225203Z
UID:12767-1545220800-1545229800@rsu23.org
SUMMARY:3rd-7th LMS TA Trip
DESCRIPTION:
URL:https://rsu23.org/event/3rd-7th-lms-ta-trip/
CATEGORIES:Loranger Memorial
END:VEVENT
BEGIN:VEVENT
DTSTART;TZID=America/New_York:20181218T142000
DTEND;TZID=America/New_York:20181218T152000
DTSTAMP:20260424T034418
CREATED:20181021T172438Z
LAST-MODIFIED:20181218T232804Z
UID:11813-1545142800-1545146400@rsu23.org
SUMMARY:Loranger 3-5 Chorus Rehearsal Room 10L
DESCRIPTION:
URL:https://rsu23.org/event/loranger-3-5-chorus-rehearsal-room-10l-7/
LOCATION:LMS Room 10L
CATEGORIES:Loranger Memorial
END:VEVENT
BEGIN:VEVENT
DTSTART;TZID=America/New_York:20181214T143000
DTEND;TZID=America/New_York:20181214T153000
DTSTAMP:20260424T034418
CREATED:20180915T002031Z
LAST-MODIFIED:20181017T110152Z
UID:9369-1544797800-1544801400@rsu23.org
SUMMARY:PTO Holiday Storytime & Craft
DESCRIPTION:
URL:https://rsu23.org/event/pto-holiday-storytime-craft/
LOCATION:Jameson cafenasium
CATEGORIES:Jameson Elementary
END:VEVENT
BEGIN:VEVENT
DTSTART;TZID=America/New_York:20181214T083000
DTEND;TZID=America/New_York:20181214T103000
DTSTAMP:20260424T034418
CREATED:20181113T133211Z
LAST-MODIFIED:20181215T000127Z
UID:12400-1544776200-1544783400@rsu23.org
SUMMARY:6th Beach Trip
DESCRIPTION:
URL:https://rsu23.org/event/6th-beach-trip/
CATEGORIES:Loranger Memorial
END:VEVENT
BEGIN:VEVENT
DTSTART;TZID=America/New_York:20181213T091500
DTEND;TZID=America/New_York:20181213T130000
DTSTAMP:20260424T034418
CREATED:20181127T133816Z
LAST-MODIFIED:20181213T234418Z
UID:12766-1544692500-1544706000@rsu23.org
SUMMARY:6th Grade UNE Trip
DESCRIPTION:
URL:https://rsu23.org/event/6th-grade-une-trip/
CATEGORIES:Loranger Memorial
END:VEVENT
BEGIN:VEVENT
DTSTART;TZID=America/New_York:20181211T142000
DTEND;TZID=America/New_York:20181211T152000
DTSTAMP:20260424T034418
CREATED:20181021T172438Z
LAST-MODIFIED:20181211T230014Z
UID:11812-1544538000-1544541600@rsu23.org
SUMMARY:Loranger 3-5 Chorus Rehearsal Room 10L
DESCRIPTION:
URL:https://rsu23.org/event/loranger-3-5-chorus-rehearsal-room-10l-6/
LOCATION:LMS Room 10L
CATEGORIES:Loranger Memorial
END:VEVENT
BEGIN:VEVENT
DTSTART;VALUE=DATE:20181205
DTEND;VALUE=DATE:20181206
DTSTAMP:20260424T034418
CREATED:20180910T130925Z
LAST-MODIFIED:20181017T110152Z
UID:8940-1543968000-1544054399@rsu23.org
SUMMARY:Early Release Day\, students dismissed @ 11:30
DESCRIPTION:
URL:https://rsu23.org/event/early-release-day-students-dismissed-1130-4/
CATEGORIES:Jameson Elementary
END:VEVENT
BEGIN:VEVENT
DTSTART;TZID=America/New_York:20181204T142000
DTEND;TZID=America/New_York:20181204T152000
DTSTAMP:20260424T034418
CREATED:20181021T172437Z
LAST-MODIFIED:20181127T155859Z
UID:11811-1543933200-1543936800@rsu23.org
SUMMARY:Loranger 3-5 Chorus Rehearsal Room 10L
DESCRIPTION:
URL:https://rsu23.org/event/loranger-3-5-chorus-rehearsal-room-10l-5/
LOCATION:LMS Room 10L
CATEGORIES:Loranger Memorial
END:VEVENT
BEGIN:VEVENT
DTSTART;TZID=America/New_York:20181203T080000
DTEND;TZID=America/New_York:20181203T130000
DTSTAMP:20260424T034418
CREATED:20181112T235400Z
LAST-MODIFIED:20181203T232407Z
UID:12383-1543824000-1543842000@rsu23.org
SUMMARY:5th Grade Civil Rights Training
DESCRIPTION:
URL:https://rsu23.org/event/5th-grade-civil-rights-training/
CATEGORIES:Loranger Memorial
END:VEVENT
BEGIN:VEVENT
DTSTART;TZID=America/New_York:20181128T083000
DTEND;TZID=America/New_York:20181128T103000
DTSTAMP:20260424T034418
CREATED:20181113T133210Z
LAST-MODIFIED:20181128T233615Z
UID:12399-1543393800-1543401000@rsu23.org
SUMMARY:6th Grade Beach Trip
DESCRIPTION:
URL:https://rsu23.org/event/6th-grade-beach-trip/
CATEGORIES:Loranger Memorial
END:VEVENT
BEGIN:VEVENT
DTSTART;TZID=America/New_York:20181127T142000
DTEND;TZID=America/New_York:20181127T152000
DTSTAMP:20260424T034418
CREATED:20181021T172437Z
LAST-MODIFIED:20181127T233230Z
UID:11810-1543328400-1543332000@rsu23.org
SUMMARY:Loranger 3-5 Chorus Rehearsal Room 10L
DESCRIPTION:
URL:https://rsu23.org/event/loranger-3-5-chorus-rehearsal-room-10l-4/
LOCATION:LMS Room 10L
CATEGORIES:Loranger Memorial
END:VEVENT
END:VCALENDAR