BEGIN:VCALENDAR
VERSION:2.0
PRODID:-//RSU 23 Old Orchard Beach Schools - ECPv6.15.18//NONSGML v1.0//EN
CALSCALE:GREGORIAN
METHOD:PUBLISH
X-WR-CALNAME:RSU 23 Old Orchard Beach Schools
X-ORIGINAL-URL:https://rsu23.org
X-WR-CALDESC:Events for RSU 23 Old Orchard Beach Schools
REFRESH-INTERVAL;VALUE=DURATION:PT1H
X-Robots-Tag:noindex
X-PUBLISHED-TTL:PT1H
BEGIN:VTIMEZONE
TZID:America/New_York
BEGIN:DAYLIGHT
TZOFFSETFROM:-0500
TZOFFSETTO:-0400
TZNAME:EDT
DTSTART:20180311T070000
END:DAYLIGHT
BEGIN:STANDARD
TZOFFSETFROM:-0400
TZOFFSETTO:-0500
TZNAME:EST
DTSTART:20181104T060000
END:STANDARD
BEGIN:DAYLIGHT
TZOFFSETFROM:-0500
TZOFFSETTO:-0400
TZNAME:EDT
DTSTART:20190310T070000
END:DAYLIGHT
BEGIN:STANDARD
TZOFFSETFROM:-0400
TZOFFSETTO:-0500
TZNAME:EST
DTSTART:20191103T060000
END:STANDARD
BEGIN:DAYLIGHT
TZOFFSETFROM:-0500
TZOFFSETTO:-0400
TZNAME:EDT
DTSTART:20200308T070000
END:DAYLIGHT
BEGIN:STANDARD
TZOFFSETFROM:-0400
TZOFFSETTO:-0500
TZNAME:EST
DTSTART:20201101T060000
END:STANDARD
END:VTIMEZONE
BEGIN:VEVENT
DTSTART;TZID=America/New_York:20190429T084000
DTEND;TZID=America/New_York:20190429T101500
DTSTAMP:20260423T175449
CREATED:20190423T114652Z
LAST-MODIFIED:20190429T121821Z
UID:16777-1556527200-1556532900@rsu23.org
SUMMARY:Rain Date: GATES Science grade 7 Milliken Woods\, Portland Ave\, OOB
DESCRIPTION:
URL:https://rsu23.org/event/rain-date-gates-science-grade-7-milliken-woods-portland-ave-oob/
CATEGORIES:Loranger Memorial
END:VEVENT
BEGIN:VEVENT
DTSTART;TZID=America/New_York:20190426T160000
DTEND;TZID=America/New_York:20190426T170000
DTSTAMP:20260423T175449
CREATED:20190408T105655Z
LAST-MODIFIED:20190426T134616Z
UID:16573-1556294400-1556298000@rsu23.org
SUMMARY:Varsity Baseball @Waynflete
DESCRIPTION:
URL:https://rsu23.org/event/varsity-baseball-waynflete/
CATEGORIES:OOBHS
END:VEVENT
BEGIN:VEVENT
DTSTART;TZID=America/New_York:20190426T084000
DTEND;TZID=America/New_York:20190426T101500
DTSTAMP:20260423T175449
CREATED:20190423T114652Z
LAST-MODIFIED:20190426T114815Z
UID:16776-1556268000-1556273700@rsu23.org
SUMMARY:GATES Science grade 7 Milliken Woods\, Portland Ave\, OOB
DESCRIPTION:
URL:https://rsu23.org/event/gates-science-grade-7-milliken-woods-portland-ave-oob/
CATEGORIES:Loranger Memorial
END:VEVENT
BEGIN:VEVENT
DTSTART;TZID=America/New_York:20190425T180000
DTEND;TZID=America/New_York:20190425T190000
DTSTAMP:20260423T175449
CREATED:20190408T105948Z
LAST-MODIFIED:20190425T151805Z
UID:16598-1556215200-1556218800@rsu23.org
SUMMARY:School Board meeting
DESCRIPTION:
URL:https://rsu23.org/event/school-board-meeting-11/
LOCATION:Old Orchard Beach Town Hall\, 1 Portland Ave\, Old Orchard Beach\, ME 04064\, USA\, 2 Portland Ave\, United States
CATEGORIES:Jameson Elementary
END:VEVENT
BEGIN:VEVENT
DTSTART;TZID=America/New_York:20190425T160000
DTEND;TZID=America/New_York:20190425T170000
DTSTAMP:20260423T175449
CREATED:20190408T105655Z
LAST-MODIFIED:20190425T133705Z
UID:16572-1556208000-1556211600@rsu23.org
SUMMARY:Track @ Traip 3:30pm
DESCRIPTION:
URL:https://rsu23.org/event/track-traip-330pm/
CATEGORIES:OOBHS
END:VEVENT
BEGIN:VEVENT
DTSTART;VALUE=DATE:20190425
DTEND;VALUE=DATE:20190426
DTSTAMP:20260423T175449
CREATED:20190206T204635Z
LAST-MODIFIED:20190425T114732Z
UID:14925-1556150400-1556236799@rsu23.org
SUMMARY:Spring Pictures
DESCRIPTION:
URL:https://rsu23.org/event/spring-pictures/
CATEGORIES:Loranger Memorial
END:VEVENT
BEGIN:VEVENT
DTSTART;TZID=America/New_York:20190423T160000
DTEND;TZID=America/New_York:20190423T170000
DTSTAMP:20260423T175449
CREATED:20190408T105655Z
LAST-MODIFIED:20190423T130734Z
UID:16571-1556035200-1556038800@rsu23.org
SUMMARY:Varsity Baseball and Softball @Traip
DESCRIPTION:
URL:https://rsu23.org/event/varsity-baseball-and-softball-traip/
CATEGORIES:OOBHS
END:VEVENT
BEGIN:VEVENT
DTSTART;TZID=America/New_York:20190423T093000
DTEND;TZID=America/New_York:20190423T160000
DTSTAMP:20260423T175449
CREATED:20190410T110245Z
LAST-MODIFIED:20190423T114651Z
UID:16690-1556011800-1556035200@rsu23.org
SUMMARY:Youth Day of Action
DESCRIPTION:
URL:https://rsu23.org/event/youth-day-of-action/
CATEGORIES:Loranger Memorial
END:VEVENT
BEGIN:VEVENT
DTSTART;TZID=America/New_York:20190422T160000
DTEND;TZID=America/New_York:20190422T170000
DTSTAMP:20260423T175449
CREATED:20190408T105655Z
LAST-MODIFIED:20190422T130242Z
UID:16570-1555948800-1555952400@rsu23.org
SUMMARY:Varsity Baseball and Softball Home vs. Buckfield
DESCRIPTION:
URL:https://rsu23.org/event/varsity-baseball-and-softball-home-vs-buckfield/
CATEGORIES:OOBHS
END:VEVENT
BEGIN:VEVENT
DTSTART;TZID=America/New_York:20190419T160000
DTEND;TZID=America/New_York:20190419T170000
DTSTAMP:20260423T175449
CREATED:20190408T105655Z
LAST-MODIFIED:20190419T124542Z
UID:16569-1555689600-1555693200@rsu23.org
SUMMARY:Varsity Baseball and Softball @Maranacook
DESCRIPTION:
URL:https://rsu23.org/event/varsity-baseball-and-softball-maranacook/
CATEGORIES:OOBHS
END:VEVENT
BEGIN:VEVENT
DTSTART;TZID=America/New_York:20190418T180000
DTEND;TZID=America/New_York:20190418T190000
DTSTAMP:20260423T175449
CREATED:20190128T093756Z
LAST-MODIFIED:20190301T200010Z
UID:14291-1555610400-1555614000@rsu23.org
SUMMARY:School Board meeting
DESCRIPTION:
URL:https://rsu23.org/event/school-board-meeting-8/
LOCATION:Old Orchard Beach Town Hall\, 1 Portland Ave\, Old Orchard Beach\, ME 04064\, USA\, 2 Portland Ave\, United States
CATEGORIES:Jameson Elementary
END:VEVENT
BEGIN:VEVENT
DTSTART;VALUE=DATE:20190415
DTEND;VALUE=DATE:20190420
DTSTAMP:20260423T175449
CREATED:20190128T093756Z
LAST-MODIFIED:20190419T141753Z
UID:14290-1555286400-1555718399@rsu23.org
SUMMARY:No school - school vacation
DESCRIPTION:
URL:https://rsu23.org/event/no-school-school-vacation/
CATEGORIES:Jameson Elementary
END:VEVENT
BEGIN:VEVENT
DTSTART;VALUE=DATE:20190414
DTEND;VALUE=DATE:20190415
DTSTAMP:20260423T175449
CREATED:20190101T002229Z
LAST-MODIFIED:20190414T111759Z
UID:13635-1555200000-1555286399@rsu23.org
SUMMARY:FOKO ORGAN LMS STAGE/GYM
DESCRIPTION:
URL:https://rsu23.org/event/foko-organ-lms-stage-gym-7/
CATEGORIES:Loranger Memorial
END:VEVENT
BEGIN:VEVENT
DTSTART;VALUE=DATE:20190412
DTEND;VALUE=DATE:20190413
DTSTAMP:20260423T175449
CREATED:20190128T093755Z
LAST-MODIFIED:20190412T131618Z
UID:14289-1555027200-1555113599@rsu23.org
SUMMARY:No school
DESCRIPTION:
URL:https://rsu23.org/event/no-school-4/
CATEGORIES:Jameson Elementary
END:VEVENT
BEGIN:VEVENT
DTSTART;TZID=America/New_York:20190411T120000
DTEND;TZID=America/New_York:20190411T124500
DTSTAMP:20260423T175449
CREATED:20190408T110122Z
LAST-MODIFIED:20190411T110143Z
UID:16607-1554984000-1554986700@rsu23.org
SUMMARY:LMS Guard Show
DESCRIPTION:
URL:https://rsu23.org/event/lms-guard-show/
CATEGORIES:Loranger Memorial
END:VEVENT
BEGIN:VEVENT
DTSTART;TZID=America/New_York:20190411T080000
DTEND;TZID=America/New_York:20190411T143000
DTSTAMP:20260423T175449
CREATED:20190408T105948Z
LAST-MODIFIED:20190411T131637Z
UID:16597-1554969600-1554993000@rsu23.org
SUMMARY:PreK & K Screening
DESCRIPTION:
URL:https://rsu23.org/event/prek-k-screening-3/
LOCATION:Jameson Library\, conference room\, and main hallway
CATEGORIES:Jameson Elementary
END:VEVENT
BEGIN:VEVENT
DTSTART;TZID=America/New_York:20190410T180000
DTEND;TZID=America/New_York:20190410T190000
DTSTAMP:20260423T175449
CREATED:20190408T105655Z
LAST-MODIFIED:20190410T113130Z
UID:16568-1554919200-1554922800@rsu23.org
SUMMARY:College-Financial Aid JR Parent Night
DESCRIPTION:
URL:https://rsu23.org/event/college-financial-aid-jr-parent-night/
LOCATION:OOBHS
CATEGORIES:OOBHS
END:VEVENT
BEGIN:VEVENT
DTSTART;TZID=America/New_York:20190410T080000
DTEND;TZID=America/New_York:20190410T143000
DTSTAMP:20260423T175449
CREATED:20190408T105948Z
LAST-MODIFIED:20190410T131722Z
UID:16596-1554883200-1554906600@rsu23.org
SUMMARY:PreK & K Screening
DESCRIPTION:
URL:https://rsu23.org/event/prek-k-screening-2/
LOCATION:Jameson Library\, conference room\, and main hallway
CATEGORIES:Jameson Elementary
END:VEVENT
BEGIN:VEVENT
DTSTART;TZID=America/New_York:20190409T183000
DTEND;TZID=America/New_York:20190409T193000
DTSTAMP:20260423T175449
CREATED:20190408T110122Z
LAST-MODIFIED:20190409T110052Z
UID:16606-1554834600-1554838200@rsu23.org
SUMMARY:RSU23 Jazz Night at OOBHS
DESCRIPTION:
URL:https://rsu23.org/event/rsu23-jazz-night-at-oobhs/
CATEGORIES:Loranger Memorial
END:VEVENT
BEGIN:VEVENT
DTSTART;TZID=America/New_York:20190409T113000
DTEND;TZID=America/New_York:20190409T143000
DTSTAMP:20260423T175449
CREATED:20190408T105947Z
LAST-MODIFIED:20190409T131709Z
UID:16595-1554809400-1554820200@rsu23.org
SUMMARY:PreK & K Screening
DESCRIPTION:
URL:https://rsu23.org/event/prek-k-screening/
LOCATION:Jameson Library\, conference room\, and main hallway
CATEGORIES:Jameson Elementary
END:VEVENT
BEGIN:VEVENT
DTSTART;TZID=America/New_York:20190409T063000
DTEND;TZID=America/New_York:20190409T073000
DTSTAMP:20260423T175449
CREATED:20190408T110122Z
LAST-MODIFIED:20190409T110052Z
UID:16605-1554791400-1554795000@rsu23.org
SUMMARY:RSU23 JAZZ NIGHTOOBHS Cafe
DESCRIPTION:
URL:https://rsu23.org/event/rsu23-jazz-nightoobhs-cafe/
CATEGORIES:Loranger Memorial
END:VEVENT
BEGIN:VEVENT
DTSTART;VALUE=DATE:20190409
DTEND;VALUE=DATE:20190410
DTSTAMP:20260423T175449
CREATED:20190408T105654Z
LAST-MODIFIED:20190409T112513Z
UID:16566-1554768000-1554854399@rsu23.org
SUMMARY:SAT Test - Juniors
DESCRIPTION:
URL:https://rsu23.org/event/sat-test-juniors/
LOCATION:Old Orchard Beach High School\, 40 Emerson Cummings Blvd\, Old Orchard Beach\, ME 04064\, USA\, 2 Emerson Dr\, United States
CATEGORIES:OOBHS
END:VEVENT
BEGIN:VEVENT
DTSTART;TZID=America/New_York:20190408T142000
DTEND;TZID=America/New_York:20190408T152000
DTSTAMP:20260423T175449
CREATED:20190211T133715Z
LAST-MODIFIED:20190408T110122Z
UID:15227-1554733200-1554736800@rsu23.org
SUMMARY:Loranger Glee Club Rehearsal
DESCRIPTION:
URL:https://rsu23.org/event/loranger-glee-club-rehearsal-3/
CATEGORIES:Loranger Memorial
END:VEVENT
BEGIN:VEVENT
DTSTART;TZID=America/New_York:20190408T133000
DTEND;TZID=America/New_York:20190408T183000
DTSTAMP:20260423T175449
CREATED:20190408T110122Z
LAST-MODIFIED:20190408T110122Z
UID:16604-1554730200-1554748200@rsu23.org
SUMMARY:Band/Chorus Pizza Kit Pickup LMS Band Room
DESCRIPTION:
URL:https://rsu23.org/event/band-chorus-pizza-kit-pickup-lms-band-room/
CATEGORIES:Loranger Memorial
END:VEVENT
BEGIN:VEVENT
DTSTART;TZID=America/New_York:20190408T073000
DTEND;TZID=America/New_York:20190408T083000
DTSTAMP:20260423T175449
CREATED:20190408T110122Z
LAST-MODIFIED:20190408T110122Z
UID:16603-1554708600-1554712200@rsu23.org
SUMMARY:Loranger Chorus Dress Rehearsal
DESCRIPTION:
URL:https://rsu23.org/event/loranger-chorus-dress-rehearsal/
CATEGORIES:Loranger Memorial
END:VEVENT
BEGIN:VEVENT
DTSTART;TZID=America/New_York:20190405T183000
DTEND;TZID=America/New_York:20190405T203000
DTSTAMP:20260423T175449
CREATED:20190119T144151Z
LAST-MODIFIED:20190227T173241Z
UID:14090-1554489000-1554496200@rsu23.org
SUMMARY:LMS Dance
DESCRIPTION:
URL:https://rsu23.org/event/lms-dance-3/
CATEGORIES:Loranger Memorial
END:VEVENT
BEGIN:VEVENT
DTSTART;VALUE=DATE:20190403
DTEND;VALUE=DATE:20190404
DTSTAMP:20260423T175449
CREATED:20190128T093755Z
LAST-MODIFIED:20190301T200009Z
UID:14288-1554249600-1554335999@rsu23.org
SUMMARY:Early Release Day\, students dismissed @ 11:30
DESCRIPTION:
URL:https://rsu23.org/event/early-release-day-students-dismissed-1130-8/
CATEGORIES:Jameson Elementary
END:VEVENT
BEGIN:VEVENT
DTSTART;TZID=America/New_York:20190401T183000
DTEND;TZID=America/New_York:20190401T203000
DTSTAMP:20260423T175449
CREATED:20190118T231613Z
LAST-MODIFIED:20190119T133806Z
UID:14068-1554143400-1554150600@rsu23.org
SUMMARY:LMS Dance
DESCRIPTION:
URL:https://rsu23.org/event/lms-dance/
CATEGORIES:Loranger Memorial
END:VEVENT
BEGIN:VEVENT
DTSTART;TZID=America/New_York:20190401T142000
DTEND;TZID=America/New_York:20190401T152000
DTSTAMP:20260423T175449
CREATED:20190211T133715Z
LAST-MODIFIED:20190227T173241Z
UID:15226-1554128400-1554132000@rsu23.org
SUMMARY:Loranger Glee Club Rehearsal
DESCRIPTION:
URL:https://rsu23.org/event/loranger-glee-club-rehearsal-2/
CATEGORIES:Loranger Memorial
END:VEVENT
BEGIN:VEVENT
DTSTART;TZID=America/New_York:20190401T084500
DTEND;TZID=America/New_York:20190401T134000
DTSTAMP:20260423T175449
CREATED:20190201T212933Z
LAST-MODIFIED:20190227T173240Z
UID:14613-1554108300-1554126000@rsu23.org
SUMMARY:6th UNE Field Trip
DESCRIPTION:
URL:https://rsu23.org/event/6th-une-field-trip/
CATEGORIES:Loranger Memorial
END:VEVENT
END:VCALENDAR