BEGIN:VCALENDAR
VERSION:2.0
PRODID:-//RSU 23 Old Orchard Beach Schools - ECPv6.15.18//NONSGML v1.0//EN
CALSCALE:GREGORIAN
METHOD:PUBLISH
X-WR-CALNAME:RSU 23 Old Orchard Beach Schools
X-ORIGINAL-URL:https://rsu23.org
X-WR-CALDESC:Events for RSU 23 Old Orchard Beach Schools
REFRESH-INTERVAL;VALUE=DURATION:PT1H
X-Robots-Tag:noindex
X-PUBLISHED-TTL:PT1H
BEGIN:VTIMEZONE
TZID:America/New_York
BEGIN:DAYLIGHT
TZOFFSETFROM:-0500
TZOFFSETTO:-0400
TZNAME:EDT
DTSTART:20180311T070000
END:DAYLIGHT
BEGIN:STANDARD
TZOFFSETFROM:-0400
TZOFFSETTO:-0500
TZNAME:EST
DTSTART:20181104T060000
END:STANDARD
BEGIN:DAYLIGHT
TZOFFSETFROM:-0500
TZOFFSETTO:-0400
TZNAME:EDT
DTSTART:20190310T070000
END:DAYLIGHT
BEGIN:STANDARD
TZOFFSETFROM:-0400
TZOFFSETTO:-0500
TZNAME:EST
DTSTART:20191103T060000
END:STANDARD
BEGIN:DAYLIGHT
TZOFFSETFROM:-0500
TZOFFSETTO:-0400
TZNAME:EDT
DTSTART:20200308T070000
END:DAYLIGHT
BEGIN:STANDARD
TZOFFSETFROM:-0400
TZOFFSETTO:-0500
TZNAME:EST
DTSTART:20201101T060000
END:STANDARD
END:VTIMEZONE
BEGIN:VEVENT
DTSTART;TZID=America/New_York:20191213T173000
DTEND;TZID=America/New_York:20191213T190000
DTSTAMP:20260422T184831
CREATED:20191210T023139Z
LAST-MODIFIED:20191214T230004Z
UID:20544-1576258200-1576263600@rsu23.org
SUMMARY:JV boys BB v. Flete home
DESCRIPTION:
URL:https://rsu23.org/event/jv-boys-bb-v-flete-home/
CATEGORIES:OOBHS
END:VEVENT
BEGIN:VEVENT
DTSTART;TZID=America/New_York:20191213T173000
DTEND;TZID=America/New_York:20191213T190000
DTSTAMP:20260422T184831
CREATED:20191210T023139Z
LAST-MODIFIED:20191214T230005Z
UID:20545-1576258200-1576263600@rsu23.org
SUMMARY:Var. giels BB @ Flete
DESCRIPTION:
URL:https://rsu23.org/event/var-giels-bb-flete/
CATEGORIES:OOBHS
END:VEVENT
BEGIN:VEVENT
DTSTART;TZID=America/New_York:20191213T160000
DTEND;TZID=America/New_York:20191213T173000
DTSTAMP:20260422T184831
CREATED:20191210T023139Z
LAST-MODIFIED:20191213T224714Z
UID:20543-1576252800-1576258200@rsu23.org
SUMMARY:JV girls BB @Flete
DESCRIPTION:
URL:https://rsu23.org/event/jv-girls-bb-flete/
CATEGORIES:OOBHS
END:VEVENT
BEGIN:VEVENT
DTSTART;TZID=America/New_York:20191213T081000
DTEND;TZID=America/New_York:20191213T083000
DTSTAMP:20260422T184831
CREATED:20191101T160129Z
LAST-MODIFIED:20191213T231527Z
UID:17827-1576224600-1576225800@rsu23.org
SUMMARY:Jameson Assembly
DESCRIPTION:
URL:https://rsu23.org/event/jameson-assembly-7/
CATEGORIES:Jameson Elementary
END:VEVENT
BEGIN:VEVENT
DTSTART;TZID=America/New_York:20191210T190000
DTEND;TZID=America/New_York:20191210T203000
DTSTAMP:20260422T184831
CREATED:20191210T023139Z
LAST-MODIFIED:20191211T231458Z
UID:20542-1576004400-1576009800@rsu23.org
SUMMARY:Var. Boys BB v. Richmond Home
DESCRIPTION:
URL:https://rsu23.org/event/var-boys-bb-v-richmond-home/
CATEGORIES:OOBHS
END:VEVENT
BEGIN:VEVENT
DTSTART;TZID=America/New_York:20191210T173000
DTEND;TZID=America/New_York:20191210T190000
DTSTAMP:20260422T184831
CREATED:20191210T023139Z
LAST-MODIFIED:20191211T231458Z
UID:20541-1575999000-1576004400@rsu23.org
SUMMARY:Var. Girls BB v. Richmond Home
DESCRIPTION:
URL:https://rsu23.org/event/var-girls-bb-v-richmond-home/
CATEGORIES:OOBHS
END:VEVENT
BEGIN:VEVENT
DTSTART;TZID=America/New_York:20191209T141500
DTEND;TZID=America/New_York:20191209T152000
DTSTAMP:20260422T184831
CREATED:20191104T225958Z
LAST-MODIFIED:20191209T230044Z
UID:18094-1575900900-1575904800@rsu23.org
SUMMARY:3-5 Glee Club Rehearsal
DESCRIPTION:
URL:https://rsu23.org/event/3-5-glee-club-rehearsal-4/
CATEGORIES:Loranger Memorial
END:VEVENT
BEGIN:VEVENT
DTSTART;TZID=America/New_York:20191209T084000
DTEND;TZID=America/New_York:20191209T101000
DTSTAMP:20260422T184832
CREATED:20191118T183021Z
LAST-MODIFIED:20191209T234620Z
UID:19060-1575880800-1575886200@rsu23.org
SUMMARY:2nd Grade field trip to Festival of Trees
DESCRIPTION:
URL:https://rsu23.org/event/2nd-grade-field-trip-to-festival-of-trees/
LOCATION:Saco Museum\, 371 Main St\, Saco\, ME 04072\, USA\, 2 Main Ave\, United States
CATEGORIES:Jameson Elementary
END:VEVENT
BEGIN:VEVENT
DTSTART;VALUE=DATE:20191209
DTEND;VALUE=DATE:20191210
DTSTAMP:20260422T184832
CREATED:20191104T133015Z
LAST-MODIFIED:20191209T234620Z
UID:18048-1575849600-1575935999@rsu23.org
SUMMARY:Report Cards go home
DESCRIPTION:
URL:https://rsu23.org/event/report-cards-go-home/
CATEGORIES:Jameson Elementary
END:VEVENT
BEGIN:VEVENT
DTSTART;TZID=America/New_York:20191208T080000
DTEND;TZID=America/New_York:20191208T170000
DTSTAMP:20260422T184832
CREATED:20190909T011522Z
LAST-MODIFIED:20191208T233102Z
UID:17441-1575792000-1575824400@rsu23.org
SUMMARY:Pine Tree Organ Society on Stage
DESCRIPTION:
URL:https://rsu23.org/event/foko-on-stage-5/
CATEGORIES:Loranger Memorial
END:VEVENT
BEGIN:VEVENT
DTSTART;TZID=America/New_York:20191206T081000
DTEND;TZID=America/New_York:20191206T083000
DTSTAMP:20260422T184832
CREATED:20191101T160129Z
LAST-MODIFIED:20191206T221502Z
UID:17826-1575619800-1575621000@rsu23.org
SUMMARY:Jameson Assembly
DESCRIPTION:
URL:https://rsu23.org/event/jameson-assembly-6/
CATEGORIES:Jameson Elementary
END:VEVENT
BEGIN:VEVENT
DTSTART;TZID=America/New_York:20191204T093000
DTEND;TZID=America/New_York:20191204T100000
DTSTAMP:20260422T184832
CREATED:20191106T190134Z
LAST-MODIFIED:20191204T230049Z
UID:18225-1575451800-1575453600@rsu23.org
SUMMARY:Time with Teachers
DESCRIPTION:
URL:https://rsu23.org/event/time-with-teachers-2/
CATEGORIES:Jameson Elementary
END:VEVENT
BEGIN:VEVENT
DTSTART;VALUE=DATE:20191204
DTEND;VALUE=DATE:20191205
DTSTAMP:20260422T184832
CREATED:20191104T133015Z
LAST-MODIFIED:20191204T230049Z
UID:18047-1575417600-1575503999@rsu23.org
SUMMARY:Early Release Day
DESCRIPTION:Students dismissed at 11:30am\, already having eaten lunch.
URL:https://rsu23.org/event/early-release-day-9/
CATEGORIES:Jameson Elementary
END:VEVENT
BEGIN:VEVENT
DTSTART;TZID=America/New_York:20191202T180000
DTEND;TZID=America/New_York:20191202T190000
DTSTAMP:20260422T184832
CREATED:20191104T133015Z
LAST-MODIFIED:20191202T150708Z
UID:18046-1575309600-1575313200@rsu23.org
SUMMARY:PTO meeting
DESCRIPTION:
URL:https://rsu23.org/event/pto-meeting-8/
CATEGORIES:Jameson Elementary
END:VEVENT
BEGIN:VEVENT
DTSTART;TZID=America/New_York:20191202T141500
DTEND;TZID=America/New_York:20191202T152000
DTSTAMP:20260422T184832
CREATED:20191104T225957Z
LAST-MODIFIED:20191202T203154Z
UID:18093-1575296100-1575300000@rsu23.org
SUMMARY:3-5 Glee Club Rehearsal
DESCRIPTION:
URL:https://rsu23.org/event/3-5-glee-club-rehearsal-3/
CATEGORIES:Loranger Memorial
END:VEVENT
BEGIN:VEVENT
DTSTART;VALUE=DATE:20191202
DTEND;VALUE=DATE:20191203
DTSTAMP:20260422T184832
CREATED:20191104T133015Z
LAST-MODIFIED:20191202T224755Z
UID:18045-1575244800-1575331199@rsu23.org
SUMMARY:2nd Trimester begins
DESCRIPTION:
URL:https://rsu23.org/event/2nd-trimester-begins/
CATEGORIES:Jameson Elementary
END:VEVENT
BEGIN:VEVENT
DTSTART;TZID=America/New_York:20191129T081000
DTEND;TZID=America/New_York:20191129T083000
DTSTAMP:20260422T184832
CREATED:20191101T160128Z
LAST-MODIFIED:20191129T233015Z
UID:17825-1575015000-1575016200@rsu23.org
SUMMARY:Jameson Assembly
DESCRIPTION:
URL:https://rsu23.org/event/jameson-assembly-5/
CATEGORIES:Jameson Elementary
END:VEVENT
BEGIN:VEVENT
DTSTART;VALUE=DATE:20191129
DTEND;VALUE=DATE:20191130
DTSTAMP:20260422T184832
CREATED:20191104T133015Z
LAST-MODIFIED:20191129T233015Z
UID:18044-1574985600-1575071999@rsu23.org
SUMMARY:1st Trimester ends
DESCRIPTION:
URL:https://rsu23.org/event/1st-trimester-ends/
CATEGORIES:Jameson Elementary
END:VEVENT
BEGIN:VEVENT
DTSTART;VALUE=DATE:20191129
DTEND;VALUE=DATE:20191130
DTSTAMP:20260422T184832
CREATED:20191024T231038Z
LAST-MODIFIED:20191129T235007Z
UID:17707-1574985600-1575071999@rsu23.org
SUMMARY:No School
DESCRIPTION:
URL:https://rsu23.org/event/no-school-6/
CATEGORIES:OOBHS
END:VEVENT
BEGIN:VEVENT
DTSTART;VALUE=DATE:20191128
DTEND;VALUE=DATE:20191129
DTSTAMP:20260422T184832
CREATED:20191024T231038Z
LAST-MODIFIED:20191128T230246Z
UID:17706-1574899200-1574985599@rsu23.org
SUMMARY:Thanksgiving-No School
DESCRIPTION:
URL:https://rsu23.org/event/thanksgiving-no-school/
CATEGORIES:OOBHS
END:VEVENT
BEGIN:VEVENT
DTSTART;VALUE=DATE:20191127
DTEND;VALUE=DATE:20191130
DTSTAMP:20260422T184832
CREATED:20191104T133015Z
LAST-MODIFIED:20191129T233015Z
UID:18043-1574812800-1575071999@rsu23.org
SUMMARY:No School: Thanksgiving break
DESCRIPTION:
URL:https://rsu23.org/event/no-school-thanks-giving-holiday/
CATEGORIES:Jameson Elementary
END:VEVENT
BEGIN:VEVENT
DTSTART;VALUE=DATE:20191127
DTEND;VALUE=DATE:20191128
DTSTAMP:20260422T184832
CREATED:20191024T231038Z
LAST-MODIFIED:20191127T224507Z
UID:17705-1574812800-1574899199@rsu23.org
SUMMARY:No School
DESCRIPTION:
URL:https://rsu23.org/event/no-school-5/
CATEGORIES:OOBHS
END:VEVENT
BEGIN:VEVENT
DTSTART;VALUE=DATE:20191126
DTEND;VALUE=DATE:20191127
DTSTAMP:20260422T184832
CREATED:20191104T133015Z
LAST-MODIFIED:20191126T233008Z
UID:18042-1574726400-1574812799@rsu23.org
SUMMARY:Early Release Day
DESCRIPTION:
URL:https://rsu23.org/event/early-release-day-8/
CATEGORIES:Jameson Elementary
END:VEVENT
BEGIN:VEVENT
DTSTART;VALUE=DATE:20191126
DTEND;VALUE=DATE:20191127
DTSTAMP:20260422T184832
CREATED:20191024T231038Z
LAST-MODIFIED:20191126T233008Z
UID:17704-1574726400-1574812799@rsu23.org
SUMMARY:Early Release
DESCRIPTION:
URL:https://rsu23.org/event/early-release/
CATEGORIES:OOBHS
END:VEVENT
BEGIN:VEVENT
DTSTART;TZID=America/New_York:20191125T141500
DTEND;TZID=America/New_York:20191125T152000
DTSTAMP:20260422T184832
CREATED:20191104T225957Z
LAST-MODIFIED:20191125T233218Z
UID:18092-1574691300-1574695200@rsu23.org
SUMMARY:3-5 Glee Club Rehearsal
DESCRIPTION:
URL:https://rsu23.org/event/3-5-glee-club-rehearsal-2/
CATEGORIES:Loranger Memorial
END:VEVENT
BEGIN:VEVENT
DTSTART;TZID=America/New_York:20191122T081000
DTEND;TZID=America/New_York:20191122T083000
DTSTAMP:20260422T184832
CREATED:20191101T160128Z
LAST-MODIFIED:20191122T225004Z
UID:17824-1574410200-1574411400@rsu23.org
SUMMARY:Jameson Assembly
DESCRIPTION:
URL:https://rsu23.org/event/jameson-assembly-4/
CATEGORIES:Jameson Elementary
END:VEVENT
BEGIN:VEVENT
DTSTART;TZID=America/New_York:20191121T180000
DTEND;TZID=America/New_York:20191121T190000
DTSTAMP:20260422T184832
CREATED:20190823T001719Z
LAST-MODIFIED:20191121T231455Z
UID:17375-1574359200-1574362800@rsu23.org
SUMMARY:School Board meeting
DESCRIPTION:
URL:https://rsu23.org/event/school-board-meeting-18/
LOCATION:Old Orchard Beach Town Hall\, 1 Portland Ave\, Old Orchard Beach\, ME 04064\, USA\, 2 Portland Ave\, United States
CATEGORIES:Jameson Elementary
END:VEVENT
BEGIN:VEVENT
DTSTART;TZID=America/New_York:20191121T113000
DTEND;TZID=America/New_York:20191121T113000
DTSTAMP:20260422T184832
CREATED:20191119T134456Z
LAST-MODIFIED:20191121T231455Z
UID:19116-1574335800-1574335800@rsu23.org
SUMMARY:Jameson School Early Release
DESCRIPTION:
URL:https://rsu23.org/event/jameson-school-early-release/
CATEGORIES:Jameson Elementary
END:VEVENT
BEGIN:VEVENT
DTSTART;TZID=America/New_York:20191118T141500
DTEND;TZID=America/New_York:20191118T152000
DTSTAMP:20260422T184832
CREATED:20191104T225957Z
LAST-MODIFIED:20191118T232959Z
UID:18091-1574086500-1574090400@rsu23.org
SUMMARY:3-5 Glee Club Rehearsal
DESCRIPTION:
URL:https://rsu23.org/event/3-5-glee-club-rehearsal/
CATEGORIES:Loranger Memorial
END:VEVENT
BEGIN:VEVENT
DTSTART;TZID=America/New_York:20191116T140000
DTEND;TZID=America/New_York:20191116T141500
DTSTAMP:20260422T184832
CREATED:20191110T114512Z
LAST-MODIFIED:20191116T231601Z
UID:18485-1573912800-1573913700@rsu23.org
SUMMARY:OOB Vs Mt. Ararat 8-Man Football State Championship
DESCRIPTION:
URL:https://rsu23.org/event/oob-vs-mt-ararat-8-man-football-state-championship/
CATEGORIES:OOBHS
END:VEVENT
END:VCALENDAR