BEGIN:VCALENDAR
VERSION:2.0
PRODID:-//RSU 23 Old Orchard Beach Schools - ECPv6.15.18//NONSGML v1.0//EN
CALSCALE:GREGORIAN
METHOD:PUBLISH
X-WR-CALNAME:RSU 23 Old Orchard Beach Schools
X-ORIGINAL-URL:https://rsu23.org
X-WR-CALDESC:Events for RSU 23 Old Orchard Beach Schools
REFRESH-INTERVAL;VALUE=DURATION:PT1H
X-Robots-Tag:noindex
X-PUBLISHED-TTL:PT1H
BEGIN:VTIMEZONE
TZID:America/New_York
BEGIN:DAYLIGHT
TZOFFSETFROM:-0500
TZOFFSETTO:-0400
TZNAME:EDT
DTSTART:20180311T070000
END:DAYLIGHT
BEGIN:STANDARD
TZOFFSETFROM:-0400
TZOFFSETTO:-0500
TZNAME:EST
DTSTART:20181104T060000
END:STANDARD
BEGIN:DAYLIGHT
TZOFFSETFROM:-0500
TZOFFSETTO:-0400
TZNAME:EDT
DTSTART:20190310T070000
END:DAYLIGHT
BEGIN:STANDARD
TZOFFSETFROM:-0400
TZOFFSETTO:-0500
TZNAME:EST
DTSTART:20191103T060000
END:STANDARD
BEGIN:DAYLIGHT
TZOFFSETFROM:-0500
TZOFFSETTO:-0400
TZNAME:EDT
DTSTART:20200308T070000
END:DAYLIGHT
BEGIN:STANDARD
TZOFFSETFROM:-0400
TZOFFSETTO:-0500
TZNAME:EST
DTSTART:20201101T060000
END:STANDARD
END:VTIMEZONE
BEGIN:VEVENT
DTSTART;TZID=America/New_York:20191115T183000
DTEND;TZID=America/New_York:20191115T203000
DTSTAMP:20260422T230805
CREATED:20190817T231918Z
LAST-MODIFIED:20191116T230722Z
UID:17352-1573842600-1573849800@rsu23.org
SUMMARY:6-8 School Dance Athletics
DESCRIPTION:
URL:https://rsu23.org/event/6-8-school-dance-athletics-2/
CATEGORIES:Loranger Memorial
END:VEVENT
BEGIN:VEVENT
DTSTART;TZID=America/New_York:20191115T081000
DTEND;TZID=America/New_York:20191115T083000
DTSTAMP:20260422T230805
CREATED:20191101T160128Z
LAST-MODIFIED:20191115T231849Z
UID:17823-1573805400-1573806600@rsu23.org
SUMMARY:Jameson Assembly
DESCRIPTION:
URL:https://rsu23.org/event/jameson-assembly-3/
CATEGORIES:Jameson Elementary
END:VEVENT
BEGIN:VEVENT
DTSTART;VALUE=DATE:20191111
DTEND;VALUE=DATE:20191112
DTSTAMP:20260422T230805
CREATED:20191104T133014Z
LAST-MODIFIED:20191112T000034Z
UID:18041-1573430400-1573516799@rsu23.org
SUMMARY:No School: Veteran's Day
DESCRIPTION:
URL:https://rsu23.org/event/no-school-veterans-day/
CATEGORIES:Jameson Elementary
END:VEVENT
BEGIN:VEVENT
DTSTART;VALUE=DATE:20191111
DTEND;VALUE=DATE:20191112
DTSTAMP:20260422T230805
CREATED:20191024T231038Z
LAST-MODIFIED:20191111T233210Z
UID:17703-1573430400-1573516799@rsu23.org
SUMMARY:Veterans Day-No School
DESCRIPTION:
URL:https://rsu23.org/event/veterans-day-no-school/
CATEGORIES:OOBHS
END:VEVENT
BEGIN:VEVENT
DTSTART;TZID=America/New_York:20191110T080000
DTEND;TZID=America/New_York:20191110T170000
DTSTAMP:20260422T230805
CREATED:20190812T224457Z
LAST-MODIFIED:20191110T231654Z
UID:17317-1573372800-1573405200@rsu23.org
SUMMARY:Pine Tree Organ Society on Stage
DESCRIPTION:Jim\nI was able to fix it.  G
URL:https://rsu23.org/event/foko-on-stage-4/
CATEGORIES:Loranger Memorial
END:VEVENT
BEGIN:VEVENT
DTSTART;TZID=America/New_York:20191108T190000
DTEND;TZID=America/New_York:20191108T210000
DTSTAMP:20260422T230805
CREATED:20191106T204946Z
LAST-MODIFIED:20191109T230142Z
UID:18235-1573239600-1573246800@rsu23.org
SUMMARY:Football divisional championship
DESCRIPTION:OOB football vs Boothbay 7pm
URL:https://rsu23.org/event/football-divisional-championship/
CATEGORIES:OOBHS
END:VEVENT
BEGIN:VEVENT
DTSTART;TZID=America/New_York:20191108T081000
DTEND;TZID=America/New_York:20191108T083000
DTSTAMP:20260422T230805
CREATED:20191101T160128Z
LAST-MODIFIED:20191108T230143Z
UID:17822-1573200600-1573201800@rsu23.org
SUMMARY:Jameson Assembly
DESCRIPTION:
URL:https://rsu23.org/event/jameson-assembly-2/
CATEGORIES:Jameson Elementary
END:VEVENT
BEGIN:VEVENT
DTSTART;TZID=America/New_York:20191108T080000
DTEND;TZID=America/New_York:20191108T090000
DTSTAMP:20260422T230805
CREATED:20190911T013220Z
LAST-MODIFIED:20191108T234751Z
UID:17452-1573200000-1573203600@rsu23.org
SUMMARY:LMS Gym Floor to be Sealed
DESCRIPTION:
URL:https://rsu23.org/event/lms-gym-floor-to-be-sealed/
CATEGORIES:Loranger Memorial
END:VEVENT
BEGIN:VEVENT
DTSTART;TZID=America/New_York:20191106T143000
DTEND;TZID=America/New_York:20191106T183000
DTSTAMP:20260422T230805
CREATED:20191031T074523Z
LAST-MODIFIED:20191106T213154Z
UID:17742-1573050600-1573065000@rsu23.org
SUMMARY:Parent - Teacher conferences
DESCRIPTION:
URL:https://rsu23.org/event/parent-teacher-conferences-8/
CATEGORIES:Jameson Elementary
END:VEVENT
BEGIN:VEVENT
DTSTART;TZID=America/New_York:20191106T130000
DTEND;TZID=America/New_York:20191106T190000
DTSTAMP:20260422T230805
CREATED:20191019T223556Z
LAST-MODIFIED:20191107T230230Z
UID:17679-1573045200-1573066800@rsu23.org
SUMMARY:Fall Parent-Teacher Conferences
DESCRIPTION:
URL:https://rsu23.org/event/fall-parent-teacher-conferences-2/
CATEGORIES:OOBHS
END:VEVENT
BEGIN:VEVENT
DTSTART;TZID=America/New_York:20191106T093000
DTEND;TZID=America/New_York:20191106T100000
DTSTAMP:20260422T230805
CREATED:20191106T190133Z
LAST-MODIFIED:20191106T213154Z
UID:18224-1573032600-1573034400@rsu23.org
SUMMARY:Time with Teachers
DESCRIPTION:
URL:https://rsu23.org/event/time-with-teachers/
CATEGORIES:Jameson Elementary
END:VEVENT
BEGIN:VEVENT
DTSTART;VALUE=DATE:20191106
DTEND;VALUE=DATE:20191107
DTSTAMP:20260422T230805
CREATED:20191104T133014Z
LAST-MODIFIED:20191106T213154Z
UID:18040-1572998400-1573084799@rsu23.org
SUMMARY:Early Release Day
DESCRIPTION:Students dismissed at 11:30am\, already having eaten lunch.
URL:https://rsu23.org/event/early-release-day-7/
CATEGORIES:Jameson Elementary
END:VEVENT
BEGIN:VEVENT
DTSTART;VALUE=DATE:20191105
DTEND;VALUE=DATE:20191106
DTSTAMP:20260422T230805
CREATED:20191019T223556Z
LAST-MODIFIED:20191105T235956Z
UID:17678-1572912000-1572998399@rsu23.org
SUMMARY:Election Day (No School for OOBHS Students)
DESCRIPTION:
URL:https://rsu23.org/event/election-day-no-school-for-oobhs-students/
CATEGORIES:OOBHS
END:VEVENT
BEGIN:VEVENT
DTSTART;TZID=America/New_York:20191104T180000
DTEND;TZID=America/New_York:20191104T190000
DTSTAMP:20260422T230805
CREATED:20191104T133014Z
LAST-MODIFIED:20191104T234507Z
UID:18039-1572890400-1572894000@rsu23.org
SUMMARY:PTO meeting
DESCRIPTION:
URL:https://rsu23.org/event/pto-meeting-7/
CATEGORIES:Jameson Elementary
END:VEVENT
BEGIN:VEVENT
DTSTART;TZID=America/New_York:20191101T150000
DTEND;TZID=America/New_York:20191101T163000
DTSTAMP:20260422T230805
CREATED:20191026T054758Z
LAST-MODIFIED:20191101T233002Z
UID:17719-1572620400-1572625800@rsu23.org
SUMMARY:Cross Country End of Year Celebration LMS Cafe
DESCRIPTION:
URL:https://rsu23.org/event/cross-country-end-of-year-celebration-lms-cafe/
CATEGORIES:Loranger Memorial
END:VEVENT
BEGIN:VEVENT
DTSTART;TZID=America/New_York:20191101T081000
DTEND;TZID=America/New_York:20191101T083000
DTSTAMP:20260422T230805
CREATED:20191101T160128Z
LAST-MODIFIED:20191101T230211Z
UID:17821-1572595800-1572597000@rsu23.org
SUMMARY:Jameson Assembly
DESCRIPTION:
URL:https://rsu23.org/event/jameson-assembly/
CATEGORIES:Jameson Elementary
END:VEVENT
BEGIN:VEVENT
DTSTART;VALUE=DATE:20191101
DTEND;VALUE=DATE:20191102
DTSTAMP:20260422T230805
CREATED:20191019T223556Z
LAST-MODIFIED:20191101T234534Z
UID:17677-1572566400-1572652799@rsu23.org
SUMMARY:Quarter 1 Grades Close
DESCRIPTION:
URL:https://rsu23.org/event/quarter-1-grades-close/
CATEGORIES:OOBHS
END:VEVENT
BEGIN:VEVENT
DTSTART;TZID=America/New_York:20191030T150000
DTEND;TZID=America/New_York:20191030T190000
DTSTAMP:20260422T230805
CREATED:20191019T223556Z
LAST-MODIFIED:20191030T234611Z
UID:17676-1572447600-1572462000@rsu23.org
SUMMARY:Fall Parent-Teacher Conferences
DESCRIPTION:
URL:https://rsu23.org/event/fall-parent-teacher-conferences/
CATEGORIES:OOBHS
END:VEVENT
BEGIN:VEVENT
DTSTART;TZID=America/New_York:20191026T180000
DTEND;TZID=America/New_York:20191026T210000
DTSTAMP:20260422T230805
CREATED:20191025T232024Z
LAST-MODIFIED:20191027T233026Z
UID:17712-1572112800-1572123600@rsu23.org
SUMMARY:OOBHS Band Show
DESCRIPTION:
URL:https://rsu23.org/event/oobhs-band-show/
CATEGORIES:OOBHS
END:VEVENT
BEGIN:VEVENT
DTSTART;VALUE=DATE:20191025
DTEND;VALUE=DATE:20191026
DTSTAMP:20260422T230805
CREATED:20191025T232024Z
LAST-MODIFIED:20191025T232024Z
UID:17711-1571961600-1572047999@rsu23.org
SUMMARY:Day Of Welcome- OOBHS Civil Rights Team
DESCRIPTION:
URL:https://rsu23.org/event/day-of-welcome-oobhs-civil-rights-team/
CATEGORIES:OOBHS
END:VEVENT
BEGIN:VEVENT
DTSTART;TZID=America/New_York:20191019T190000
DTEND;TZID=America/New_York:20191019T220000
DTSTAMP:20260422T230805
CREATED:20191019T223556Z
LAST-MODIFIED:20191020T223629Z
UID:17675-1571511600-1571522400@rsu23.org
SUMMARY:Homecoming Dance
DESCRIPTION:
URL:https://rsu23.org/event/homecoming-dance/
CATEGORIES:OOBHS
END:VEVENT
BEGIN:VEVENT
DTSTART;TZID=America/New_York:20191017T180000
DTEND;TZID=America/New_York:20191017T190000
DTSTAMP:20260422T230805
CREATED:20190719T211626Z
LAST-MODIFIED:20191017T054557Z
UID:17185-1571335200-1571338800@rsu23.org
SUMMARY:School Board meeting
DESCRIPTION:
URL:https://rsu23.org/event/school-board-meeting-16/
LOCATION:Old Orchard Beach Town Hall\, 1 Portland Ave\, Old Orchard Beach\, ME 04064\, USA\, 2 Portland Ave\, United States
CATEGORIES:Jameson Elementary
END:VEVENT
BEGIN:VEVENT
DTSTART;TZID=America/New_York:20191013T080000
DTEND;TZID=America/New_York:20191013T170000
DTSTAMP:20260422T230805
CREATED:20190715T194618Z
LAST-MODIFIED:20191013T044817Z
UID:17168-1570953600-1570986000@rsu23.org
SUMMARY:FOKO on Stage
DESCRIPTION:
URL:https://rsu23.org/event/foko-on-stage-3/
CATEGORIES:Loranger Memorial
END:VEVENT
BEGIN:VEVENT
DTSTART;TZID=America/New_York:20190928T080000
DTEND;TZID=America/New_York:20190928T090000
DTSTAMP:20260422T230805
CREATED:20190923T214534Z
LAST-MODIFIED:20190928T220001Z
UID:17546-1569657600-1569661200@rsu23.org
SUMMARY:JV field hockey at Lake Region 9am
DESCRIPTION:
URL:https://rsu23.org/event/jv-field-hockey-at-lake-region-9am/
CATEGORIES:OOBHS
END:VEVENT
BEGIN:VEVENT
DTSTART;TZID=America/New_York:20190927T190000
DTEND;TZID=America/New_York:20190927T200000
DTSTAMP:20260422T230805
CREATED:20190916T213118Z
LAST-MODIFIED:20190928T220001Z
UID:17487-1569610800-1569614400@rsu23.org
SUMMARY:Varsity Football vs. Traip 7pm
DESCRIPTION:
URL:https://rsu23.org/event/varsity-football-vs-traip-7pm/
CATEGORIES:OOBHS
END:VEVENT
BEGIN:VEVENT
DTSTART;TZID=America/New_York:20190926T180000
DTEND;TZID=America/New_York:20190926T190000
DTSTAMP:20260422T230805
CREATED:20190923T214534Z
LAST-MODIFIED:20190926T214502Z
UID:17545-1569520800-1569524400@rsu23.org
SUMMARY:Girls soccer at Sacopee 6pm
DESCRIPTION:
URL:https://rsu23.org/event/girls-soccer-at-sacopee-6pm/
CATEGORIES:OOBHS
END:VEVENT
BEGIN:VEVENT
DTSTART;TZID=America/New_York:20190926T180000
DTEND;TZID=America/New_York:20190926T190000
DTSTAMP:20260422T230805
CREATED:20190821T235110Z
LAST-MODIFIED:20190926T033128Z
UID:17370-1569520800-1569524400@rsu23.org
SUMMARY:School Board meeting
DESCRIPTION:
URL:https://rsu23.org/event/school-board-meeting-17/
LOCATION:Old Orchard Beach Town Hall\, 1 Portland Ave\, Old Orchard Beach\, ME 04064\, USA\, 2 Portland Ave\, United States
CATEGORIES:Jameson Elementary
END:VEVENT
BEGIN:VEVENT
DTSTART;TZID=America/New_York:20190924T140000
DTEND;TZID=America/New_York:20190924T144500
DTSTAMP:20260422T230805
CREATED:20190924T214614Z
LAST-MODIFIED:20190924T214614Z
UID:17554-1569333600-1569336300@rsu23.org
SUMMARY:Civil Rights Team Mtg
DESCRIPTION:
URL:https://rsu23.org/event/civil-rights-team-mtg/
CATEGORIES:OOBHS
END:VEVENT
BEGIN:VEVENT
DTSTART;TZID=America/New_York:20190924T103000
DTEND;TZID=America/New_York:20190924T110000
DTSTAMP:20260422T230805
CREATED:20190920T214719Z
LAST-MODIFIED:20190924T214614Z
UID:17527-1569321000-1569322800@rsu23.org
SUMMARY:Intern/FreshCommServ
DESCRIPTION:
URL:https://rsu23.org/event/intern-freshcommserv/
CATEGORIES:OOBHS
END:VEVENT
BEGIN:VEVENT
DTSTART;TZID=America/New_York:20190924T100000
DTEND;TZID=America/New_York:20190924T150000
DTSTAMP:20260422T230805
CREATED:20190923T214533Z
LAST-MODIFIED:20190924T214614Z
UID:17544-1569319200-1569337200@rsu23.org
SUMMARY:WMC Golf Qualifier
DESCRIPTION:
URL:https://rsu23.org/event/wmc-golf-qualifier/
CATEGORIES:OOBHS
END:VEVENT
END:VCALENDAR