BEGIN:VCALENDAR
VERSION:2.0
PRODID:-//RSU 23 Old Orchard Beach Schools - ECPv6.15.18//NONSGML v1.0//EN
CALSCALE:GREGORIAN
METHOD:PUBLISH
X-WR-CALNAME:RSU 23 Old Orchard Beach Schools
X-ORIGINAL-URL:https://rsu23.org
X-WR-CALDESC:Events for RSU 23 Old Orchard Beach Schools
REFRESH-INTERVAL;VALUE=DURATION:PT1H
X-Robots-Tag:noindex
X-PUBLISHED-TTL:PT1H
BEGIN:VTIMEZONE
TZID:America/New_York
BEGIN:DAYLIGHT
TZOFFSETFROM:-0500
TZOFFSETTO:-0400
TZNAME:EDT
DTSTART:20180311T070000
END:DAYLIGHT
BEGIN:STANDARD
TZOFFSETFROM:-0400
TZOFFSETTO:-0500
TZNAME:EST
DTSTART:20181104T060000
END:STANDARD
BEGIN:DAYLIGHT
TZOFFSETFROM:-0500
TZOFFSETTO:-0400
TZNAME:EDT
DTSTART:20190310T070000
END:DAYLIGHT
BEGIN:STANDARD
TZOFFSETFROM:-0400
TZOFFSETTO:-0500
TZNAME:EST
DTSTART:20191103T060000
END:STANDARD
BEGIN:DAYLIGHT
TZOFFSETFROM:-0500
TZOFFSETTO:-0400
TZNAME:EDT
DTSTART:20200308T070000
END:DAYLIGHT
BEGIN:STANDARD
TZOFFSETFROM:-0400
TZOFFSETTO:-0500
TZNAME:EST
DTSTART:20201101T060000
END:STANDARD
END:VTIMEZONE
BEGIN:VEVENT
DTSTART;TZID=America/New_York:20190510T083000
DTEND;TZID=America/New_York:20190510T113000
DTSTAMP:20260423T145508
CREATED:20190209T020118Z
LAST-MODIFIED:20190510T232442Z
UID:15066-1557477000-1557487800@rsu23.org
SUMMARY:FOKO Organ Assembly 3-5 or 3-6 Concert 10
DESCRIPTION:
URL:https://rsu23.org/event/foko-organ-assembly-3-5-or-3-6-concert-10/
LOCATION:Gym
CATEGORIES:Loranger Memorial
END:VEVENT
BEGIN:VEVENT
DTSTART;TZID=America/New_York:20190509T180000
DTEND;TZID=America/New_York:20190509T193000
DTSTAMP:20260423T145508
CREATED:20190408T110123Z
LAST-MODIFIED:20190509T232005Z
UID:16614-1557424800-1557430200@rsu23.org
SUMMARY:Kieve Parent Night/Library
DESCRIPTION:
URL:https://rsu23.org/event/kieve-parent-night-library/
CATEGORIES:Loranger Memorial
END:VEVENT
BEGIN:VEVENT
DTSTART;TZID=America/New_York:20190509T160000
DTEND;TZID=America/New_York:20190509T170000
DTSTAMP:20260423T145508
CREATED:20190408T105657Z
LAST-MODIFIED:20190509T185249Z
UID:16581-1557417600-1557421200@rsu23.org
SUMMARY:Varsity Baseball and Softball Home vs. Maranacook
DESCRIPTION:
URL:https://rsu23.org/event/varsity-baseball-and-softball-home-vs-maranacook/
CATEGORIES:OOBHS
END:VEVENT
BEGIN:VEVENT
DTSTART;TZID=America/New_York:20190509T133000
DTEND;TZID=America/New_York:20190509T143500
DTSTAMP:20260423T145508
CREATED:20190501T171652Z
LAST-MODIFIED:20190509T232005Z
UID:16822-1557408600-1557412500@rsu23.org
SUMMARY:Harmon Museum - 6 Grade Social Studies - Seaver
DESCRIPTION:
URL:https://rsu23.org/event/harmon-museum-6-grade-social-studies-seaver/
CATEGORIES:Loranger Memorial
END:VEVENT
BEGIN:VEVENT
DTSTART;TZID=America/New_York:20190508T160000
DTEND;TZID=America/New_York:20190508T170000
DTSTAMP:20260423T145508
CREATED:20190408T105657Z
LAST-MODIFIED:20190508T183733Z
UID:16580-1557331200-1557334800@rsu23.org
SUMMARY:Varsity Baseball and Softball home vs. Freeport
DESCRIPTION:
URL:https://rsu23.org/event/varsity-baseball-and-softball-home-vs-freeport/
CATEGORIES:OOBHS
END:VEVENT
BEGIN:VEVENT
DTSTART;TZID=America/New_York:20190507T133000
DTEND;TZID=America/New_York:20190507T143000
DTSTAMP:20260423T145508
CREATED:20190501T171652Z
LAST-MODIFIED:20190507T230258Z
UID:16821-1557235800-1557239400@rsu23.org
SUMMARY:Harmon Museum Grade 6 Social Studies - Rossignol
DESCRIPTION:
URL:https://rsu23.org/event/harmon-museum-grade-6-social-studies-rossignol/
CATEGORIES:Loranger Memorial
END:VEVENT
BEGIN:VEVENT
DTSTART;TZID=America/New_York:20190506T160000
DTEND;TZID=America/New_York:20190506T170000
DTSTAMP:20260423T145508
CREATED:20190408T105656Z
LAST-MODIFIED:20190506T183459Z
UID:16579-1557158400-1557162000@rsu23.org
SUMMARY:Varsity Baseball and Softball Home vs. Traip
DESCRIPTION:
URL:https://rsu23.org/event/varsity-baseball-and-softball-home-vs-traip/
CATEGORIES:OOBHS
END:VEVENT
BEGIN:VEVENT
DTSTART;TZID=America/New_York:20190506T143000
DTEND;TZID=America/New_York:20190506T153000
DTSTAMP:20260423T145508
CREATED:20190408T110123Z
LAST-MODIFIED:20190506T225538Z
UID:16612-1557153000-1557156600@rsu23.org
SUMMARY:Glee Club Rehearsal
DESCRIPTION:
URL:https://rsu23.org/event/glee-club-rehearsal-2/
CATEGORIES:Loranger Memorial
END:VEVENT
BEGIN:VEVENT
DTSTART;TZID=America/New_York:20190503T160000
DTEND;TZID=America/New_York:20190503T170000
DTSTAMP:20260423T145508
CREATED:20190408T105656Z
LAST-MODIFIED:20190503T180427Z
UID:16578-1556899200-1556902800@rsu23.org
SUMMARY:Varsity Baseball and Softball Home vs. St.Doms
DESCRIPTION:
URL:https://rsu23.org/event/varsity-baseball-and-softball-home-vs-st-doms/
CATEGORIES:OOBHS
END:VEVENT
BEGIN:VEVENT
DTSTART;TZID=America/New_York:20190503T153000
DTEND;TZID=America/New_York:20190503T163000
DTSTAMP:20260423T145508
CREATED:20190408T105656Z
LAST-MODIFIED:20190503T180427Z
UID:16577-1556897400-1556901000@rsu23.org
SUMMARY:Track @Wells 3:30pm
DESCRIPTION:
URL:https://rsu23.org/event/track-wells-330pm/
CATEGORIES:OOBHS
END:VEVENT
BEGIN:VEVENT
DTSTART;TZID=America/New_York:20190503T093000
DTEND;TZID=America/New_York:20190503T133000
DTSTAMP:20260423T145508
CREATED:20190408T110123Z
LAST-MODIFIED:20190503T222436Z
UID:16611-1556875800-1556890200@rsu23.org
SUMMARY:LMS/UNE Mentors Field Day
DESCRIPTION:
URL:https://rsu23.org/event/lms-une-mentors-field-day/
CATEGORIES:Loranger Memorial
END:VEVENT
BEGIN:VEVENT
DTSTART;TZID=America/New_York:20190503T090000
DTEND;TZID=America/New_York:20190503T100000
DTSTAMP:20260423T145508
CREATED:20190425T114732Z
LAST-MODIFIED:20190503T222436Z
UID:16791-1556874000-1556877600@rsu23.org
SUMMARY:Bus Evacuation Day
DESCRIPTION:
URL:https://rsu23.org/event/bus-evacuation-day/
CATEGORIES:Loranger Memorial
END:VEVENT
BEGIN:VEVENT
DTSTART;TZID=America/New_York:20190501T160000
DTEND;TZID=America/New_York:20190501T170000
DTSTAMP:20260423T145508
CREATED:20190408T105656Z
LAST-MODIFIED:20190501T175922Z
UID:16576-1556726400-1556730000@rsu23.org
SUMMARY:Varsity Baseball and Softball Home Lake Region
DESCRIPTION:
URL:https://rsu23.org/event/varsity-baseball-and-softball-home-lake-region/
CATEGORIES:OOBHS
END:VEVENT
BEGIN:VEVENT
DTSTART;VALUE=DATE:20190501
DTEND;VALUE=DATE:20190502
DTSTAMP:20260423T145508
CREATED:20190131T001126Z
LAST-MODIFIED:20190501T221757Z
UID:14493-1556668800-1556755199@rsu23.org
SUMMARY:Early Release Day\, students dismissed @ 11:30
DESCRIPTION:
URL:https://rsu23.org/event/early-release-day-students-dismissed-1130-9/
CATEGORIES:Jameson Elementary
END:VEVENT
BEGIN:VEVENT
DTSTART;TZID=America/New_York:20190430T160000
DTEND;TZID=America/New_York:20190430T170000
DTSTAMP:20260423T145508
CREATED:20190408T105656Z
LAST-MODIFIED:20190429T140113Z
UID:16575-1556640000-1556643600@rsu23.org
SUMMARY:Varsity Softball @St.Doms Dbl Header 3:30/5pm
DESCRIPTION:
URL:https://rsu23.org/event/varsity-softball-st-doms-dbl-header-330-5pm/
CATEGORIES:OOBHS
END:VEVENT
BEGIN:VEVENT
DTSTART;TZID=America/New_York:20190430T083000
DTEND;TZID=America/New_York:20190430T133000
DTSTAMP:20260423T145508
CREATED:20190410T110245Z
LAST-MODIFIED:20190429T121821Z
UID:16691-1556613000-1556631000@rsu23.org
SUMMARY:3rd Grade Nature Walk & Beach Profiling
DESCRIPTION:
URL:https://rsu23.org/event/3rd-grade-nature-walk-beach-profiling/
CATEGORIES:Loranger Memorial
END:VEVENT
BEGIN:VEVENT
DTSTART;TZID=America/New_York:20190430T083000
DTEND;TZID=America/New_York:20190430T133000
DTSTAMP:20260423T145508
CREATED:20190408T110123Z
LAST-MODIFIED:20190429T121821Z
UID:16610-1556613000-1556631000@rsu23.org
SUMMARY:Grade 3 Community Field Trip
DESCRIPTION:
URL:https://rsu23.org/event/grade-1-community-field-trip/
CATEGORIES:Loranger Memorial
END:VEVENT
BEGIN:VEVENT
DTSTART;TZID=America/New_York:20190429T160000
DTEND;TZID=America/New_York:20190429T170000
DTSTAMP:20260423T145508
CREATED:20190408T105656Z
LAST-MODIFIED:20190429T140113Z
UID:16574-1556553600-1556557200@rsu23.org
SUMMARY:Varsity Baseball @St. Doms
DESCRIPTION:
URL:https://rsu23.org/event/varsity-baseball-st-doms/
CATEGORIES:OOBHS
END:VEVENT
BEGIN:VEVENT
DTSTART;TZID=America/New_York:20190429T143000
DTEND;TZID=America/New_York:20190429T153000
DTSTAMP:20260423T145508
CREATED:20190408T110123Z
LAST-MODIFIED:20190429T121821Z
UID:16609-1556548200-1556551800@rsu23.org
SUMMARY:Glee Club Rehearsal
DESCRIPTION:
URL:https://rsu23.org/event/glee-club-rehearsal/
CATEGORIES:Loranger Memorial
END:VEVENT
BEGIN:VEVENT
DTSTART;TZID=America/New_York:20190429T110000
DTEND;TZID=America/New_York:20190429T134500
DTSTAMP:20260423T145508
CREATED:20190408T110122Z
LAST-MODIFIED:20190429T121821Z
UID:16608-1556535600-1556545500@rsu23.org
SUMMARY:PSO Youth Concert/Merrill Auditorium
DESCRIPTION:
URL:https://rsu23.org/event/pso-youth-concert-merrill-auditorium/
CATEGORIES:Loranger Memorial
END:VEVENT
BEGIN:VEVENT
DTSTART;TZID=America/New_York:20190429T084000
DTEND;TZID=America/New_York:20190429T101500
DTSTAMP:20260423T145508
CREATED:20190423T114652Z
LAST-MODIFIED:20190429T121821Z
UID:16777-1556527200-1556532900@rsu23.org
SUMMARY:Rain Date: GATES Science grade 7 Milliken Woods\, Portland Ave\, OOB
DESCRIPTION:
URL:https://rsu23.org/event/rain-date-gates-science-grade-7-milliken-woods-portland-ave-oob/
CATEGORIES:Loranger Memorial
END:VEVENT
BEGIN:VEVENT
DTSTART;TZID=America/New_York:20190426T160000
DTEND;TZID=America/New_York:20190426T170000
DTSTAMP:20260423T145508
CREATED:20190408T105655Z
LAST-MODIFIED:20190426T134616Z
UID:16573-1556294400-1556298000@rsu23.org
SUMMARY:Varsity Baseball @Waynflete
DESCRIPTION:
URL:https://rsu23.org/event/varsity-baseball-waynflete/
CATEGORIES:OOBHS
END:VEVENT
BEGIN:VEVENT
DTSTART;TZID=America/New_York:20190426T084000
DTEND;TZID=America/New_York:20190426T101500
DTSTAMP:20260423T145508
CREATED:20190423T114652Z
LAST-MODIFIED:20190426T114815Z
UID:16776-1556268000-1556273700@rsu23.org
SUMMARY:GATES Science grade 7 Milliken Woods\, Portland Ave\, OOB
DESCRIPTION:
URL:https://rsu23.org/event/gates-science-grade-7-milliken-woods-portland-ave-oob/
CATEGORIES:Loranger Memorial
END:VEVENT
BEGIN:VEVENT
DTSTART;TZID=America/New_York:20190425T180000
DTEND;TZID=America/New_York:20190425T190000
DTSTAMP:20260423T145508
CREATED:20190408T105948Z
LAST-MODIFIED:20190425T151805Z
UID:16598-1556215200-1556218800@rsu23.org
SUMMARY:School Board meeting
DESCRIPTION:
URL:https://rsu23.org/event/school-board-meeting-11/
LOCATION:Old Orchard Beach Town Hall\, 1 Portland Ave\, Old Orchard Beach\, ME 04064\, USA\, 2 Portland Ave\, United States
CATEGORIES:Jameson Elementary
END:VEVENT
BEGIN:VEVENT
DTSTART;TZID=America/New_York:20190425T160000
DTEND;TZID=America/New_York:20190425T170000
DTSTAMP:20260423T145508
CREATED:20190408T105655Z
LAST-MODIFIED:20190425T133705Z
UID:16572-1556208000-1556211600@rsu23.org
SUMMARY:Track @ Traip 3:30pm
DESCRIPTION:
URL:https://rsu23.org/event/track-traip-330pm/
CATEGORIES:OOBHS
END:VEVENT
BEGIN:VEVENT
DTSTART;VALUE=DATE:20190425
DTEND;VALUE=DATE:20190426
DTSTAMP:20260423T145508
CREATED:20190206T204635Z
LAST-MODIFIED:20190425T114732Z
UID:14925-1556150400-1556236799@rsu23.org
SUMMARY:Spring Pictures
DESCRIPTION:
URL:https://rsu23.org/event/spring-pictures/
CATEGORIES:Loranger Memorial
END:VEVENT
BEGIN:VEVENT
DTSTART;TZID=America/New_York:20190423T160000
DTEND;TZID=America/New_York:20190423T170000
DTSTAMP:20260423T145508
CREATED:20190408T105655Z
LAST-MODIFIED:20190423T130734Z
UID:16571-1556035200-1556038800@rsu23.org
SUMMARY:Varsity Baseball and Softball @Traip
DESCRIPTION:
URL:https://rsu23.org/event/varsity-baseball-and-softball-traip/
CATEGORIES:OOBHS
END:VEVENT
BEGIN:VEVENT
DTSTART;TZID=America/New_York:20190423T093000
DTEND;TZID=America/New_York:20190423T160000
DTSTAMP:20260423T145509
CREATED:20190410T110245Z
LAST-MODIFIED:20190423T114651Z
UID:16690-1556011800-1556035200@rsu23.org
SUMMARY:Youth Day of Action
DESCRIPTION:
URL:https://rsu23.org/event/youth-day-of-action/
CATEGORIES:Loranger Memorial
END:VEVENT
BEGIN:VEVENT
DTSTART;TZID=America/New_York:20190422T160000
DTEND;TZID=America/New_York:20190422T170000
DTSTAMP:20260423T145509
CREATED:20190408T105655Z
LAST-MODIFIED:20190422T130242Z
UID:16570-1555948800-1555952400@rsu23.org
SUMMARY:Varsity Baseball and Softball Home vs. Buckfield
DESCRIPTION:
URL:https://rsu23.org/event/varsity-baseball-and-softball-home-vs-buckfield/
CATEGORIES:OOBHS
END:VEVENT
BEGIN:VEVENT
DTSTART;TZID=America/New_York:20190419T160000
DTEND;TZID=America/New_York:20190419T170000
DTSTAMP:20260423T145509
CREATED:20190408T105655Z
LAST-MODIFIED:20190419T124542Z
UID:16569-1555689600-1555693200@rsu23.org
SUMMARY:Varsity Baseball and Softball @Maranacook
DESCRIPTION:
URL:https://rsu23.org/event/varsity-baseball-and-softball-maranacook/
CATEGORIES:OOBHS
END:VEVENT
END:VCALENDAR