BEGIN:VCALENDAR
VERSION:2.0
PRODID:-//RSU 23 Old Orchard Beach Schools - ECPv6.15.18//NONSGML v1.0//EN
CALSCALE:GREGORIAN
METHOD:PUBLISH
X-WR-CALNAME:RSU 23 Old Orchard Beach Schools
X-ORIGINAL-URL:https://rsu23.org
X-WR-CALDESC:Events for RSU 23 Old Orchard Beach Schools
REFRESH-INTERVAL;VALUE=DURATION:PT1H
X-Robots-Tag:noindex
X-PUBLISHED-TTL:PT1H
BEGIN:VTIMEZONE
TZID:America/New_York
BEGIN:DAYLIGHT
TZOFFSETFROM:-0500
TZOFFSETTO:-0400
TZNAME:EDT
DTSTART:20180311T070000
END:DAYLIGHT
BEGIN:STANDARD
TZOFFSETFROM:-0400
TZOFFSETTO:-0500
TZNAME:EST
DTSTART:20181104T060000
END:STANDARD
BEGIN:DAYLIGHT
TZOFFSETFROM:-0500
TZOFFSETTO:-0400
TZNAME:EDT
DTSTART:20190310T070000
END:DAYLIGHT
BEGIN:STANDARD
TZOFFSETFROM:-0400
TZOFFSETTO:-0500
TZNAME:EST
DTSTART:20191103T060000
END:STANDARD
BEGIN:DAYLIGHT
TZOFFSETFROM:-0500
TZOFFSETTO:-0400
TZNAME:EDT
DTSTART:20200308T070000
END:DAYLIGHT
BEGIN:STANDARD
TZOFFSETFROM:-0400
TZOFFSETTO:-0500
TZNAME:EST
DTSTART:20201101T060000
END:STANDARD
END:VTIMEZONE
BEGIN:VEVENT
DTSTART;VALUE=DATE:20190609
DTEND;VALUE=DATE:20190610
DTSTAMP:20260422T221937
CREATED:20190408T110125Z
LAST-MODIFIED:20190609T164645Z
UID:16626-1560038400-1560124799@rsu23.org
SUMMARY:FOKO ORGAN LMS STAGE/GYM
DESCRIPTION:
URL:https://rsu23.org/event/foko-organ-lms-stage-gym-9/
CATEGORIES:Loranger Memorial
END:VEVENT
BEGIN:VEVENT
DTSTART;TZID=America/New_York:20190606T093000
DTEND;TZID=America/New_York:20190606T140000
DTSTAMP:20260422T221937
CREATED:20190408T110125Z
LAST-MODIFIED:20190411T110145Z
UID:16624-1559813400-1559829600@rsu23.org
SUMMARY:LMS Band Trip Sea Dogs
DESCRIPTION:
URL:https://rsu23.org/event/lms-band-trip-sea-dogs/
CATEGORIES:Loranger Memorial
END:VEVENT
BEGIN:VEVENT
DTSTART;TZID=America/New_York:20190606T073000
DTEND;TZID=America/New_York:20190606T180000
DTSTAMP:20260422T221937
CREATED:20190408T110125Z
LAST-MODIFIED:20190606T162227Z
UID:16625-1559806200-1559844000@rsu23.org
SUMMARY:6-8 Chorus and Band to Canobie Lake
DESCRIPTION:
URL:https://rsu23.org/event/6-8-chorus-and-band-to-canobie-lake/
CATEGORIES:Loranger Memorial
END:VEVENT
BEGIN:VEVENT
DTSTART;TZID=America/New_York:20190605T180000
DTEND;TZID=America/New_York:20190605T200000
DTSTAMP:20260422T221937
CREATED:20190408T110125Z
LAST-MODIFIED:20190606T162227Z
UID:16623-1559757600-1559764800@rsu23.org
SUMMARY:Loranger Evening of Arts
DESCRIPTION:
URL:https://rsu23.org/event/loranger-evening-of-arts/
CATEGORIES:Loranger Memorial
END:VEVENT
BEGIN:VEVENT
DTSTART;TZID=America/New_York:20190605T120000
DTEND;TZID=America/New_York:20190605T133000
DTSTAMP:20260422T221937
CREATED:20190524T150117Z
LAST-MODIFIED:20190605T161846Z
UID:16964-1559736000-1559741400@rsu23.org
SUMMARY:S. Wilder - Ecology Class (Milliken Mills)
DESCRIPTION:
URL:https://rsu23.org/event/s-wilder-ecology-class-milliken-mills/
CATEGORIES:Loranger Memorial
END:VEVENT
BEGIN:VEVENT
DTSTART;TZID=America/New_York:20190604T083000
DTEND;TZID=America/New_York:20190604T135000
DTSTAMP:20260422T221937
CREATED:20190411T110145Z
LAST-MODIFIED:20190604T161537Z
UID:16709-1559637000-1559656200@rsu23.org
SUMMARY:Duck Tours - Portland (Grade 7)
DESCRIPTION:
URL:https://rsu23.org/event/duck-tours-portland-grade-7/
CATEGORIES:Loranger Memorial
END:VEVENT
BEGIN:VEVENT
DTSTART;TZID=America/New_York:20190603T143000
DTEND;TZID=America/New_York:20190603T153000
DTSTAMP:20260422T221937
CREATED:20190408T110125Z
LAST-MODIFIED:20190603T160543Z
UID:16622-1559572200-1559575800@rsu23.org
SUMMARY:Glee Club Rehearsal
DESCRIPTION:
URL:https://rsu23.org/event/glee-club-rehearsal-4/
CATEGORIES:Loranger Memorial
END:VEVENT
BEGIN:VEVENT
DTSTART;TZID=America/New_York:20190531T080000
DTEND;TZID=America/New_York:20190531T170000
DTSTAMP:20260422T221937
CREATED:20190408T110124Z
LAST-MODIFIED:20190530T153134Z
UID:16621-1559289600-1559322000@rsu23.org
SUMMARY:Funtown Music Festival
DESCRIPTION:
URL:https://rsu23.org/event/funtown-music-festival/
CATEGORIES:Loranger Memorial
END:VEVENT
BEGIN:VEVENT
DTSTART;TZID=America/New_York:20190529T180000
DTEND;TZID=America/New_York:20190529T200000
DTSTAMP:20260422T221937
CREATED:20190408T110124Z
LAST-MODIFIED:20190530T153134Z
UID:16620-1559152800-1559160000@rsu23.org
SUMMARY:Loranger Talent Show
DESCRIPTION:
URL:https://rsu23.org/event/loranger-talent-show-2/
CATEGORIES:Loranger Memorial
END:VEVENT
BEGIN:VEVENT
DTSTART;TZID=America/New_York:20190528T083000
DTEND;TZID=America/New_York:20190528T131500
DTSTAMP:20260422T221937
CREATED:20190227T173241Z
LAST-MODIFIED:20190528T153244Z
UID:16303-1559032200-1559049300@rsu23.org
SUMMARY:Grade 4 Field Trip (Maine Wildlife Park)
DESCRIPTION:
URL:https://rsu23.org/event/grade-4-field-trip-maine-wildlife-park/
CATEGORIES:Loranger Memorial
END:VEVENT
BEGIN:VEVENT
DTSTART;TZID=America/New_York:20190527T150000
DTEND;TZID=America/New_York:20190527T160000
DTSTAMP:20260422T221937
CREATED:20190408T105658Z
LAST-MODIFIED:20190527T153027Z
UID:16591-1558969200-1558972800@rsu23.org
SUMMARY:Varsity Baseball and Softball Home vs. Sacopee 3pm
DESCRIPTION:
URL:https://rsu23.org/event/varsity-baseball-and-softball-home-vs-sacopee-3pm/
CATEGORIES:OOBHS
END:VEVENT
BEGIN:VEVENT
DTSTART;VALUE=DATE:20190527
DTEND;VALUE=DATE:20190528
DTSTAMP:20260422T221937
CREATED:20190226T005034Z
LAST-MODIFIED:20190527T154812Z
UID:16067-1558915200-1559001599@rsu23.org
SUMMARY:No school - Memorial Day
DESCRIPTION:
URL:https://rsu23.org/event/no-school-memorial-day/
CATEGORIES:Jameson Elementary
END:VEVENT
BEGIN:VEVENT
DTSTART;TZID=America/New_York:20190525T100000
DTEND;TZID=America/New_York:20190525T110000
DTSTAMP:20260422T221937
CREATED:20190408T105658Z
LAST-MODIFIED:20190525T151608Z
UID:16590-1558778400-1558782000@rsu23.org
SUMMARY:Track @Lake Region 10am
DESCRIPTION:
URL:https://rsu23.org/event/track-lake-region-10am/
CATEGORIES:OOBHS
END:VEVENT
BEGIN:VEVENT
DTSTART;TZID=America/New_York:20190524T160000
DTEND;TZID=America/New_York:20190524T170000
DTSTAMP:20260422T221937
CREATED:20190408T105658Z
LAST-MODIFIED:20190524T150116Z
UID:16589-1558713600-1558717200@rsu23.org
SUMMARY:Varsity Softball @Traip 4pm Varsity Baseball Home vs Richmond
DESCRIPTION:
URL:https://rsu23.org/event/varsity-softball-traip-4pm-varsity-baseball-home-vs-richmond/
CATEGORIES:OOBHS
END:VEVENT
BEGIN:VEVENT
DTSTART;TZID=America/New_York:20190524T084500
DTEND;TZID=America/New_York:20190524T133000
DTSTAMP:20260422T221937
CREATED:20190515T133000Z
LAST-MODIFIED:20190524T150116Z
UID:16899-1558687500-1558704600@rsu23.org
SUMMARY:7th Grade Tide Pools @ Biddeford Pool
DESCRIPTION:
URL:https://rsu23.org/event/7th-grade-tide-pools-biddeford-pool/
CATEGORIES:Loranger Memorial
END:VEVENT
BEGIN:VEVENT
DTSTART;TZID=America/New_York:20190524T083000
DTEND;TZID=America/New_York:20190524T134500
DTSTAMP:20260422T221937
CREATED:20190408T110124Z
LAST-MODIFIED:20190524T150116Z
UID:16618-1558686600-1558705500@rsu23.org
SUMMARY:Grade 5 to Camp Kieve
DESCRIPTION:
URL:https://rsu23.org/event/grade-5-to-camp-kieve/
CATEGORIES:Loranger Memorial
END:VEVENT
BEGIN:VEVENT
DTSTART;TZID=America/New_York:20190522T160000
DTEND;TZID=America/New_York:20190522T170000
DTSTAMP:20260422T221937
CREATED:20190408T105658Z
LAST-MODIFIED:20190522T150247Z
UID:16588-1558540800-1558544400@rsu23.org
SUMMARY:Varsity Baseball and Softball home games 4pm
DESCRIPTION:
URL:https://rsu23.org/event/varsity-baseball-and-softball-home-games-4pm-2/
CATEGORIES:OOBHS
END:VEVENT
BEGIN:VEVENT
DTSTART;TZID=America/New_York:20190522T100000
DTEND;TZID=America/New_York:20190522T140000
DTSTAMP:20260422T221937
CREATED:20190408T110124Z
LAST-MODIFIED:20190522T143602Z
UID:16617-1558519200-1558533600@rsu23.org
SUMMARY:6th Community Event
DESCRIPTION:
URL:https://rsu23.org/event/6th-community-event/
CATEGORIES:Loranger Memorial
END:VEVENT
BEGIN:VEVENT
DTSTART;TZID=America/New_York:20190521T083000
DTEND;TZID=America/New_York:20190521T143000
DTSTAMP:20260422T221937
CREATED:20190408T110124Z
LAST-MODIFIED:20190521T142219Z
UID:16616-1558427400-1558449000@rsu23.org
SUMMARY:Civil Rights & Grade 8 GT Workshop & Museum
DESCRIPTION:
URL:https://rsu23.org/event/civil-rights-grade-8-gt-workshop-museum/
CATEGORIES:Loranger Memorial
END:VEVENT
BEGIN:VEVENT
DTSTART;TZID=America/New_York:20190520T160000
DTEND;TZID=America/New_York:20190520T170000
DTSTAMP:20260422T221937
CREATED:20190408T105658Z
LAST-MODIFIED:20190520T143258Z
UID:16587-1558368000-1558371600@rsu23.org
SUMMARY:Varsity Baseball and Softball Home games 4pm
DESCRIPTION:
URL:https://rsu23.org/event/varsity-baseball-and-softball-home-games-4pm/
CATEGORIES:OOBHS
END:VEVENT
BEGIN:VEVENT
DTSTART;VALUE=DATE:20190519
DTEND;VALUE=DATE:20190520
DTSTAMP:20260422T221937
CREATED:20190131T001128Z
LAST-MODIFIED:20190519T140813Z
UID:14494-1558224000-1558310399@rsu23.org
SUMMARY:FOKO ORGAN LMS STAGE/GYM
DESCRIPTION:
URL:https://rsu23.org/event/foko-organ-lms-stage-gym-8/
CATEGORIES:Loranger Memorial
END:VEVENT
BEGIN:VEVENT
DTSTART;TZID=America/New_York:20190517T160000
DTEND;TZID=America/New_York:20190517T170000
DTSTAMP:20260422T221937
CREATED:20190408T105658Z
LAST-MODIFIED:20190517T140144Z
UID:16586-1558108800-1558112400@rsu23.org
SUMMARY:Varsity Baseball and Softball @York 4:30pm
DESCRIPTION:
URL:https://rsu23.org/event/varsity-baseball-and-softball-york-430pm/
CATEGORIES:OOBHS
END:VEVENT
BEGIN:VEVENT
DTSTART;TZID=America/New_York:20190517T150000
DTEND;TZID=America/New_York:20190517T160000
DTSTAMP:20260422T221937
CREATED:20190408T105657Z
LAST-MODIFIED:20190517T140144Z
UID:16585-1558105200-1558108800@rsu23.org
SUMMARY:Track @York 3:30pm
DESCRIPTION:
URL:https://rsu23.org/event/track-york-330pm/
CATEGORIES:OOBHS
END:VEVENT
BEGIN:VEVENT
DTSTART;TZID=America/New_York:20190517T083000
DTEND;TZID=America/New_York:20190517T143000
DTSTAMP:20260422T221937
CREATED:20190408T110124Z
LAST-MODIFIED:20190517T134656Z
UID:16615-1558081800-1558103400@rsu23.org
SUMMARY:Grade 6 GT/So. Maine Water Festival
DESCRIPTION:
URL:https://rsu23.org/event/grade-6-gt-so-maine-water-festival/
CATEGORIES:Loranger Memorial
END:VEVENT
BEGIN:VEVENT
DTSTART;TZID=America/New_York:20190516T180000
DTEND;TZID=America/New_York:20190516T190000
DTSTAMP:20260422T221937
CREATED:20190215T001703Z
LAST-MODIFIED:20190516T135341Z
UID:15459-1558029600-1558033200@rsu23.org
SUMMARY:School Board meeting
DESCRIPTION:
URL:https://rsu23.org/event/school-board-meeting-10/
LOCATION:Old Orchard Beach Town Hall\, 1 Portland Ave\, Old Orchard Beach\, ME 04064\, USA\, 2 Portland Ave\, United States
CATEGORIES:Jameson Elementary
END:VEVENT
BEGIN:VEVENT
DTSTART;TZID=America/New_York:20190515T160000
DTEND;TZID=America/New_York:20190515T170000
DTSTAMP:20260422T221937
CREATED:20190408T105657Z
LAST-MODIFIED:20190515T133933Z
UID:16584-1557936000-1557939600@rsu23.org
SUMMARY:Varsity Baseball and Softball @Lake Region
DESCRIPTION:
URL:https://rsu23.org/event/varsity-baseball-and-softball-lake-region/
CATEGORIES:OOBHS
END:VEVENT
BEGIN:VEVENT
DTSTART;TZID=America/New_York:20190514T180000
DTEND;TZID=America/New_York:20190514T190000
DTSTAMP:20260422T221937
CREATED:20190507T232654Z
LAST-MODIFIED:20190510T234949Z
UID:16859-1557856800-1557860400@rsu23.org
SUMMARY:Regional Budget Meeting
DESCRIPTION:
URL:https://rsu23.org/event/regional-budget-meeting/
LOCATION:Old Orchard Beach High School\, 40 Emerson Cummings Blvd\, Old Orchard Beach\, ME 04064\, USA\, 2 Emerson Dr\, United States
CATEGORIES:Jameson Elementary
END:VEVENT
BEGIN:VEVENT
DTSTART;TZID=America/New_York:20190514T180000
DTEND;TZID=America/New_York:20190514T190000
DTSTAMP:20260422T221937
CREATED:20190430T140142Z
LAST-MODIFIED:20190515T132556Z
UID:16812-1557856800-1557860400@rsu23.org
SUMMARY:Regional Budget Mtg. at High School
DESCRIPTION:If you live and vote in town\, please vote! And bring your family members that can vote to support the proposed budget.
URL:https://rsu23.org/event/regional-budget-mtg-at-high-school/
LOCATION:OOBHS Cafe
CATEGORIES:OOBHS
END:VEVENT
BEGIN:VEVENT
DTSTART;TZID=America/New_York:20190513T160000
DTEND;TZID=America/New_York:20190513T170000
DTSTAMP:20260422T221937
CREATED:20190408T105657Z
LAST-MODIFIED:20190515T132556Z
UID:16583-1557763200-1557766800@rsu23.org
SUMMARY:Varsity Baseball and Softball @Sacopee
DESCRIPTION:
URL:https://rsu23.org/event/varsity-baseball-and-softball-sacopee/
CATEGORIES:OOBHS
END:VEVENT
BEGIN:VEVENT
DTSTART;TZID=America/New_York:20190513T143000
DTEND;TZID=America/New_York:20190513T153000
DTSTAMP:20260422T221937
CREATED:20190408T110123Z
LAST-MODIFIED:20190510T232442Z
UID:16613-1557757800-1557761400@rsu23.org
SUMMARY:Glee Club Rehearsal
DESCRIPTION:
URL:https://rsu23.org/event/glee-club-rehearsal-3/
CATEGORIES:Loranger Memorial
END:VEVENT
END:VCALENDAR