BEGIN:VCALENDAR
VERSION:2.0
PRODID:-//RSU 23 Old Orchard Beach Schools - ECPv6.15.18//NONSGML v1.0//EN
CALSCALE:GREGORIAN
METHOD:PUBLISH
X-WR-CALNAME:RSU 23 Old Orchard Beach Schools
X-ORIGINAL-URL:https://rsu23.org
X-WR-CALDESC:Events for RSU 23 Old Orchard Beach Schools
REFRESH-INTERVAL;VALUE=DURATION:PT1H
X-Robots-Tag:noindex
X-PUBLISHED-TTL:PT1H
BEGIN:VTIMEZONE
TZID:America/New_York
BEGIN:DAYLIGHT
TZOFFSETFROM:-0500
TZOFFSETTO:-0400
TZNAME:EDT
DTSTART:20180311T070000
END:DAYLIGHT
BEGIN:STANDARD
TZOFFSETFROM:-0400
TZOFFSETTO:-0500
TZNAME:EST
DTSTART:20181104T060000
END:STANDARD
BEGIN:DAYLIGHT
TZOFFSETFROM:-0500
TZOFFSETTO:-0400
TZNAME:EDT
DTSTART:20190310T070000
END:DAYLIGHT
BEGIN:STANDARD
TZOFFSETFROM:-0400
TZOFFSETTO:-0500
TZNAME:EST
DTSTART:20191103T060000
END:STANDARD
BEGIN:DAYLIGHT
TZOFFSETFROM:-0500
TZOFFSETTO:-0400
TZNAME:EDT
DTSTART:20200308T070000
END:DAYLIGHT
BEGIN:STANDARD
TZOFFSETFROM:-0400
TZOFFSETTO:-0500
TZNAME:EST
DTSTART:20201101T060000
END:STANDARD
BEGIN:DAYLIGHT
TZOFFSETFROM:-0500
TZOFFSETTO:-0400
TZNAME:EDT
DTSTART:20210314T070000
END:DAYLIGHT
BEGIN:STANDARD
TZOFFSETFROM:-0400
TZOFFSETTO:-0500
TZNAME:EST
DTSTART:20211107T060000
END:STANDARD
END:VTIMEZONE
BEGIN:VEVENT
DTSTART;TZID=America/New_York:20200101T093000
DTEND;TZID=America/New_York:20200101T100000
DTSTAMP:20260422T222559
CREATED:20191106T190135Z
LAST-MODIFIED:20191218T131726Z
UID:18226-1577871000-1577872800@rsu23.org
SUMMARY:Time with Teachers
DESCRIPTION:
URL:https://rsu23.org/event/time-with-teachers-3/
CATEGORIES:Jameson Elementary
END:VEVENT
BEGIN:VEVENT
DTSTART;VALUE=DATE:20200101
DTEND;VALUE=DATE:20200102
DTSTAMP:20260422T222559
CREATED:20191104T133016Z
LAST-MODIFIED:20191228T143236Z
UID:18049-1577836800-1577923199@rsu23.org
SUMMARY:Early Release Day
DESCRIPTION:Students dismissed at 11:30am\, already having eaten lunch.
URL:https://rsu23.org/event/early-release-day-10/
CATEGORIES:Jameson Elementary
END:VEVENT
BEGIN:VEVENT
DTSTART;TZID=America/New_York:20191230T180000
DTEND;TZID=America/New_York:20191230T193000
DTSTAMP:20260422T222559
CREATED:20191210T023140Z
LAST-MODIFIED:20191223T234847Z
UID:20558-1577728800-1577734200@rsu23.org
SUMMARY:Var. girls BB @Poland
DESCRIPTION:
URL:https://rsu23.org/event/var-girls-bb-poland/
CATEGORIES:OOBHS
END:VEVENT
BEGIN:VEVENT
DTSTART;TZID=America/New_York:20191230T163000
DTEND;TZID=America/New_York:20191230T180000
DTSTAMP:20260422T222559
CREATED:20191210T023140Z
LAST-MODIFIED:20191223T234846Z
UID:20557-1577723400-1577728800@rsu23.org
SUMMARY:JV girls basketball @Poland
DESCRIPTION:
URL:https://rsu23.org/event/jv-girls-basketball-poland/
CATEGORIES:OOBHS
END:VEVENT
BEGIN:VEVENT
DTSTART;TZID=America/New_York:20191227T180000
DTEND;TZID=America/New_York:20191227T193000
DTSTAMP:20260422T222559
CREATED:20191210T023140Z
LAST-MODIFIED:20191220T193007Z
UID:20556-1577469600-1577475000@rsu23.org
SUMMARY:Var. boys BB @Poland
DESCRIPTION:
URL:https://rsu23.org/event/var-boys-bb-poland/
CATEGORIES:OOBHS
END:VEVENT
BEGIN:VEVENT
DTSTART;TZID=America/New_York:20191227T163000
DTEND;TZID=America/New_York:20191227T180000
DTSTAMP:20260422T222559
CREATED:20191210T023140Z
LAST-MODIFIED:20191220T193007Z
UID:20555-1577464200-1577469600@rsu23.org
SUMMARY:JV boys BB @Poland
DESCRIPTION:
URL:https://rsu23.org/event/jv-boys-bb-poland/
CATEGORIES:OOBHS
END:VEVENT
BEGIN:VEVENT
DTSTART;TZID=America/New_York:20191227T081000
DTEND;TZID=America/New_York:20191227T083000
DTSTAMP:20260422T222559
CREATED:20191101T160129Z
LAST-MODIFIED:20191218T131725Z
UID:17829-1577434200-1577435400@rsu23.org
SUMMARY:Jameson Assembly
DESCRIPTION:
URL:https://rsu23.org/event/jameson-assembly-9/
CATEGORIES:Jameson Elementary
END:VEVENT
BEGIN:VEVENT
DTSTART;VALUE=DATE:20191223
DTEND;VALUE=DATE:20200102
DTSTAMP:20260422T222559
CREATED:20191104T143100Z
LAST-MODIFIED:20191230T234459Z
UID:18064-1577059200-1577923199@rsu23.org
SUMMARY:No School: Holiday break
DESCRIPTION:
URL:https://rsu23.org/event/no-school-holiday-break/
CATEGORIES:Jameson Elementary
END:VEVENT
BEGIN:VEVENT
DTSTART;TZID=America/New_York:20191220T190000
DTEND;TZID=America/New_York:20191220T203000
DTSTAMP:20260422T222559
CREATED:20191210T023140Z
LAST-MODIFIED:20191221T234558Z
UID:20554-1576868400-1576873800@rsu23.org
SUMMARY:Var. boys BB v. Lake Region Home
DESCRIPTION:
URL:https://rsu23.org/event/var-boys-bb-v-lake-region-home/
CATEGORIES:OOBHS
END:VEVENT
BEGIN:VEVENT
DTSTART;TZID=America/New_York:20191220T173000
DTEND;TZID=America/New_York:20191220T190000
DTSTAMP:20260422T222559
CREATED:20191210T023140Z
LAST-MODIFIED:20191221T234558Z
UID:20553-1576863000-1576868400@rsu23.org
SUMMARY:JV boys BB v. Lake Region Home
DESCRIPTION:
URL:https://rsu23.org/event/jv-boys-bb-v-lake-region-home/
CATEGORIES:OOBHS
END:VEVENT
BEGIN:VEVENT
DTSTART;TZID=America/New_York:20191220T081000
DTEND;TZID=America/New_York:20191220T083000
DTSTAMP:20260422T222559
CREATED:20191101T160129Z
LAST-MODIFIED:20191220T234731Z
UID:17828-1576829400-1576830600@rsu23.org
SUMMARY:Jameson Assembly
DESCRIPTION:
URL:https://rsu23.org/event/jameson-assembly-8/
CATEGORIES:Jameson Elementary
END:VEVENT
BEGIN:VEVENT
DTSTART;TZID=America/New_York:20191219T190000
DTEND;TZID=America/New_York:20191219T203000
DTSTAMP:20260422T222559
CREATED:20191210T023140Z
LAST-MODIFIED:20191220T233129Z
UID:20552-1576782000-1576787400@rsu23.org
SUMMARY:Var girls BB @ LAke Region
DESCRIPTION:
URL:https://rsu23.org/event/var-girls-bb-lake-region/
CATEGORIES:OOBHS
END:VEVENT
BEGIN:VEVENT
DTSTART;TZID=America/New_York:20191219T180000
DTEND;TZID=America/New_York:20191219T190000
DTSTAMP:20260422T222559
CREATED:20190920T024945Z
LAST-MODIFIED:20191219T230154Z
UID:17525-1576778400-1576782000@rsu23.org
SUMMARY:School Board meeting
DESCRIPTION:
URL:https://rsu23.org/event/school-board-meeting-19/
LOCATION:Old Orchard Beach Town Hall\, 1 Portland Ave\, Old Orchard Beach\, ME 04064\, USA\, 2 Portland Ave\, United States
CATEGORIES:Jameson Elementary
END:VEVENT
BEGIN:VEVENT
DTSTART;TZID=America/New_York:20191219T173000
DTEND;TZID=America/New_York:20191219T190000
DTSTAMP:20260422T222559
CREATED:20191210T023140Z
LAST-MODIFIED:20191220T233129Z
UID:20551-1576776600-1576782000@rsu23.org
SUMMARY:JV girls BB @Lake Region
DESCRIPTION:
URL:https://rsu23.org/event/jv-girls-bb-lake-region/
CATEGORIES:OOBHS
END:VEVENT
BEGIN:VEVENT
DTSTART;TZID=America/New_York:20191218T180000
DTEND;TZID=America/New_York:20191218T190000
DTSTAMP:20260422T222559
CREATED:20190912T013144Z
LAST-MODIFIED:20191219T234605Z
UID:17462-1576692000-1576695600@rsu23.org
SUMMARY:Loranger 3-8 Holiday Concert LMS Gym (rescheduled from 12/11)
DESCRIPTION:
URL:https://rsu23.org/event/loranger-holiday-concert-lms-gym/
CATEGORIES:Loranger Memorial
END:VEVENT
BEGIN:VEVENT
DTSTART;TZID=America/New_York:20191217T190000
DTEND;TZID=America/New_York:20191217T203000
DTSTAMP:20260422T222559
CREATED:20191210T023140Z
LAST-MODIFIED:20191218T234609Z
UID:20550-1576609200-1576614600@rsu23.org
SUMMARY:Var. boys BB @Wells
DESCRIPTION:
URL:https://rsu23.org/event/var-boys-bb-wells/
CATEGORIES:OOBHS
END:VEVENT
BEGIN:VEVENT
DTSTART;TZID=America/New_York:20191217T173000
DTEND;TZID=America/New_York:20191217T190000
DTSTAMP:20260422T222559
CREATED:20191210T023139Z
LAST-MODIFIED:20191218T234609Z
UID:20549-1576603800-1576609200@rsu23.org
SUMMARY:JV boys BB @Wells
DESCRIPTION:
URL:https://rsu23.org/event/jv-boys-bb-wells/
CATEGORIES:OOBHS
END:VEVENT
BEGIN:VEVENT
DTSTART;TZID=America/New_York:20191216T190000
DTEND;TZID=America/New_York:20191216T203000
DTSTAMP:20260422T222559
CREATED:20191210T023139Z
LAST-MODIFIED:20191217T234511Z
UID:20548-1576522800-1576528200@rsu23.org
SUMMARY:Var. girls BB v. Wells home
DESCRIPTION:
URL:https://rsu23.org/event/var-girls-bb-v-wells-home/
CATEGORIES:OOBHS
END:VEVENT
BEGIN:VEVENT
DTSTART;TZID=America/New_York:20191216T173000
DTEND;TZID=America/New_York:20191216T190000
DTSTAMP:20260422T222559
CREATED:20191210T023139Z
LAST-MODIFIED:20191217T234511Z
UID:20547-1576517400-1576522800@rsu23.org
SUMMARY:JV girls v. Wells home
DESCRIPTION:
URL:https://rsu23.org/event/jv-girls-v-wells-home/
CATEGORIES:OOBHS
END:VEVENT
BEGIN:VEVENT
DTSTART;TZID=America/New_York:20191216T141500
DTEND;TZID=America/New_York:20191216T152000
DTSTAMP:20260422T222559
CREATED:20191104T225958Z
LAST-MODIFIED:20191216T224556Z
UID:18095-1576505700-1576509600@rsu23.org
SUMMARY:3-5 Glee Club Rehearsal
DESCRIPTION:
URL:https://rsu23.org/event/3-5-glee-club-rehearsal-5/
CATEGORIES:Loranger Memorial
END:VEVENT
BEGIN:VEVENT
DTSTART;TZID=America/New_York:20191213T190000
DTEND;TZID=America/New_York:20191213T203000
DTSTAMP:20260422T222559
CREATED:20191210T023139Z
LAST-MODIFIED:20191214T230005Z
UID:20546-1576263600-1576269000@rsu23.org
SUMMARY:Var. boys BB v Flete home
DESCRIPTION:
URL:https://rsu23.org/event/var-boys-bb-v-flete-home/
CATEGORIES:OOBHS
END:VEVENT
BEGIN:VEVENT
DTSTART;TZID=America/New_York:20191213T173000
DTEND;TZID=America/New_York:20191213T190000
DTSTAMP:20260422T222559
CREATED:20191210T023139Z
LAST-MODIFIED:20191214T230004Z
UID:20544-1576258200-1576263600@rsu23.org
SUMMARY:JV boys BB v. Flete home
DESCRIPTION:
URL:https://rsu23.org/event/jv-boys-bb-v-flete-home/
CATEGORIES:OOBHS
END:VEVENT
BEGIN:VEVENT
DTSTART;TZID=America/New_York:20191213T173000
DTEND;TZID=America/New_York:20191213T190000
DTSTAMP:20260422T222559
CREATED:20191210T023139Z
LAST-MODIFIED:20191214T230005Z
UID:20545-1576258200-1576263600@rsu23.org
SUMMARY:Var. giels BB @ Flete
DESCRIPTION:
URL:https://rsu23.org/event/var-giels-bb-flete/
CATEGORIES:OOBHS
END:VEVENT
BEGIN:VEVENT
DTSTART;TZID=America/New_York:20191213T160000
DTEND;TZID=America/New_York:20191213T173000
DTSTAMP:20260422T222559
CREATED:20191210T023139Z
LAST-MODIFIED:20191213T224714Z
UID:20543-1576252800-1576258200@rsu23.org
SUMMARY:JV girls BB @Flete
DESCRIPTION:
URL:https://rsu23.org/event/jv-girls-bb-flete/
CATEGORIES:OOBHS
END:VEVENT
BEGIN:VEVENT
DTSTART;TZID=America/New_York:20191213T081000
DTEND;TZID=America/New_York:20191213T083000
DTSTAMP:20260422T222559
CREATED:20191101T160129Z
LAST-MODIFIED:20191213T231527Z
UID:17827-1576224600-1576225800@rsu23.org
SUMMARY:Jameson Assembly
DESCRIPTION:
URL:https://rsu23.org/event/jameson-assembly-7/
CATEGORIES:Jameson Elementary
END:VEVENT
BEGIN:VEVENT
DTSTART;TZID=America/New_York:20191210T190000
DTEND;TZID=America/New_York:20191210T203000
DTSTAMP:20260422T222559
CREATED:20191210T023139Z
LAST-MODIFIED:20191211T231458Z
UID:20542-1576004400-1576009800@rsu23.org
SUMMARY:Var. Boys BB v. Richmond Home
DESCRIPTION:
URL:https://rsu23.org/event/var-boys-bb-v-richmond-home/
CATEGORIES:OOBHS
END:VEVENT
BEGIN:VEVENT
DTSTART;TZID=America/New_York:20191210T173000
DTEND;TZID=America/New_York:20191210T190000
DTSTAMP:20260422T222559
CREATED:20191210T023139Z
LAST-MODIFIED:20191211T231458Z
UID:20541-1575999000-1576004400@rsu23.org
SUMMARY:Var. Girls BB v. Richmond Home
DESCRIPTION:
URL:https://rsu23.org/event/var-girls-bb-v-richmond-home/
CATEGORIES:OOBHS
END:VEVENT
BEGIN:VEVENT
DTSTART;TZID=America/New_York:20191209T141500
DTEND;TZID=America/New_York:20191209T152000
DTSTAMP:20260422T222559
CREATED:20191104T225958Z
LAST-MODIFIED:20191209T230044Z
UID:18094-1575900900-1575904800@rsu23.org
SUMMARY:3-5 Glee Club Rehearsal
DESCRIPTION:
URL:https://rsu23.org/event/3-5-glee-club-rehearsal-4/
CATEGORIES:Loranger Memorial
END:VEVENT
BEGIN:VEVENT
DTSTART;TZID=America/New_York:20191209T084000
DTEND;TZID=America/New_York:20191209T101000
DTSTAMP:20260422T222559
CREATED:20191118T183021Z
LAST-MODIFIED:20191209T234620Z
UID:19060-1575880800-1575886200@rsu23.org
SUMMARY:2nd Grade field trip to Festival of Trees
DESCRIPTION:
URL:https://rsu23.org/event/2nd-grade-field-trip-to-festival-of-trees/
LOCATION:Saco Museum\, 371 Main St\, Saco\, ME 04072\, USA\, 2 Main Ave\, United States
CATEGORIES:Jameson Elementary
END:VEVENT
BEGIN:VEVENT
DTSTART;VALUE=DATE:20191209
DTEND;VALUE=DATE:20191210
DTSTAMP:20260422T222600
CREATED:20191104T133015Z
LAST-MODIFIED:20191209T234620Z
UID:18048-1575849600-1575935999@rsu23.org
SUMMARY:Report Cards go home
DESCRIPTION:
URL:https://rsu23.org/event/report-cards-go-home/
CATEGORIES:Jameson Elementary
END:VEVENT
END:VCALENDAR