BEGIN:VCALENDAR
VERSION:2.0
PRODID:-//RSU 23 Old Orchard Beach Schools - ECPv6.15.18//NONSGML v1.0//EN
CALSCALE:GREGORIAN
METHOD:PUBLISH
X-WR-CALNAME:RSU 23 Old Orchard Beach Schools
X-ORIGINAL-URL:https://rsu23.org
X-WR-CALDESC:Events for RSU 23 Old Orchard Beach Schools
REFRESH-INTERVAL;VALUE=DURATION:PT1H
X-Robots-Tag:noindex
X-PUBLISHED-TTL:PT1H
BEGIN:VTIMEZONE
TZID:America/New_York
BEGIN:DAYLIGHT
TZOFFSETFROM:-0500
TZOFFSETTO:-0400
TZNAME:EDT
DTSTART:20180311T070000
END:DAYLIGHT
BEGIN:STANDARD
TZOFFSETFROM:-0400
TZOFFSETTO:-0500
TZNAME:EST
DTSTART:20181104T060000
END:STANDARD
BEGIN:DAYLIGHT
TZOFFSETFROM:-0500
TZOFFSETTO:-0400
TZNAME:EDT
DTSTART:20190310T070000
END:DAYLIGHT
BEGIN:STANDARD
TZOFFSETFROM:-0400
TZOFFSETTO:-0500
TZNAME:EST
DTSTART:20191103T060000
END:STANDARD
BEGIN:DAYLIGHT
TZOFFSETFROM:-0500
TZOFFSETTO:-0400
TZNAME:EDT
DTSTART:20200308T070000
END:DAYLIGHT
BEGIN:STANDARD
TZOFFSETFROM:-0400
TZOFFSETTO:-0500
TZNAME:EST
DTSTART:20201101T060000
END:STANDARD
END:VTIMEZONE
BEGIN:VEVENT
DTSTART;TZID=America/New_York:20190911T190000
DTEND;TZID=America/New_York:20190911T200000
DTSTAMP:20260423T065431
CREATED:20190723T204509Z
LAST-MODIFIED:20190912T013143Z
UID:17200-1568228400-1568232000@rsu23.org
SUMMARY:LMS Grades 6-8 Athletics Parent Meeting in GYM
DESCRIPTION:
URL:https://rsu23.org/event/lms-grades-6-8-athletics-parent-meeing/
CATEGORIES:Loranger Memorial
END:VEVENT
BEGIN:VEVENT
DTSTART;TZID=America/New_York:20190911T180000
DTEND;TZID=America/New_York:20190911T190000
DTSTAMP:20260423T065431
CREATED:20190723T204509Z
LAST-MODIFIED:20190911T013220Z
UID:17199-1568224800-1568228400@rsu23.org
SUMMARY:LMS OPEN HOUSE
DESCRIPTION:
URL:https://rsu23.org/event/lms-open-house/
CATEGORIES:Loranger Memorial
END:VEVENT
BEGIN:VEVENT
DTSTART;TZID=America/New_York:20190908T080000
DTEND;TZID=America/New_York:20190908T170000
DTSTAMP:20260423T065431
CREATED:20190611T164834Z
LAST-MODIFIED:20190908T010427Z
UID:17032-1567929600-1567962000@rsu23.org
SUMMARY:FOKO on Stage
DESCRIPTION:
URL:https://rsu23.org/event/foko-on-stage-2/
CATEGORIES:Loranger Memorial
END:VEVENT
BEGIN:VEVENT
DTSTART;TZID=America/New_York:20190819T170000
DTEND;TZID=America/New_York:20190819T180000
DTSTAMP:20260423T065431
CREATED:20190812T224456Z
LAST-MODIFIED:20190819T231626Z
UID:17316-1566234000-1566237600@rsu23.org
SUMMARY:CCC Football Meeting GNG High School
DESCRIPTION:
URL:https://rsu23.org/event/ccc-football-meeting-gng-high-school/
CATEGORIES:Loranger Memorial
END:VEVENT
BEGIN:VEVENT
DTSTART;TZID=America/New_York:20190815T180000
DTEND;TZID=America/New_York:20190815T190000
DTSTAMP:20260423T065431
CREATED:20190517T140145Z
LAST-MODIFIED:20190815T231547Z
UID:16910-1565892000-1565895600@rsu23.org
SUMMARY:School Board meeting
DESCRIPTION:
URL:https://rsu23.org/event/school-board-meeting-14/
LOCATION:Old Orchard Beach Town Hall\, 1 Portland Ave\, Old Orchard Beach\, ME 04064\, USA\, 2 Portland Ave\, United States
CATEGORIES:Jameson Elementary
END:VEVENT
BEGIN:VEVENT
DTSTART;TZID=America/New_York:20190718T180000
DTEND;TZID=America/New_York:20190718T190000
DTSTAMP:20260423T065431
CREATED:20190419T141754Z
LAST-MODIFIED:20190711T204501Z
UID:16757-1563472800-1563476400@rsu23.org
SUMMARY:School Board meeting
DESCRIPTION:
URL:https://rsu23.org/event/school-board-meeting-13/
LOCATION:Old Orchard Beach Town Hall\, 1 Portland Ave\, Old Orchard Beach\, ME 04064\, USA\, 2 Portland Ave\, United States
CATEGORIES:Jameson Elementary
END:VEVENT
BEGIN:VEVENT
DTSTART;TZID=America/New_York:20190714T080000
DTEND;TZID=America/New_York:20190714T170000
DTSTAMP:20260423T065431
CREATED:20190611T164834Z
LAST-MODIFIED:20190714T194625Z
UID:17031-1563091200-1563123600@rsu23.org
SUMMARY:FOKO on Stage
DESCRIPTION:
URL:https://rsu23.org/event/foko-on-stage/
CATEGORIES:Loranger Memorial
END:VEVENT
BEGIN:VEVENT
DTSTART;TZID=America/New_York:20190620T180000
DTEND;TZID=America/New_York:20190620T190000
DTSTAMP:20260423T065431
CREATED:20190408T105949Z
LAST-MODIFIED:20190620T184239Z
UID:16600-1561053600-1561057200@rsu23.org
SUMMARY:School Board meeting
DESCRIPTION:
URL:https://rsu23.org/event/school-board-meeting-12/
LOCATION:Old Orchard Beach Town Hall\, 1 Portland Ave\, Old Orchard Beach\, ME 04064\, USA\, 2 Portland Ave\, United States
CATEGORIES:Jameson Elementary
END:VEVENT
BEGIN:VEVENT
DTSTART;VALUE=DATE:20190613
DTEND;VALUE=DATE:20190614
DTSTAMP:20260423T065431
CREATED:20190408T105949Z
LAST-MODIFIED:20190613T173423Z
UID:16599-1560384000-1560470399@rsu23.org
SUMMARY:Last day of school
DESCRIPTION:
URL:https://rsu23.org/event/last-day-of-school/
CATEGORIES:Jameson Elementary
END:VEVENT
BEGIN:VEVENT
DTSTART;TZID=America/New_York:20190612T093000
DTEND;TZID=America/New_York:20190612T140000
DTSTAMP:20260423T065431
CREATED:20190603T160544Z
LAST-MODIFIED:20190612T170011Z
UID:17004-1560331800-1560348000@rsu23.org
SUMMARY:Grade 8 - Funtown End of Year Celebration
DESCRIPTION:
URL:https://rsu23.org/event/grade-8-funtown-end-of-year-celebration/
CATEGORIES:Loranger Memorial
END:VEVENT
BEGIN:VEVENT
DTSTART;TZID=America/New_York:20190612T093000
DTEND;TZID=America/New_York:20190612T133000
DTSTAMP:20260423T065431
CREATED:20190410T110248Z
LAST-MODIFIED:20190610T164633Z
UID:16693-1560331800-1560346200@rsu23.org
SUMMARY:Rain Date 6th Grade Fort Williams
DESCRIPTION:
URL:https://rsu23.org/event/rain-date-6th-grade-fort-williams/
CATEGORIES:Loranger Memorial
END:VEVENT
BEGIN:VEVENT
DTSTART;TZID=America/New_York:20190612T090000
DTEND;TZID=America/New_York:20190612T130000
DTSTAMP:20260423T065431
CREATED:20190525T150458Z
LAST-MODIFIED:20190612T170011Z
UID:16969-1560330000-1560344400@rsu23.org
SUMMARY:7th Grade walking trip to the Pier
DESCRIPTION:
URL:https://rsu23.org/event/7th-grade-walking-trip-to-the-pier/
CATEGORIES:Loranger Memorial
END:VEVENT
BEGIN:VEVENT
DTSTART;TZID=America/New_York:20190611T090000
DTEND;TZID=America/New_York:20190611T133000
DTSTAMP:20260423T065431
CREATED:20190408T110125Z
LAST-MODIFIED:20190611T164833Z
UID:16628-1560243600-1560259800@rsu23.org
SUMMARY:3-5 Chorus and 5 Band to Funtown
DESCRIPTION:
URL:https://rsu23.org/event/3-5-chorus-and-5-band-to-funtown/
CATEGORIES:Loranger Memorial
END:VEVENT
BEGIN:VEVENT
DTSTART;VALUE=DATE:20190611
DTEND;VALUE=DATE:20190612
DTSTAMP:20260423T065431
CREATED:20190422T144655Z
LAST-MODIFIED:20190611T171812Z
UID:16768-1560211200-1560297599@rsu23.org
SUMMARY:Budget Referendum vote
DESCRIPTION:
URL:https://rsu23.org/event/budget-referendum-vote/
CATEGORIES:Jameson Elementary
END:VEVENT
BEGIN:VEVENT
DTSTART;TZID=America/New_York:20190610T093000
DTEND;TZID=America/New_York:20190610T133000
DTSTAMP:20260423T065431
CREATED:20190410T110247Z
LAST-MODIFIED:20190610T164632Z
UID:16692-1560159000-1560173400@rsu23.org
SUMMARY:6th Grade Fort Williams
DESCRIPTION:
URL:https://rsu23.org/event/6th-grade-fort-williams/
CATEGORIES:Loranger Memorial
END:VEVENT
BEGIN:VEVENT
DTSTART;TZID=America/New_York:20190610T073000
DTEND;TZID=America/New_York:20190610T180000
DTSTAMP:20260423T065431
CREATED:20190408T110125Z
LAST-MODIFIED:20190606T162227Z
UID:16627-1560151800-1560189600@rsu23.org
SUMMARY:Rain Date Canobie Lake 6-8 Band and Chorus
DESCRIPTION:
URL:https://rsu23.org/event/rain-date-canobie-lake-6-8-band-and-chorus/
CATEGORIES:Loranger Memorial
END:VEVENT
BEGIN:VEVENT
DTSTART;VALUE=DATE:20190609
DTEND;VALUE=DATE:20190610
DTSTAMP:20260423T065431
CREATED:20190408T110125Z
LAST-MODIFIED:20190609T164645Z
UID:16626-1560038400-1560124799@rsu23.org
SUMMARY:FOKO ORGAN LMS STAGE/GYM
DESCRIPTION:
URL:https://rsu23.org/event/foko-organ-lms-stage-gym-9/
CATEGORIES:Loranger Memorial
END:VEVENT
BEGIN:VEVENT
DTSTART;TZID=America/New_York:20190606T093000
DTEND;TZID=America/New_York:20190606T140000
DTSTAMP:20260423T065431
CREATED:20190408T110125Z
LAST-MODIFIED:20190411T110145Z
UID:16624-1559813400-1559829600@rsu23.org
SUMMARY:LMS Band Trip Sea Dogs
DESCRIPTION:
URL:https://rsu23.org/event/lms-band-trip-sea-dogs/
CATEGORIES:Loranger Memorial
END:VEVENT
BEGIN:VEVENT
DTSTART;TZID=America/New_York:20190606T073000
DTEND;TZID=America/New_York:20190606T180000
DTSTAMP:20260423T065431
CREATED:20190408T110125Z
LAST-MODIFIED:20190606T162227Z
UID:16625-1559806200-1559844000@rsu23.org
SUMMARY:6-8 Chorus and Band to Canobie Lake
DESCRIPTION:
URL:https://rsu23.org/event/6-8-chorus-and-band-to-canobie-lake/
CATEGORIES:Loranger Memorial
END:VEVENT
BEGIN:VEVENT
DTSTART;TZID=America/New_York:20190605T180000
DTEND;TZID=America/New_York:20190605T200000
DTSTAMP:20260423T065431
CREATED:20190408T110125Z
LAST-MODIFIED:20190606T162227Z
UID:16623-1559757600-1559764800@rsu23.org
SUMMARY:Loranger Evening of Arts
DESCRIPTION:
URL:https://rsu23.org/event/loranger-evening-of-arts/
CATEGORIES:Loranger Memorial
END:VEVENT
BEGIN:VEVENT
DTSTART;TZID=America/New_York:20190605T120000
DTEND;TZID=America/New_York:20190605T133000
DTSTAMP:20260423T065431
CREATED:20190524T150117Z
LAST-MODIFIED:20190605T161846Z
UID:16964-1559736000-1559741400@rsu23.org
SUMMARY:S. Wilder - Ecology Class (Milliken Mills)
DESCRIPTION:
URL:https://rsu23.org/event/s-wilder-ecology-class-milliken-mills/
CATEGORIES:Loranger Memorial
END:VEVENT
BEGIN:VEVENT
DTSTART;TZID=America/New_York:20190604T083000
DTEND;TZID=America/New_York:20190604T135000
DTSTAMP:20260423T065431
CREATED:20190411T110145Z
LAST-MODIFIED:20190604T161537Z
UID:16709-1559637000-1559656200@rsu23.org
SUMMARY:Duck Tours - Portland (Grade 7)
DESCRIPTION:
URL:https://rsu23.org/event/duck-tours-portland-grade-7/
CATEGORIES:Loranger Memorial
END:VEVENT
BEGIN:VEVENT
DTSTART;TZID=America/New_York:20190603T143000
DTEND;TZID=America/New_York:20190603T153000
DTSTAMP:20260423T065431
CREATED:20190408T110125Z
LAST-MODIFIED:20190603T160543Z
UID:16622-1559572200-1559575800@rsu23.org
SUMMARY:Glee Club Rehearsal
DESCRIPTION:
URL:https://rsu23.org/event/glee-club-rehearsal-4/
CATEGORIES:Loranger Memorial
END:VEVENT
BEGIN:VEVENT
DTSTART;TZID=America/New_York:20190531T080000
DTEND;TZID=America/New_York:20190531T170000
DTSTAMP:20260423T065431
CREATED:20190408T110124Z
LAST-MODIFIED:20190530T153134Z
UID:16621-1559289600-1559322000@rsu23.org
SUMMARY:Funtown Music Festival
DESCRIPTION:
URL:https://rsu23.org/event/funtown-music-festival/
CATEGORIES:Loranger Memorial
END:VEVENT
BEGIN:VEVENT
DTSTART;TZID=America/New_York:20190529T180000
DTEND;TZID=America/New_York:20190529T200000
DTSTAMP:20260423T065431
CREATED:20190408T110124Z
LAST-MODIFIED:20190530T153134Z
UID:16620-1559152800-1559160000@rsu23.org
SUMMARY:Loranger Talent Show
DESCRIPTION:
URL:https://rsu23.org/event/loranger-talent-show-2/
CATEGORIES:Loranger Memorial
END:VEVENT
BEGIN:VEVENT
DTSTART;TZID=America/New_York:20190528T083000
DTEND;TZID=America/New_York:20190528T131500
DTSTAMP:20260423T065431
CREATED:20190227T173241Z
LAST-MODIFIED:20190528T153244Z
UID:16303-1559032200-1559049300@rsu23.org
SUMMARY:Grade 4 Field Trip (Maine Wildlife Park)
DESCRIPTION:
URL:https://rsu23.org/event/grade-4-field-trip-maine-wildlife-park/
CATEGORIES:Loranger Memorial
END:VEVENT
BEGIN:VEVENT
DTSTART;TZID=America/New_York:20190527T150000
DTEND;TZID=America/New_York:20190527T160000
DTSTAMP:20260423T065431
CREATED:20190408T105658Z
LAST-MODIFIED:20190527T153027Z
UID:16591-1558969200-1558972800@rsu23.org
SUMMARY:Varsity Baseball and Softball Home vs. Sacopee 3pm
DESCRIPTION:
URL:https://rsu23.org/event/varsity-baseball-and-softball-home-vs-sacopee-3pm/
CATEGORIES:OOBHS
END:VEVENT
BEGIN:VEVENT
DTSTART;VALUE=DATE:20190527
DTEND;VALUE=DATE:20190528
DTSTAMP:20260423T065431
CREATED:20190226T005034Z
LAST-MODIFIED:20190527T154812Z
UID:16067-1558915200-1559001599@rsu23.org
SUMMARY:No school - Memorial Day
DESCRIPTION:
URL:https://rsu23.org/event/no-school-memorial-day/
CATEGORIES:Jameson Elementary
END:VEVENT
BEGIN:VEVENT
DTSTART;TZID=America/New_York:20190525T100000
DTEND;TZID=America/New_York:20190525T110000
DTSTAMP:20260423T065431
CREATED:20190408T105658Z
LAST-MODIFIED:20190525T151608Z
UID:16590-1558778400-1558782000@rsu23.org
SUMMARY:Track @Lake Region 10am
DESCRIPTION:
URL:https://rsu23.org/event/track-lake-region-10am/
CATEGORIES:OOBHS
END:VEVENT
BEGIN:VEVENT
DTSTART;TZID=America/New_York:20190524T160000
DTEND;TZID=America/New_York:20190524T170000
DTSTAMP:20260423T065431
CREATED:20190408T105658Z
LAST-MODIFIED:20190524T150116Z
UID:16589-1558713600-1558717200@rsu23.org
SUMMARY:Varsity Softball @Traip 4pm Varsity Baseball Home vs Richmond
DESCRIPTION:
URL:https://rsu23.org/event/varsity-softball-traip-4pm-varsity-baseball-home-vs-richmond/
CATEGORIES:OOBHS
END:VEVENT
END:VCALENDAR