BEGIN:VCALENDAR
VERSION:2.0
PRODID:-//RSU 23 Old Orchard Beach Schools - ECPv6.15.18//NONSGML v1.0//EN
CALSCALE:GREGORIAN
METHOD:PUBLISH
X-WR-CALNAME:RSU 23 Old Orchard Beach Schools
X-ORIGINAL-URL:https://rsu23.org
X-WR-CALDESC:Events for RSU 23 Old Orchard Beach Schools
REFRESH-INTERVAL;VALUE=DURATION:PT1H
X-Robots-Tag:noindex
X-PUBLISHED-TTL:PT1H
BEGIN:VTIMEZONE
TZID:America/New_York
BEGIN:DAYLIGHT
TZOFFSETFROM:-0500
TZOFFSETTO:-0400
TZNAME:EDT
DTSTART:20190310T070000
END:DAYLIGHT
BEGIN:STANDARD
TZOFFSETFROM:-0400
TZOFFSETTO:-0500
TZNAME:EST
DTSTART:20191103T060000
END:STANDARD
BEGIN:DAYLIGHT
TZOFFSETFROM:-0500
TZOFFSETTO:-0400
TZNAME:EDT
DTSTART:20200308T070000
END:DAYLIGHT
BEGIN:STANDARD
TZOFFSETFROM:-0400
TZOFFSETTO:-0500
TZNAME:EST
DTSTART:20201101T060000
END:STANDARD
BEGIN:DAYLIGHT
TZOFFSETFROM:-0500
TZOFFSETTO:-0400
TZNAME:EDT
DTSTART:20210314T070000
END:DAYLIGHT
BEGIN:STANDARD
TZOFFSETFROM:-0400
TZOFFSETTO:-0500
TZNAME:EST
DTSTART:20211107T060000
END:STANDARD
BEGIN:DAYLIGHT
TZOFFSETFROM:-0500
TZOFFSETTO:-0400
TZNAME:EDT
DTSTART:20220313T070000
END:DAYLIGHT
BEGIN:STANDARD
TZOFFSETFROM:-0400
TZOFFSETTO:-0500
TZNAME:EST
DTSTART:20221106T060000
END:STANDARD
END:VTIMEZONE
BEGIN:VEVENT
DTSTART;TZID=America/New_York:20210121T180000
DTEND;TZID=America/New_York:20210121T190000
DTSTAMP:20260421T173431
CREATED:20201023T223222Z
LAST-MODIFIED:20210111T063042Z
UID:36608-1611252000-1611255600@rsu23.org
SUMMARY:School Board meeting
DESCRIPTION:
URL:https://rsu23.org/event/school-board-meeting-27/
LOCATION:Old Orchard Beach Town Hall\, 1 Portland Ave\, Old Orchard Beach\, ME 04064\, USA\, 2 Portland Ave\, United States
END:VEVENT
BEGIN:VEVENT
DTSTART;VALUE=DATE:20210118
DTEND;VALUE=DATE:20210119
DTSTAMP:20260421T173431
CREATED:20201222T043042Z
LAST-MODIFIED:20210111T063042Z
UID:37475-1610928000-1611014399@rsu23.org
SUMMARY:Martin Luther King Jr. Day- No School
DESCRIPTION:
URL:https://rsu23.org/event/martin-luther-king-jr-day-no-school/
END:VEVENT
BEGIN:VEVENT
DTSTART;TZID=America/New_York:20210106T120000
DTEND;TZID=America/New_York:20210106T160000
DTSTAMP:20260421T173431
CREATED:20201008T210104Z
LAST-MODIFIED:20210106T054525Z
UID:35866-1609934400-1609948800@rsu23.org
SUMMARY:Professional Development
DESCRIPTION:
URL:https://rsu23.org/event/professional-development-6/
END:VEVENT
BEGIN:VEVENT
DTSTART;TZID=America/New_York:20210106T120000
DTEND;TZID=America/New_York:20210106T160000
DTSTAMP:20260421T173431
CREATED:20201008T003051Z
LAST-MODIFIED:20201103T041201Z
UID:35807-1609934400-1609948800@rsu23.org
SUMMARY:Professional Development
DESCRIPTION:
URL:https://rsu23.org/event/professional-development-5/
CATEGORIES:Loranger Memorial
END:VEVENT
BEGIN:VEVENT
DTSTART;VALUE=DATE:20210106
DTEND;VALUE=DATE:20210107
DTSTAMP:20260421T173431
CREATED:20201008T210104Z
LAST-MODIFIED:20210106T054525Z
UID:35867-1609891200-1609977599@rsu23.org
SUMMARY:Early Release Day
DESCRIPTION:
URL:https://rsu23.org/event/early-release-day-23/
END:VEVENT
BEGIN:VEVENT
DTSTART;VALUE=DATE:20210106
DTEND;VALUE=DATE:20210107
DTSTAMP:20260421T173431
CREATED:20201008T003051Z
LAST-MODIFIED:20201103T041201Z
UID:35808-1609891200-1609977599@rsu23.org
SUMMARY:Early Release Day
DESCRIPTION:
URL:https://rsu23.org/event/early-release-day-22/
CATEGORIES:Loranger Memorial
END:VEVENT
BEGIN:VEVENT
DTSTART;VALUE=DATE:20201223
DTEND;VALUE=DATE:20210104
DTSTAMP:20260421T173431
CREATED:20201205T034629Z
LAST-MODIFIED:20210103T051732Z
UID:37383-1608681600-1609718399@rsu23.org
SUMMARY:Holiday Break
DESCRIPTION:
URL:https://rsu23.org/event/holiday-break/
END:VEVENT
BEGIN:VEVENT
DTSTART;TZID=America/New_York:20201217T180000
DTEND;TZID=America/New_York:20201217T190000
DTSTAMP:20260421T173431
CREATED:20201002T202518Z
LAST-MODIFIED:20201217T041534Z
UID:35556-1608228000-1608231600@rsu23.org
SUMMARY:School Board meeting
DESCRIPTION:
URL:https://rsu23.org/event/school-board-meeting-26/
LOCATION:Old Orchard Beach Town Hall\, 1 Portland Ave\, Old Orchard Beach\, ME 04064\, USA\, 2 Portland Ave\, United States
END:VEVENT
BEGIN:VEVENT
DTSTART;VALUE=DATE:20201211
DTEND;VALUE=DATE:20201212
DTSTAMP:20260421T173431
CREATED:20201124T024647Z
LAST-MODIFIED:20201211T040326Z
UID:37336-1607644800-1607731199@rsu23.org
SUMMARY:End of Trimester 1
DESCRIPTION:
URL:https://rsu23.org/event/end-of-trimester-1/
END:VEVENT
BEGIN:VEVENT
DTSTART;TZID=America/New_York:20201202T120000
DTEND;TZID=America/New_York:20201202T160000
DTSTAMP:20260421T173431
CREATED:20201002T202518Z
LAST-MODIFIED:20201202T031738Z
UID:35554-1606910400-1606924800@rsu23.org
SUMMARY:Professional Development
DESCRIPTION:
URL:https://rsu23.org/event/professional-development-4/
END:VEVENT
BEGIN:VEVENT
DTSTART;TZID=America/New_York:20201202T120000
DTEND;TZID=America/New_York:20201202T160000
DTSTAMP:20260421T173431
CREATED:20201002T121641Z
LAST-MODIFIED:20201103T041201Z
UID:35517-1606910400-1606924800@rsu23.org
SUMMARY:Professional Development
DESCRIPTION:
URL:https://rsu23.org/event/professional-development-2/
CATEGORIES:Loranger Memorial
END:VEVENT
BEGIN:VEVENT
DTSTART;VALUE=DATE:20201202
DTEND;VALUE=DATE:20201203
DTSTAMP:20260421T173431
CREATED:20201002T202518Z
LAST-MODIFIED:20201202T031739Z
UID:35555-1606867200-1606953599@rsu23.org
SUMMARY:Early Release Day
DESCRIPTION:
URL:https://rsu23.org/event/early-release-day-21/
END:VEVENT
BEGIN:VEVENT
DTSTART;VALUE=DATE:20201202
DTEND;VALUE=DATE:20201203
DTSTAMP:20260421T173431
CREATED:20200930T174501Z
LAST-MODIFIED:20201103T041201Z
UID:35432-1606867200-1606953599@rsu23.org
SUMMARY:Early Release Day
DESCRIPTION:
URL:https://rsu23.org/event/early-release-day-18/
CATEGORIES:Loranger Memorial
END:VEVENT
BEGIN:VEVENT
DTSTART;VALUE=DATE:20201125
DTEND;VALUE=DATE:20201128
DTSTAMP:20260421T173431
CREATED:20201002T202518Z
LAST-MODIFIED:20201127T024828Z
UID:35553-1606262400-1606521599@rsu23.org
SUMMARY:Thanksgiving Break
DESCRIPTION:
URL:https://rsu23.org/event/thanksgiving-break-3/
END:VEVENT
BEGIN:VEVENT
DTSTART;VALUE=DATE:20201125
DTEND;VALUE=DATE:20201128
DTSTAMP:20260421T173431
CREATED:20201002T121641Z
LAST-MODIFIED:20201103T041201Z
UID:35516-1606262400-1606521599@rsu23.org
SUMMARY:Thanksgiving Break
DESCRIPTION:
URL:https://rsu23.org/event/thanksgiving-break-2/
CATEGORIES:Loranger Memorial
END:VEVENT
BEGIN:VEVENT
DTSTART;VALUE=DATE:20201125
DTEND;VALUE=DATE:20201128
DTSTAMP:20260421T173431
CREATED:20200925T154457Z
LAST-MODIFIED:20201103T041155Z
UID:35198-1606262400-1606521599@rsu23.org
SUMMARY:Thanksgiving Break
DESCRIPTION:
URL:https://rsu23.org/event/thanksgiving-break/
CATEGORIES:OOBHS
END:VEVENT
BEGIN:VEVENT
DTSTART;TZID=America/New_York:20201124T113000
DTEND;TZID=America/New_York:20201124T120000
DTSTAMP:20260421T173431
CREATED:20201124T024646Z
LAST-MODIFIED:20201124T024646Z
UID:37335-1606217400-1606219200@rsu23.org
SUMMARY:Early release @11:30
DESCRIPTION:
URL:https://rsu23.org/event/early-release-1130/
END:VEVENT
BEGIN:VEVENT
DTSTART;TZID=America/New_York:20201119T180000
DTEND;TZID=America/New_York:20201119T190000
DTSTAMP:20260421T173431
CREATED:20201002T202518Z
LAST-MODIFIED:20201119T023030Z
UID:35552-1605808800-1605812400@rsu23.org
SUMMARY:School Board meeting
DESCRIPTION:
URL:https://rsu23.org/event/school-board-meeting-25/
LOCATION:Old Orchard Beach Town Hall\, 1 Portland Ave\, Old Orchard Beach\, ME 04064\, USA\, 2 Portland Ave\, United States
END:VEVENT
BEGIN:VEVENT
DTSTART;VALUE=DATE:20201111
DTEND;VALUE=DATE:20201112
DTSTAMP:20260421T173431
CREATED:20201023T223221Z
LAST-MODIFIED:20201111T013019Z
UID:36607-1605052800-1605139199@rsu23.org
SUMMARY:Veteran's Day- No School
DESCRIPTION:
URL:https://rsu23.org/event/veterans-day-no-school-4/
END:VEVENT
BEGIN:VEVENT
DTSTART;VALUE=DATE:20201111
DTEND;VALUE=DATE:20201112
DTSTAMP:20260421T173431
CREATED:20201023T194527Z
LAST-MODIFIED:20201103T041200Z
UID:36598-1605052800-1605139199@rsu23.org
SUMMARY:Veteran's Day- No School
DESCRIPTION:
URL:https://rsu23.org/event/veterans-day-no-school-3/
CATEGORIES:Loranger Memorial
END:VEVENT
BEGIN:VEVENT
DTSTART;VALUE=DATE:20201111
DTEND;VALUE=DATE:20201112
DTSTAMP:20260421T173431
CREATED:20201023T191620Z
LAST-MODIFIED:20201103T041155Z
UID:36596-1605052800-1605139199@rsu23.org
SUMMARY:Veteran's Day- No School
DESCRIPTION:
URL:https://rsu23.org/event/veterans-day-no-school-2/
CATEGORIES:OOBHS
END:VEVENT
BEGIN:VEVENT
DTSTART;TZID=America/New_York:20201110T150000
DTEND;TZID=America/New_York:20201110T190000
DTSTAMP:20260421T173431
CREATED:20201002T202518Z
LAST-MODIFIED:20201110T013016Z
UID:35551-1605020400-1605034800@rsu23.org
SUMMARY:Parent/Teacher Conferences
DESCRIPTION:
URL:https://rsu23.org/event/parent-teacher-conferences-13/
END:VEVENT
BEGIN:VEVENT
DTSTART;TZID=America/New_York:20201110T150000
DTEND;TZID=America/New_York:20201110T190000
DTSTAMP:20260421T173431
CREATED:20200930T184622Z
LAST-MODIFIED:20201103T041200Z
UID:35438-1605020400-1605034800@rsu23.org
SUMMARY:Parent/Teacher Conferences
DESCRIPTION:
URL:https://rsu23.org/event/parent-teacher-conferences-11/
CATEGORIES:Loranger Memorial
END:VEVENT
BEGIN:VEVENT
DTSTART;VALUE=DATE:20201110
DTEND;VALUE=DATE:20201111
DTSTAMP:20260421T173431
CREATED:20200925T154456Z
LAST-MODIFIED:20201103T041155Z
UID:35197-1604966400-1605052799@rsu23.org
SUMMARY:Virtual Parent/Teacher Conferences PreK-12 (evening)
DESCRIPTION:
URL:https://rsu23.org/event/virtual-parent-teacher-conferences-prek-12-evening-2/
CATEGORIES:OOBHS
END:VEVENT
BEGIN:VEVENT
DTSTART;TZID=America/New_York:20201104T130000
DTEND;TZID=America/New_York:20201104T190000
DTSTAMP:20260421T173431
CREATED:20201019T191542Z
LAST-MODIFIED:20201103T041200Z
UID:36414-1604494800-1604516400@rsu23.org
SUMMARY:Parent/Teacher Conferences
DESCRIPTION:
URL:https://rsu23.org/event/parent-teacher-conferences-14/
CATEGORIES:Loranger Memorial
END:VEVENT
BEGIN:VEVENT
DTSTART;TZID=America/New_York:20201104T130000
DTEND;TZID=America/New_York:20201104T190000
DTSTAMP:20260421T173431
CREATED:20201002T202517Z
LAST-MODIFIED:20201104T004933Z
UID:35549-1604494800-1604516400@rsu23.org
SUMMARY:Parent/Teacher Conferences
DESCRIPTION:
URL:https://rsu23.org/event/parent-teacher-conferences-12/
END:VEVENT
BEGIN:VEVENT
DTSTART;VALUE=DATE:20201104
DTEND;VALUE=DATE:20201105
DTSTAMP:20260421T173431
CREATED:20201002T202517Z
LAST-MODIFIED:20201104T004933Z
UID:35550-1604448000-1604534399@rsu23.org
SUMMARY:Early Release Day
DESCRIPTION:
URL:https://rsu23.org/event/early-release-day-20/
END:VEVENT
BEGIN:VEVENT
DTSTART;VALUE=DATE:20201104
DTEND;VALUE=DATE:20201105
DTSTAMP:20260421T173431
CREATED:20200930T174500Z
LAST-MODIFIED:20201103T041200Z
UID:35431-1604448000-1604534399@rsu23.org
SUMMARY:Early Release Day
DESCRIPTION:
URL:https://rsu23.org/event/early-release-day-17/
CATEGORIES:Loranger Memorial
END:VEVENT
BEGIN:VEVENT
DTSTART;VALUE=DATE:20201104
DTEND;VALUE=DATE:20201105
DTSTAMP:20260421T173431
CREATED:20200925T154456Z
LAST-MODIFIED:20201103T041155Z
UID:35195-1604448000-1604534399@rsu23.org
SUMMARY:Virtual Parent/Teacher Conferences PreK-12 (evening)
DESCRIPTION:
URL:https://rsu23.org/event/virtual-parent-teacher-conferences-prek-12-evening/
CATEGORIES:OOBHS
END:VEVENT
BEGIN:VEVENT
DTSTART;VALUE=DATE:20201103
DTEND;VALUE=DATE:20201104
DTSTAMP:20260421T173432
CREATED:20200925T154456Z
LAST-MODIFIED:20201103T041155Z
UID:35196-1604361600-1604447999@rsu23.org
SUMMARY:Election Day - White Day Remote Learning Day
DESCRIPTION:
URL:https://rsu23.org/event/election-day-white-day-remote-learning-day/
CATEGORIES:OOBHS
END:VEVENT
END:VCALENDAR