BEGIN:VCALENDAR
VERSION:2.0
PRODID:-//RSU 23 Old Orchard Beach Schools - ECPv6.15.18//NONSGML v1.0//EN
CALSCALE:GREGORIAN
METHOD:PUBLISH
X-WR-CALNAME:RSU 23 Old Orchard Beach Schools
X-ORIGINAL-URL:https://rsu23.org
X-WR-CALDESC:Events for RSU 23 Old Orchard Beach Schools
REFRESH-INTERVAL;VALUE=DURATION:PT1H
X-Robots-Tag:noindex
X-PUBLISHED-TTL:PT1H
BEGIN:VTIMEZONE
TZID:America/New_York
BEGIN:DAYLIGHT
TZOFFSETFROM:-0500
TZOFFSETTO:-0400
TZNAME:EDT
DTSTART:20190310T070000
END:DAYLIGHT
BEGIN:STANDARD
TZOFFSETFROM:-0400
TZOFFSETTO:-0500
TZNAME:EST
DTSTART:20191103T060000
END:STANDARD
BEGIN:DAYLIGHT
TZOFFSETFROM:-0500
TZOFFSETTO:-0400
TZNAME:EDT
DTSTART:20200308T070000
END:DAYLIGHT
BEGIN:STANDARD
TZOFFSETFROM:-0400
TZOFFSETTO:-0500
TZNAME:EST
DTSTART:20201101T060000
END:STANDARD
BEGIN:DAYLIGHT
TZOFFSETFROM:-0500
TZOFFSETTO:-0400
TZNAME:EDT
DTSTART:20210314T070000
END:DAYLIGHT
BEGIN:STANDARD
TZOFFSETFROM:-0400
TZOFFSETTO:-0500
TZNAME:EST
DTSTART:20211107T060000
END:STANDARD
END:VTIMEZONE
BEGIN:VEVENT
DTSTART;TZID=America/New_York:20200319T143000
DTEND;TZID=America/New_York:20200319T170000
DTSTAMP:20260421T183425
CREATED:20191219T001551Z
LAST-MODIFIED:20200319T200020Z
UID:21209-1584628200-1584637200@rsu23.org
SUMMARY:Loranger Floor Hockey
DESCRIPTION:
URL:https://rsu23.org/event/loranger-floor-hockey-18/
CATEGORIES:Loranger Memorial
END:VEVENT
BEGIN:VEVENT
DTSTART;TZID=America/New_York:20200318T143000
DTEND;TZID=America/New_York:20200318T163000
DTSTAMP:20260421T183425
CREATED:20191219T001551Z
LAST-MODIFIED:20200318T194510Z
UID:21208-1584541800-1584549000@rsu23.org
SUMMARY:LMS INDOOR SOCCER TOURNAMENT
DESCRIPTION:
URL:https://rsu23.org/event/lms-indoor-soccer-tournament-2/
CATEGORIES:Loranger Memorial
END:VEVENT
BEGIN:VEVENT
DTSTART;TZID=America/New_York:20200317T143000
DTEND;TZID=America/New_York:20200317T170000
DTSTAMP:20260421T183425
CREATED:20191217T000036Z
LAST-MODIFIED:20200317T203037Z
UID:21071-1584455400-1584464400@rsu23.org
SUMMARY:Loranger Floor Hockey
DESCRIPTION:
URL:https://rsu23.org/event/loranger-floor-hockey-17/
CATEGORIES:Loranger Memorial
END:VEVENT
BEGIN:VEVENT
DTSTART;TZID=America/New_York:20200313T081000
DTEND;TZID=America/New_York:20200313T083000
DTSTAMP:20260421T183426
CREATED:20191214T003038Z
LAST-MODIFIED:20200114T214512Z
UID:20867-1584087000-1584088200@rsu23.org
SUMMARY:Jameson Assembly
DESCRIPTION:
URL:https://rsu23.org/event/jameson-assembly-20/
CATEGORIES:Jameson Elementary
END:VEVENT
BEGIN:VEVENT
DTSTART;TZID=America/New_York:20200312T143000
DTEND;TZID=America/New_York:20200312T170000
DTSTAMP:20260421T183426
CREATED:20191212T004523Z
LAST-MODIFIED:20200312T204539Z
UID:20729-1584023400-1584032400@rsu23.org
SUMMARY:Loranger Floor Hockey
DESCRIPTION:
URL:https://rsu23.org/event/loranger-floor-hockey-16/
CATEGORIES:Loranger Memorial
END:VEVENT
BEGIN:VEVENT
DTSTART;TZID=America/New_York:20200311T143000
DTEND;TZID=America/New_York:20200311T163000
DTSTAMP:20260421T183426
CREATED:20191212T004523Z
LAST-MODIFIED:20191216T144533Z
UID:20728-1583937000-1583944200@rsu23.org
SUMMARY:LMS INDOOR SOCCER TOURNAMENT
DESCRIPTION:
URL:https://rsu23.org/event/lms-indoor-soccer-tournament/
CATEGORIES:Loranger Memorial
END:VEVENT
BEGIN:VEVENT
DTSTART;TZID=America/New_York:20200310T143000
DTEND;TZID=America/New_York:20200310T170000
DTSTAMP:20260421T183426
CREATED:20191210T000050Z
LAST-MODIFIED:20200310T204502Z
UID:20532-1583850600-1583859600@rsu23.org
SUMMARY:Loranger Floor Hockey
DESCRIPTION:
URL:https://rsu23.org/event/loranger-floor-hockey-15/
CATEGORIES:Loranger Memorial
END:VEVENT
BEGIN:VEVENT
DTSTART;TZID=America/New_York:20200309T141500
DTEND;TZID=America/New_York:20200309T152000
DTSTAMP:20260421T183426
CREATED:20200209T183308Z
LAST-MODIFIED:20200309T191502Z
UID:24275-1583763300-1583767200@rsu23.org
SUMMARY:Glee Club 10L
DESCRIPTION:
URL:https://rsu23.org/event/glee-club-10l-2/
CATEGORIES:Loranger Memorial
END:VEVENT
BEGIN:VEVENT
DTSTART;TZID=America/New_York:20200308T080000
DTEND;TZID=America/New_York:20200308T170000
DTSTAMP:20260421T183426
CREATED:20191209T004529Z
LAST-MODIFIED:20200308T203141Z
UID:20452-1583654400-1583686800@rsu23.org
SUMMARY:Pine Tree Organ Society on Stage
DESCRIPTION:
URL:https://rsu23.org/event/pine-tree-organ-society-on-stage-2/
CATEGORIES:Loranger Memorial
END:VEVENT
BEGIN:VEVENT
DTSTART;TZID=America/New_York:20200306T081000
DTEND;TZID=America/New_York:20200306T083000
DTSTAMP:20260421T183426
CREATED:20191207T003043Z
LAST-MODIFIED:20200114T214512Z
UID:20312-1583482200-1583483400@rsu23.org
SUMMARY:Jameson Assembly
DESCRIPTION:
URL:https://rsu23.org/event/jameson-assembly-19/
CATEGORIES:Jameson Elementary
END:VEVENT
BEGIN:VEVENT
DTSTART;TZID=America/New_York:20200305T143000
DTEND;TZID=America/New_York:20200305T170000
DTSTAMP:20260421T183426
CREATED:20191205T004940Z
LAST-MODIFIED:20200305T215217Z
UID:20173-1583418600-1583427600@rsu23.org
SUMMARY:Loranger Floor Hockey
DESCRIPTION:
URL:https://rsu23.org/event/loranger-floor-hockey-14/
CATEGORIES:Loranger Memorial
END:VEVENT
BEGIN:VEVENT
DTSTART;TZID=America/New_York:20200304T093000
DTEND;TZID=America/New_York:20200304T100000
DTSTAMP:20260421T183426
CREATED:20191205T000407Z
LAST-MODIFIED:20200114T214512Z
UID:20170-1583314200-1583316000@rsu23.org
SUMMARY:Time with Teachers
DESCRIPTION:
URL:https://rsu23.org/event/time-with-teachers-5/
CATEGORIES:Jameson Elementary
END:VEVENT
BEGIN:VEVENT
DTSTART;VALUE=DATE:20200304
DTEND;VALUE=DATE:20200305
DTSTAMP:20260421T183426
CREATED:20191204T000010Z
LAST-MODIFIED:20200114T214512Z
UID:20100-1583280000-1583366399@rsu23.org
SUMMARY:Early Release Day
DESCRIPTION:Students dismissed at 11:30am\, already having eaten lunch.
URL:https://rsu23.org/event/early-release-day-12/
CATEGORIES:Jameson Elementary
END:VEVENT
BEGIN:VEVENT
DTSTART;TZID=America/New_York:20200303T143000
DTEND;TZID=America/New_York:20200303T170000
DTSTAMP:20260421T183426
CREATED:20191203T010030Z
LAST-MODIFIED:20200303T213019Z
UID:20035-1583245800-1583254800@rsu23.org
SUMMARY:Loranger Floor Hockey
DESCRIPTION:
URL:https://rsu23.org/event/loranger-floor-hockey-13/
CATEGORIES:Loranger Memorial
END:VEVENT
BEGIN:VEVENT
DTSTART;TZID=America/New_York:20200302T180000
DTEND;TZID=America/New_York:20200302T190000
DTSTAMP:20260421T183426
CREATED:20191203T000130Z
LAST-MODIFIED:20200114T214512Z
UID:20030-1583172000-1583175600@rsu23.org
SUMMARY:PTO meeting
DESCRIPTION:
URL:https://rsu23.org/event/pto-meeting-11/
CATEGORIES:Jameson Elementary
END:VEVENT
BEGIN:VEVENT
DTSTART;TZID=America/New_York:20200302T141500
DTEND;TZID=America/New_York:20200302T152000
DTSTAMP:20260421T183426
CREATED:20200209T183308Z
LAST-MODIFIED:20200302T200826Z
UID:24274-1583158500-1583162400@rsu23.org
SUMMARY:Glee Club 10L
DESCRIPTION:
URL:https://rsu23.org/event/glee-club-10l/
CATEGORIES:Loranger Memorial
END:VEVENT
BEGIN:VEVENT
DTSTART;TZID=America/New_York:20200228T183000
DTEND;TZID=America/New_York:20200228T203000
DTSTAMP:20260421T183426
CREATED:20191130T010128Z
LAST-MODIFIED:20200229T012755Z
UID:19826-1582914600-1582921800@rsu23.org
SUMMARY:6-8 School Dance LMS Athletics
DESCRIPTION:
URL:https://rsu23.org/event/6-8-school-dance-lms-athletics/
CATEGORIES:Loranger Memorial
END:VEVENT
BEGIN:VEVENT
DTSTART;TZID=America/New_York:20200228T081000
DTEND;TZID=America/New_York:20200228T083000
DTSTAMP:20260421T183426
CREATED:20191130T003144Z
LAST-MODIFIED:20200114T214511Z
UID:19823-1582877400-1582878600@rsu23.org
SUMMARY:Jameson Assembly
DESCRIPTION:
URL:https://rsu23.org/event/jameson-assembly-18/
CATEGORIES:Jameson Elementary
END:VEVENT
BEGIN:VEVENT
DTSTART;TZID=America/New_York:20200227T180000
DTEND;TZID=America/New_York:20200227T190000
DTSTAMP:20260421T183426
CREATED:20200107T194459Z
LAST-MODIFIED:20200114T214511Z
UID:22547-1582826400-1582830000@rsu23.org
SUMMARY:School Board meeting
DESCRIPTION:
URL:https://rsu23.org/event/school-board-meeting-23/
LOCATION:Old Orchard Beach Town Hall\, 1 Portland Ave\, Old Orchard Beach\, ME 04064\, USA\, 2 Portland Ave\, United States
CATEGORIES:Jameson Elementary
END:VEVENT
BEGIN:VEVENT
DTSTART;TZID=America/New_York:20200227T143000
DTEND;TZID=America/New_York:20200227T170000
DTSTAMP:20260421T183426
CREATED:20191129T011627Z
LAST-MODIFIED:20200227T220007Z
UID:19758-1582813800-1582822800@rsu23.org
SUMMARY:Loranger Floor Hockey
DESCRIPTION:
URL:https://rsu23.org/event/loranger-floor-hockey-12/
CATEGORIES:Loranger Memorial
END:VEVENT
BEGIN:VEVENT
DTSTART;TZID=America/New_York:20200225T143000
DTEND;TZID=America/New_York:20200225T170000
DTSTAMP:20260421T183426
CREATED:20191127T010032Z
LAST-MODIFIED:20200225T211633Z
UID:19623-1582641000-1582650000@rsu23.org
SUMMARY:Loranger Floor Hockey
DESCRIPTION:
URL:https://rsu23.org/event/loranger-floor-hockey-11/
CATEGORIES:Loranger Memorial
END:VEVENT
BEGIN:VEVENT
DTSTART;TZID=America/New_York:20200221T081000
DTEND;TZID=America/New_York:20200221T083000
DTSTAMP:20260421T183426
CREATED:20191123T000634Z
LAST-MODIFIED:20191216T183033Z
UID:19360-1582272600-1582273800@rsu23.org
SUMMARY:Jameson Assembly
DESCRIPTION:
URL:https://rsu23.org/event/jameson-assembly-17/
CATEGORIES:Jameson Elementary
END:VEVENT
BEGIN:VEVENT
DTSTART;TZID=America/New_York:20200220T180000
DTEND;TZID=America/New_York:20200220T190000
DTSTAMP:20260421T183426
CREATED:20191122T001502Z
LAST-MODIFIED:20200107T183116Z
UID:19288-1582221600-1582225200@rsu23.org
SUMMARY:School Board meeting
DESCRIPTION:
URL:https://rsu23.org/event/school-board-meeting-21/
LOCATION:Old Orchard Beach Town Hall\, 1 Portland Ave\, Old Orchard Beach\, ME 04064\, USA\, 2 Portland Ave\, United States
CATEGORIES:Jameson Elementary
END:VEVENT
BEGIN:VEVENT
DTSTART;VALUE=DATE:20200217
DTEND;VALUE=DATE:20200222
DTSTAMP:20260421T183426
CREATED:20191216T220141Z
LAST-MODIFIED:20200114T214511Z
UID:21063-1581897600-1582329599@rsu23.org
SUMMARY:February vacation
DESCRIPTION:
URL:https://rsu23.org/event/february-vacation/
CATEGORIES:Jameson Elementary
END:VEVENT
BEGIN:VEVENT
DTSTART;TZID=America/New_York:20200214T081000
DTEND;TZID=America/New_York:20200214T083000
DTSTAMP:20260421T183426
CREATED:20191116T003224Z
LAST-MODIFIED:20200114T214511Z
UID:18879-1581667800-1581669000@rsu23.org
SUMMARY:Jameson Assembly
DESCRIPTION:
URL:https://rsu23.org/event/jameson-assembly-16/
CATEGORIES:Jameson Elementary
END:VEVENT
BEGIN:VEVENT
DTSTART;TZID=America/New_York:20200209T080000
DTEND;TZID=America/New_York:20200209T170000
DTSTAMP:20260421T183426
CREATED:20191111T001645Z
LAST-MODIFIED:20200209T224953Z
UID:18521-1581235200-1581267600@rsu23.org
SUMMARY:Pine Tree Organ Society on Stage
DESCRIPTION:
URL:https://rsu23.org/event/pine-tree-organ-society-on-stage/
CATEGORIES:Loranger Memorial
END:VEVENT
BEGIN:VEVENT
DTSTART;TZID=America/New_York:20200207T081000
DTEND;TZID=America/New_York:20200207T083000
DTSTAMP:20260421T183426
CREATED:20191109T000139Z
LAST-MODIFIED:20200114T214511Z
UID:18384-1581063000-1581064200@rsu23.org
SUMMARY:Jameson Assembly
DESCRIPTION:
URL:https://rsu23.org/event/jameson-assembly-15/
CATEGORIES:Jameson Elementary
END:VEVENT
BEGIN:VEVENT
DTSTART;TZID=America/New_York:20200205T093000
DTEND;TZID=America/New_York:20200205T100000
DTSTAMP:20260421T183426
CREATED:20191107T001504Z
LAST-MODIFIED:20200114T214511Z
UID:18246-1580895000-1580896800@rsu23.org
SUMMARY:Time with Teachers
DESCRIPTION:
URL:https://rsu23.org/event/time-with-teachers-4/
CATEGORIES:Jameson Elementary
END:VEVENT
BEGIN:VEVENT
DTSTART;VALUE=DATE:20200205
DTEND;VALUE=DATE:20200206
DTSTAMP:20260421T183426
CREATED:20191106T010003Z
LAST-MODIFIED:20200114T214511Z
UID:18172-1580860800-1580947199@rsu23.org
SUMMARY:Early Release Day
DESCRIPTION:Students dismissed at 11:30am\, already having eaten lunch.
URL:https://rsu23.org/event/early-release-day-11/
CATEGORIES:Jameson Elementary
END:VEVENT
BEGIN:VEVENT
DTSTART;TZID=America/New_York:20200203T180000
DTEND;TZID=America/New_York:20200203T190000
DTSTAMP:20260421T183426
CREATED:20191105T021504Z
LAST-MODIFIED:20200114T214511Z
UID:18110-1580752800-1580756400@rsu23.org
SUMMARY:PTO meeting
DESCRIPTION:
URL:https://rsu23.org/event/pto-meeting-10/
CATEGORIES:Jameson Elementary
END:VEVENT
END:VCALENDAR