BEGIN:VCALENDAR
VERSION:2.0
PRODID:-//RSU 23 Old Orchard Beach Schools - ECPv6.15.18//NONSGML v1.0//EN
CALSCALE:GREGORIAN
METHOD:PUBLISH
X-WR-CALNAME:RSU 23 Old Orchard Beach Schools
X-ORIGINAL-URL:https://rsu23.org
X-WR-CALDESC:Events for RSU 23 Old Orchard Beach Schools
REFRESH-INTERVAL;VALUE=DURATION:PT1H
X-Robots-Tag:noindex
X-PUBLISHED-TTL:PT1H
BEGIN:VTIMEZONE
TZID:America/New_York
BEGIN:DAYLIGHT
TZOFFSETFROM:-0500
TZOFFSETTO:-0400
TZNAME:EDT
DTSTART:20190310T070000
END:DAYLIGHT
BEGIN:STANDARD
TZOFFSETFROM:-0400
TZOFFSETTO:-0500
TZNAME:EST
DTSTART:20191103T060000
END:STANDARD
BEGIN:DAYLIGHT
TZOFFSETFROM:-0500
TZOFFSETTO:-0400
TZNAME:EDT
DTSTART:20200308T070000
END:DAYLIGHT
BEGIN:STANDARD
TZOFFSETFROM:-0400
TZOFFSETTO:-0500
TZNAME:EST
DTSTART:20201101T060000
END:STANDARD
BEGIN:DAYLIGHT
TZOFFSETFROM:-0500
TZOFFSETTO:-0400
TZNAME:EDT
DTSTART:20210314T070000
END:DAYLIGHT
BEGIN:STANDARD
TZOFFSETFROM:-0400
TZOFFSETTO:-0500
TZNAME:EST
DTSTART:20211107T060000
END:STANDARD
END:VTIMEZONE
BEGIN:VEVENT
DTSTART;TZID=America/New_York:20200726T110000
DTEND;TZID=America/New_York:20200728T120000
DTSTAMP:20260422T182750
CREATED:20200727T160025Z
LAST-MODIFIED:20200728T153053Z
UID:32397-1595761200-1595937600@rsu23.org
SUMMARY:Hyatt Place Portland-Old Port with Zu
DESCRIPTION:
URL:https://rsu23.org/event/hyatt-place-portland-old-port-with-zu/
CATEGORIES:Loranger Memorial
ORGANIZER;CN="G Personal":MAILTO:rsu23.org_g2r4gicve3h690pavg02ug01a4@group.calendar.google.com
END:VEVENT
BEGIN:VEVENT
DTSTART;TZID=America/New_York:20200512T083000
DTEND;TZID=America/New_York:20200512T110000
DTSTAMP:20260422T182750
CREATED:20200212T003049Z
LAST-MODIFIED:20200419T154520Z
UID:24391-1589272200-1589281200@rsu23.org
SUMMARY:Depart for PSO Concert Grades 4-5.  Concert at 9:30
DESCRIPTION:
URL:https://rsu23.org/event/depart-for-pso-concert-grades-4-5-concert-at-930/
CATEGORIES:Loranger Memorial
END:VEVENT
BEGIN:VEVENT
DTSTART;TZID=America/New_York:20200511T141500
DTEND;TZID=America/New_York:20200511T152000
DTSTAMP:20260422T182750
CREATED:20200210T000118Z
LAST-MODIFIED:20200507T141517Z
UID:24296-1589206500-1589210400@rsu23.org
SUMMARY:3-5 Glee Club 10L
DESCRIPTION:
URL:https://rsu23.org/event/3-5-glee-club-10l-5/
CATEGORIES:Loranger Memorial
END:VEVENT
BEGIN:VEVENT
DTSTART;TZID=America/New_York:20200504T141500
DTEND;TZID=America/New_York:20200504T152000
DTSTAMP:20260422T182750
CREATED:20200209T183309Z
LAST-MODIFIED:20200504T190020Z
UID:24279-1588601700-1588605600@rsu23.org
SUMMARY:3-5 Glee Club 10L
DESCRIPTION:
URL:https://rsu23.org/event/3-5-glee-club-10l-4/
CATEGORIES:Loranger Memorial
END:VEVENT
BEGIN:VEVENT
DTSTART;TZID=America/New_York:20200419T080000
DTEND;TZID=America/New_York:20200419T170000
DTSTAMP:20260422T182750
CREATED:20200120T020032Z
LAST-MODIFIED:20200419T204504Z
UID:23284-1587283200-1587315600@rsu23.org
SUMMARY:Pine Tree Organ Society on Stage
DESCRIPTION:
URL:https://rsu23.org/event/pine-tree-organ-society-on-stage-3/
CATEGORIES:Loranger Memorial
END:VEVENT
BEGIN:VEVENT
DTSTART;TZID=America/New_York:20200413T141500
DTEND;TZID=America/New_York:20200413T152000
DTSTAMP:20260422T182750
CREATED:20200209T183309Z
LAST-MODIFIED:20200413T190106Z
UID:24278-1586787300-1586791200@rsu23.org
SUMMARY:3-5 Glee Club 10L
DESCRIPTION:
URL:https://rsu23.org/event/3-5-glee-club-10l-3/
CATEGORIES:Loranger Memorial
END:VEVENT
BEGIN:VEVENT
DTSTART;TZID=America/New_York:20200410T081000
DTEND;TZID=America/New_York:20200410T083000
DTSTAMP:20260422T182750
CREATED:20200111T030034Z
LAST-MODIFIED:20200114T214513Z
UID:22777-1586506200-1586507400@rsu23.org
SUMMARY:Jameson Assembly
DESCRIPTION:
URL:https://rsu23.org/event/jameson-assembly-23/
CATEGORIES:Jameson Elementary
END:VEVENT
BEGIN:VEVENT
DTSTART;TZID=America/New_York:20200406T180000
DTEND;TZID=America/New_York:20200406T190000
DTSTAMP:20260422T182750
CREATED:20200107T010009Z
LAST-MODIFIED:20200114T214513Z
UID:22493-1586196000-1586199600@rsu23.org
SUMMARY:PTO meeting
DESCRIPTION:
URL:https://rsu23.org/event/pto-meeting-12/
CATEGORIES:Jameson Elementary
END:VEVENT
BEGIN:VEVENT
DTSTART;TZID=America/New_York:20200406T141500
DTEND;TZID=America/New_York:20200406T152000
DTSTAMP:20260422T182750
CREATED:20200209T183309Z
LAST-MODIFIED:20200406T184550Z
UID:24277-1586182500-1586186400@rsu23.org
SUMMARY:3-5 Glee Club 10L
DESCRIPTION:
URL:https://rsu23.org/event/3-5-glee-club-10l-2/
CATEGORIES:Loranger Memorial
END:VEVENT
BEGIN:VEVENT
DTSTART;TZID=America/New_York:20200403T081000
DTEND;TZID=America/New_York:20200403T083000
DTSTAMP:20260422T182750
CREATED:20200104T004652Z
LAST-MODIFIED:20200114T214513Z
UID:22292-1585901400-1585902600@rsu23.org
SUMMARY:Jameson Assembly
DESCRIPTION:
URL:https://rsu23.org/event/jameson-assembly-22/
CATEGORIES:Jameson Elementary
END:VEVENT
BEGIN:VEVENT
DTSTART;TZID=America/New_York:20200402T143000
DTEND;TZID=America/New_York:20200402T170000
DTSTAMP:20260422T182750
CREATED:20200102T001756Z
LAST-MODIFIED:20200402T203037Z
UID:22152-1585837800-1585846800@rsu23.org
SUMMARY:Loranger Floor Hockey
DESCRIPTION:
URL:https://rsu23.org/event/loranger-floor-hockey-22/
CATEGORIES:Loranger Memorial
END:VEVENT
BEGIN:VEVENT
DTSTART;TZID=America/New_York:20200401T093000
DTEND;TZID=America/New_York:20200401T100000
DTSTAMP:20260422T182750
CREATED:20200102T004549Z
LAST-MODIFIED:20200114T214512Z
UID:22155-1585733400-1585735200@rsu23.org
SUMMARY:Time with Teachers
DESCRIPTION:
URL:https://rsu23.org/event/time-with-teachers-6/
CATEGORIES:Jameson Elementary
END:VEVENT
BEGIN:VEVENT
DTSTART;VALUE=DATE:20200401
DTEND;VALUE=DATE:20200402
DTSTAMP:20260422T182750
CREATED:20200102T004549Z
LAST-MODIFIED:20200114T214512Z
UID:22154-1585699200-1585785599@rsu23.org
SUMMARY:Early Release Day
DESCRIPTION:Students dismissed at 11:30am\, already having eaten lunch.
URL:https://rsu23.org/event/early-release-day-15/
CATEGORIES:Jameson Elementary
END:VEVENT
BEGIN:VEVENT
DTSTART;TZID=America/New_York:20200331T143000
DTEND;TZID=America/New_York:20200331T170000
DTSTAMP:20260422T182750
CREATED:20191231T003055Z
LAST-MODIFIED:20200331T193100Z
UID:22016-1585665000-1585674000@rsu23.org
SUMMARY:Loranger Floor Hockey
DESCRIPTION:
URL:https://rsu23.org/event/loranger-floor-hockey-21/
CATEGORIES:Loranger Memorial
END:VEVENT
BEGIN:VEVENT
DTSTART;TZID=America/New_York:20200330T141500
DTEND;TZID=America/New_York:20200330T152000
DTSTAMP:20260422T182750
CREATED:20200209T183309Z
LAST-MODIFIED:20200330T190018Z
UID:24276-1585577700-1585581600@rsu23.org
SUMMARY:3-5 Glee Club 10L
DESCRIPTION:
URL:https://rsu23.org/event/3-5-glee-club-10l/
CATEGORIES:Loranger Memorial
END:VEVENT
BEGIN:VEVENT
DTSTART;TZID=America/New_York:20200327T081000
DTEND;TZID=America/New_York:20200327T083000
DTSTAMP:20260422T182750
CREATED:20191228T001458Z
LAST-MODIFIED:20200114T214512Z
UID:21819-1585296600-1585297800@rsu23.org
SUMMARY:Jameson Assembly
DESCRIPTION:
URL:https://rsu23.org/event/jameson-assembly-21/
CATEGORIES:Jameson Elementary
END:VEVENT
BEGIN:VEVENT
DTSTART;TZID=America/New_York:20200326T143000
DTEND;TZID=America/New_York:20200326T170000
DTSTAMP:20260422T182750
CREATED:20191226T001531Z
LAST-MODIFIED:20200326T203019Z
UID:21685-1585233000-1585242000@rsu23.org
SUMMARY:Loranger Floor Hockey
DESCRIPTION:
URL:https://rsu23.org/event/loranger-floor-hockey-20/
CATEGORIES:Loranger Memorial
END:VEVENT
BEGIN:VEVENT
DTSTART;TZID=America/New_York:20200325T144500
DTEND;TZID=America/New_York:20200325T164500
DTSTAMP:20260422T182750
CREATED:20200225T161620Z
LAST-MODIFIED:20200325T201503Z
UID:25043-1585147500-1585154700@rsu23.org
SUMMARY:Girls on the Run LMS Gym
DESCRIPTION:
URL:https://rsu23.org/event/girls-on-the-run-lms-gym/
CATEGORIES:Loranger Memorial
END:VEVENT
BEGIN:VEVENT
DTSTART;TZID=America/New_York:20200325T143000
DTEND;TZID=America/New_York:20200325T183000
DTSTAMP:20260422T182750
CREATED:20191226T003026Z
LAST-MODIFIED:20200114T214512Z
UID:21687-1585146600-1585161000@rsu23.org
SUMMARY:Parent-Teacher Conferences
DESCRIPTION:
URL:https://rsu23.org/event/parent-teacher-conferences-10/
CATEGORIES:Jameson Elementary
END:VEVENT
BEGIN:VEVENT
DTSTART;TZID=America/New_York:20200324T143000
DTEND;TZID=America/New_York:20200324T170000
DTSTAMP:20260422T182750
CREATED:20191224T001705Z
LAST-MODIFIED:20200324T201514Z
UID:21549-1585060200-1585069200@rsu23.org
SUMMARY:Loranger Floor Hockey
DESCRIPTION:
URL:https://rsu23.org/event/loranger-floor-hockey-19/
CATEGORIES:Loranger Memorial
END:VEVENT
BEGIN:VEVENT
DTSTART;VALUE=DATE:20200320
DTEND;VALUE=DATE:20200321
DTSTAMP:20260422T182750
CREATED:20191221T004525Z
LAST-MODIFIED:20200114T214512Z
UID:21351-1584662400-1584748799@rsu23.org
SUMMARY:Teacher Workshop Day
DESCRIPTION:
URL:https://rsu23.org/event/teacher-workshop-day-2/
CATEGORIES:Jameson Elementary
END:VEVENT
BEGIN:VEVENT
DTSTART;TZID=America/New_York:20200319T180000
DTEND;TZID=America/New_York:20200319T190000
DTSTAMP:20260422T182750
CREATED:20191220T001502Z
LAST-MODIFIED:20200114T214512Z
UID:21280-1584640800-1584644400@rsu23.org
SUMMARY:School Board meeting
DESCRIPTION:
URL:https://rsu23.org/event/school-board-meeting-22/
LOCATION:Old Orchard Beach Town Hall\, 1 Portland Ave\, Old Orchard Beach\, ME 04064\, USA\, 2 Portland Ave\, United States
CATEGORIES:Jameson Elementary
END:VEVENT
BEGIN:VEVENT
DTSTART;TZID=America/New_York:20200319T143000
DTEND;TZID=America/New_York:20200319T183000
DTSTAMP:20260422T182750
CREATED:20191220T001502Z
LAST-MODIFIED:20200114T214512Z
UID:21281-1584628200-1584642600@rsu23.org
SUMMARY:Parent-Teacher conferences
DESCRIPTION:
URL:https://rsu23.org/event/parent-teacher-conferences-9/
CATEGORIES:Jameson Elementary
END:VEVENT
BEGIN:VEVENT
DTSTART;TZID=America/New_York:20200319T143000
DTEND;TZID=America/New_York:20200319T170000
DTSTAMP:20260422T182750
CREATED:20191219T001551Z
LAST-MODIFIED:20200319T200020Z
UID:21209-1584628200-1584637200@rsu23.org
SUMMARY:Loranger Floor Hockey
DESCRIPTION:
URL:https://rsu23.org/event/loranger-floor-hockey-18/
CATEGORIES:Loranger Memorial
END:VEVENT
BEGIN:VEVENT
DTSTART;TZID=America/New_York:20200318T143000
DTEND;TZID=America/New_York:20200318T163000
DTSTAMP:20260422T182750
CREATED:20191219T001551Z
LAST-MODIFIED:20200318T194510Z
UID:21208-1584541800-1584549000@rsu23.org
SUMMARY:LMS INDOOR SOCCER TOURNAMENT
DESCRIPTION:
URL:https://rsu23.org/event/lms-indoor-soccer-tournament-2/
CATEGORIES:Loranger Memorial
END:VEVENT
BEGIN:VEVENT
DTSTART;TZID=America/New_York:20200317T143000
DTEND;TZID=America/New_York:20200317T170000
DTSTAMP:20260422T182750
CREATED:20191217T000036Z
LAST-MODIFIED:20200317T203037Z
UID:21071-1584455400-1584464400@rsu23.org
SUMMARY:Loranger Floor Hockey
DESCRIPTION:
URL:https://rsu23.org/event/loranger-floor-hockey-17/
CATEGORIES:Loranger Memorial
END:VEVENT
BEGIN:VEVENT
DTSTART;TZID=America/New_York:20200313T081000
DTEND;TZID=America/New_York:20200313T083000
DTSTAMP:20260422T182750
CREATED:20191214T003038Z
LAST-MODIFIED:20200114T214512Z
UID:20867-1584087000-1584088200@rsu23.org
SUMMARY:Jameson Assembly
DESCRIPTION:
URL:https://rsu23.org/event/jameson-assembly-20/
CATEGORIES:Jameson Elementary
END:VEVENT
BEGIN:VEVENT
DTSTART;TZID=America/New_York:20200312T143000
DTEND;TZID=America/New_York:20200312T170000
DTSTAMP:20260422T182750
CREATED:20191212T004523Z
LAST-MODIFIED:20200312T204539Z
UID:20729-1584023400-1584032400@rsu23.org
SUMMARY:Loranger Floor Hockey
DESCRIPTION:
URL:https://rsu23.org/event/loranger-floor-hockey-16/
CATEGORIES:Loranger Memorial
END:VEVENT
BEGIN:VEVENT
DTSTART;TZID=America/New_York:20200311T143000
DTEND;TZID=America/New_York:20200311T163000
DTSTAMP:20260422T182750
CREATED:20191212T004523Z
LAST-MODIFIED:20191216T144533Z
UID:20728-1583937000-1583944200@rsu23.org
SUMMARY:LMS INDOOR SOCCER TOURNAMENT
DESCRIPTION:
URL:https://rsu23.org/event/lms-indoor-soccer-tournament/
CATEGORIES:Loranger Memorial
END:VEVENT
BEGIN:VEVENT
DTSTART;TZID=America/New_York:20200310T143000
DTEND;TZID=America/New_York:20200310T170000
DTSTAMP:20260422T182750
CREATED:20191210T000050Z
LAST-MODIFIED:20200310T204502Z
UID:20532-1583850600-1583859600@rsu23.org
SUMMARY:Loranger Floor Hockey
DESCRIPTION:
URL:https://rsu23.org/event/loranger-floor-hockey-15/
CATEGORIES:Loranger Memorial
END:VEVENT
END:VCALENDAR