BEGIN:VCALENDAR
VERSION:2.0
PRODID:-//RSU 23 Old Orchard Beach Schools - ECPv6.15.18//NONSGML v1.0//EN
CALSCALE:GREGORIAN
METHOD:PUBLISH
X-WR-CALNAME:RSU 23 Old Orchard Beach Schools
X-ORIGINAL-URL:https://rsu23.org
X-WR-CALDESC:Events for RSU 23 Old Orchard Beach Schools
REFRESH-INTERVAL;VALUE=DURATION:PT1H
X-Robots-Tag:noindex
X-PUBLISHED-TTL:PT1H
BEGIN:VTIMEZONE
TZID:America/New_York
BEGIN:DAYLIGHT
TZOFFSETFROM:-0500
TZOFFSETTO:-0400
TZNAME:EDT
DTSTART:20190310T070000
END:DAYLIGHT
BEGIN:STANDARD
TZOFFSETFROM:-0400
TZOFFSETTO:-0500
TZNAME:EST
DTSTART:20191103T060000
END:STANDARD
BEGIN:DAYLIGHT
TZOFFSETFROM:-0500
TZOFFSETTO:-0400
TZNAME:EDT
DTSTART:20200308T070000
END:DAYLIGHT
BEGIN:STANDARD
TZOFFSETFROM:-0400
TZOFFSETTO:-0500
TZNAME:EST
DTSTART:20201101T060000
END:STANDARD
BEGIN:DAYLIGHT
TZOFFSETFROM:-0500
TZOFFSETTO:-0400
TZNAME:EDT
DTSTART:20210314T070000
END:DAYLIGHT
BEGIN:STANDARD
TZOFFSETFROM:-0400
TZOFFSETTO:-0500
TZNAME:EST
DTSTART:20211107T060000
END:STANDARD
END:VTIMEZONE
BEGIN:VEVENT
DTSTART;VALUE=DATE:20201111
DTEND;VALUE=DATE:20201112
DTSTAMP:20260421T222202
CREATED:20201023T194527Z
LAST-MODIFIED:20201103T041200Z
UID:36598-1605052800-1605139199@rsu23.org
SUMMARY:Veteran's Day- No School
DESCRIPTION:
URL:https://rsu23.org/event/veterans-day-no-school-3/
CATEGORIES:Loranger Memorial
END:VEVENT
BEGIN:VEVENT
DTSTART;VALUE=DATE:20201111
DTEND;VALUE=DATE:20201112
DTSTAMP:20260421T222202
CREATED:20201023T191620Z
LAST-MODIFIED:20201103T041155Z
UID:36596-1605052800-1605139199@rsu23.org
SUMMARY:Veteran's Day- No School
DESCRIPTION:
URL:https://rsu23.org/event/veterans-day-no-school-2/
CATEGORIES:OOBHS
END:VEVENT
BEGIN:VEVENT
DTSTART;TZID=America/New_York:20201110T150000
DTEND;TZID=America/New_York:20201110T190000
DTSTAMP:20260421T222202
CREATED:20201002T202518Z
LAST-MODIFIED:20201110T013016Z
UID:35551-1605020400-1605034800@rsu23.org
SUMMARY:Parent/Teacher Conferences
DESCRIPTION:
URL:https://rsu23.org/event/parent-teacher-conferences-13/
END:VEVENT
BEGIN:VEVENT
DTSTART;TZID=America/New_York:20201110T150000
DTEND;TZID=America/New_York:20201110T190000
DTSTAMP:20260421T222202
CREATED:20200930T184622Z
LAST-MODIFIED:20201103T041200Z
UID:35438-1605020400-1605034800@rsu23.org
SUMMARY:Parent/Teacher Conferences
DESCRIPTION:
URL:https://rsu23.org/event/parent-teacher-conferences-11/
CATEGORIES:Loranger Memorial
END:VEVENT
BEGIN:VEVENT
DTSTART;VALUE=DATE:20201110
DTEND;VALUE=DATE:20201111
DTSTAMP:20260421T222202
CREATED:20200925T154456Z
LAST-MODIFIED:20201103T041155Z
UID:35197-1604966400-1605052799@rsu23.org
SUMMARY:Virtual Parent/Teacher Conferences PreK-12 (evening)
DESCRIPTION:
URL:https://rsu23.org/event/virtual-parent-teacher-conferences-prek-12-evening-2/
CATEGORIES:OOBHS
END:VEVENT
BEGIN:VEVENT
DTSTART;TZID=America/New_York:20201104T130000
DTEND;TZID=America/New_York:20201104T190000
DTSTAMP:20260421T222202
CREATED:20201019T191542Z
LAST-MODIFIED:20201103T041200Z
UID:36414-1604494800-1604516400@rsu23.org
SUMMARY:Parent/Teacher Conferences
DESCRIPTION:
URL:https://rsu23.org/event/parent-teacher-conferences-14/
CATEGORIES:Loranger Memorial
END:VEVENT
BEGIN:VEVENT
DTSTART;TZID=America/New_York:20201104T130000
DTEND;TZID=America/New_York:20201104T190000
DTSTAMP:20260421T222202
CREATED:20201002T202517Z
LAST-MODIFIED:20201104T004933Z
UID:35549-1604494800-1604516400@rsu23.org
SUMMARY:Parent/Teacher Conferences
DESCRIPTION:
URL:https://rsu23.org/event/parent-teacher-conferences-12/
END:VEVENT
BEGIN:VEVENT
DTSTART;VALUE=DATE:20201104
DTEND;VALUE=DATE:20201105
DTSTAMP:20260421T222202
CREATED:20201002T202517Z
LAST-MODIFIED:20201104T004933Z
UID:35550-1604448000-1604534399@rsu23.org
SUMMARY:Early Release Day
DESCRIPTION:
URL:https://rsu23.org/event/early-release-day-20/
END:VEVENT
BEGIN:VEVENT
DTSTART;VALUE=DATE:20201104
DTEND;VALUE=DATE:20201105
DTSTAMP:20260421T222202
CREATED:20200930T174500Z
LAST-MODIFIED:20201103T041200Z
UID:35431-1604448000-1604534399@rsu23.org
SUMMARY:Early Release Day
DESCRIPTION:
URL:https://rsu23.org/event/early-release-day-17/
CATEGORIES:Loranger Memorial
END:VEVENT
BEGIN:VEVENT
DTSTART;VALUE=DATE:20201104
DTEND;VALUE=DATE:20201105
DTSTAMP:20260421T222202
CREATED:20200925T154456Z
LAST-MODIFIED:20201103T041155Z
UID:35195-1604448000-1604534399@rsu23.org
SUMMARY:Virtual Parent/Teacher Conferences PreK-12 (evening)
DESCRIPTION:
URL:https://rsu23.org/event/virtual-parent-teacher-conferences-prek-12-evening/
CATEGORIES:OOBHS
END:VEVENT
BEGIN:VEVENT
DTSTART;VALUE=DATE:20201103
DTEND;VALUE=DATE:20201104
DTSTAMP:20260421T222202
CREATED:20200925T154456Z
LAST-MODIFIED:20201103T041155Z
UID:35196-1604361600-1604447999@rsu23.org
SUMMARY:Election Day - White Day Remote Learning Day
DESCRIPTION:
URL:https://rsu23.org/event/election-day-white-day-remote-learning-day/
CATEGORIES:OOBHS
END:VEVENT
BEGIN:VEVENT
DTSTART;VALUE=DATE:20201029
DTEND;VALUE=DATE:20201030
DTSTAMP:20260421T222202
CREATED:20201002T202517Z
LAST-MODIFIED:20201029T225111Z
UID:35548-1603929600-1604015999@rsu23.org
SUMMARY:School Picture Day
DESCRIPTION:
URL:https://rsu23.org/event/school-picture-day-3/
END:VEVENT
BEGIN:VEVENT
DTSTART;VALUE=DATE:20201023
DTEND;VALUE=DATE:20201024
DTSTAMP:20260421T222202
CREATED:20201015T181546Z
LAST-MODIFIED:20201023T234829Z
UID:36179-1603411200-1603497599@rsu23.org
SUMMARY:Spirit Week - Formal Friday
DESCRIPTION:
URL:https://rsu23.org/event/spirit-week-formal-friday/
CATEGORIES:OOBHS
END:VEVENT
BEGIN:VEVENT
DTSTART;VALUE=DATE:20201022
DTEND;VALUE=DATE:20201023
DTSTAMP:20260421T222202
CREATED:20201015T181546Z
LAST-MODIFIED:20201022T231705Z
UID:36180-1603324800-1603411199@rsu23.org
SUMMARY:Spirit Week - Throwback Thursday
DESCRIPTION:
URL:https://rsu23.org/event/spirit-week-throwback-thursday/
CATEGORIES:OOBHS
END:VEVENT
BEGIN:VEVENT
DTSTART;VALUE=DATE:20201021
DTEND;VALUE=DATE:20201022
DTSTAMP:20260421T222202
CREATED:20201015T181546Z
LAST-MODIFIED:20201021T230114Z
UID:36181-1603238400-1603324799@rsu23.org
SUMMARY:Spirit Week - Remote Learning Day
DESCRIPTION:
URL:https://rsu23.org/event/spirit-week-remote-learning-day/
CATEGORIES:OOBHS
END:VEVENT
BEGIN:VEVENT
DTSTART;VALUE=DATE:20201020
DTEND;VALUE=DATE:20201021
DTSTAMP:20260421T222202
CREATED:20201015T181546Z
LAST-MODIFIED:20201020T231531Z
UID:36182-1603152000-1603238399@rsu23.org
SUMMARY:Spirit Week - Class Color Day
DESCRIPTION:
URL:https://rsu23.org/event/spirit-week-class-colors/
CATEGORIES:OOBHS
END:VEVENT
BEGIN:VEVENT
DTSTART;VALUE=DATE:20201019
DTEND;VALUE=DATE:20201020
DTSTAMP:20260421T222202
CREATED:20201015T181546Z
LAST-MODIFIED:20201020T000003Z
UID:36183-1603065600-1603151999@rsu23.org
SUMMARY:Spirit Week - Gull Pride Day (wear Blue & White)
DESCRIPTION:
URL:https://rsu23.org/event/spirit-week-blue-white-day/
CATEGORIES:OOBHS
END:VEVENT
BEGIN:VEVENT
DTSTART;TZID=America/New_York:20201015T180000
DTEND;TZID=America/New_York:20201015T190000
DTSTAMP:20260421T222202
CREATED:20201002T202517Z
LAST-MODIFIED:20201015T214511Z
UID:35547-1602784800-1602788400@rsu23.org
SUMMARY:School Board meeting
DESCRIPTION:
URL:https://rsu23.org/event/school-board-meeting-24/
LOCATION:Old Orchard Beach Town Hall\, 1 Portland Ave\, Old Orchard Beach\, ME 04064\, USA\, 2 Portland Ave\, United States
END:VEVENT
BEGIN:VEVENT
DTSTART;VALUE=DATE:20201012
DTEND;VALUE=DATE:20201013
DTSTAMP:20260421T222202
CREATED:20201002T202517Z
LAST-MODIFIED:20201012T212044Z
UID:35545-1602460800-1602547199@rsu23.org
SUMMARY:Indigenous Peoples' Day - No School
DESCRIPTION:
URL:https://rsu23.org/event/indigenous-peoples-day-no-school-3/
END:VEVENT
BEGIN:VEVENT
DTSTART;VALUE=DATE:20201012
DTEND;VALUE=DATE:20201013
DTSTAMP:20260421T222202
CREATED:20200930T174500Z
LAST-MODIFIED:20201012T231728Z
UID:35430-1602460800-1602547199@rsu23.org
SUMMARY:Indigenous Peoples' Day - No School
DESCRIPTION:
URL:https://rsu23.org/event/indigenous-peoples-day-no-school-2/
CATEGORIES:Loranger Memorial
END:VEVENT
BEGIN:VEVENT
DTSTART;VALUE=DATE:20201012
DTEND;VALUE=DATE:20201013
DTSTAMP:20260421T222202
CREATED:20200915T173051Z
LAST-MODIFIED:20201012T234635Z
UID:34719-1602460800-1602547199@rsu23.org
SUMMARY:Indigenous People’s Day - No School
DESCRIPTION:
URL:https://rsu23.org/event/indigenous-peoples-day-no-school/
CATEGORIES:OOBHS
END:VEVENT
BEGIN:VEVENT
DTSTART;TZID=America/New_York:20201007T120000
DTEND;TZID=America/New_York:20201007T160000
DTSTAMP:20260421T222202
CREATED:20201002T202517Z
LAST-MODIFIED:20201006T204926Z
UID:35544-1602072000-1602086400@rsu23.org
SUMMARY:Professional Development
DESCRIPTION:
URL:https://rsu23.org/event/professional-development-3/
END:VEVENT
BEGIN:VEVENT
DTSTART;TZID=America/New_York:20201007T120000
DTEND;TZID=America/New_York:20201007T160000
DTSTAMP:20260421T222202
CREATED:20201002T121640Z
LAST-MODIFIED:20201007T195251Z
UID:35515-1602072000-1602086400@rsu23.org
SUMMARY:Professional Development
DESCRIPTION:
URL:https://rsu23.org/event/professional-development/
CATEGORIES:Loranger Memorial
END:VEVENT
BEGIN:VEVENT
DTSTART;VALUE=DATE:20201007
DTEND;VALUE=DATE:20201008
DTSTAMP:20260421T222202
CREATED:20201002T202517Z
LAST-MODIFIED:20201007T210124Z
UID:35543-1602028800-1602115199@rsu23.org
SUMMARY:Early Release Day
DESCRIPTION:
URL:https://rsu23.org/event/early-release-day-19/
END:VEVENT
BEGIN:VEVENT
DTSTART;VALUE=DATE:20201007
DTEND;VALUE=DATE:20201008
DTSTAMP:20260421T222202
CREATED:20200930T174500Z
LAST-MODIFIED:20201007T232958Z
UID:35429-1602028800-1602115199@rsu23.org
SUMMARY:Early Release Day
DESCRIPTION:
URL:https://rsu23.org/event/early-release-day-16/
CATEGORIES:Loranger Memorial
END:VEVENT
BEGIN:VEVENT
DTSTART;TZID=America/New_York:20201005T180000
DTEND;TZID=America/New_York:20201005T190000
DTSTAMP:20260421T222202
CREATED:20201005T203639Z
LAST-MODIFIED:20201005T203639Z
UID:35709-1601920800-1601924400@rsu23.org
SUMMARY:Jameson & Loranger PTO Meeting
DESCRIPTION:Meeting Link: https://global.gotomeeting.com/join/420573221
URL:https://rsu23.org/event/jameson-loranger-pto-meeting-2/
LOCATION:Loranger Middle School\, 148 Saco Ave\, Old Orchard Beach\, ME 04064\, USA
END:VEVENT
BEGIN:VEVENT
DTSTART;TZID=America/New_York:20201005T180000
DTEND;TZID=America/New_York:20201005T190000
DTSTAMP:20260421T222202
CREATED:20201005T154517Z
LAST-MODIFIED:20201005T223230Z
UID:35697-1601920800-1601924400@rsu23.org
SUMMARY:Jameson & Loranger PTO Meeting
DESCRIPTION:Meeting Link: https://global.gotomeeting.com/join/420573221
URL:https://rsu23.org/event/jameson-loranger-pto-meeting/
LOCATION:Loranger Middle School\, 148 Saco Ave\, Old Orchard Beach\, ME 04064\, USA
CATEGORIES:Loranger Memorial
END:VEVENT
BEGIN:VEVENT
DTSTART;VALUE=DATE:20201002
DTEND;VALUE=DATE:20201003
DTSTAMP:20260421T222202
CREATED:20200921T161807Z
LAST-MODIFIED:20201002T234653Z
UID:35018-1601596800-1601683199@rsu23.org
SUMMARY:School Picture Day
DESCRIPTION:
URL:https://rsu23.org/event/school-picture-day-2/
CATEGORIES:Loranger Memorial
END:VEVENT
BEGIN:VEVENT
DTSTART;VALUE=DATE:20200922
DTEND;VALUE=DATE:20200923
DTSTAMP:20260421T222203
CREATED:20200905T001519Z
LAST-MODIFIED:20200922T234600Z
UID:34224-1600732800-1600819199@rsu23.org
SUMMARY:Picture Day
DESCRIPTION:
URL:https://rsu23.org/event/picture-day/
CATEGORIES:OOBHS
END:VEVENT
BEGIN:VEVENT
DTSTART;VALUE=DATE:20200914
DTEND;VALUE=DATE:20200915
DTSTAMP:20260421T222203
CREATED:20200905T001519Z
LAST-MODIFIED:20200915T003037Z
UID:34223-1600041600-1600127999@rsu23.org
SUMMARY:BRCOT Starts
DESCRIPTION:
URL:https://rsu23.org/event/brcot-starts/
CATEGORIES:OOBHS
END:VEVENT
END:VCALENDAR