BEGIN:VCALENDAR
VERSION:2.0
PRODID:-//RSU 23 Old Orchard Beach Schools - ECPv6.15.18//NONSGML v1.0//EN
CALSCALE:GREGORIAN
METHOD:PUBLISH
X-WR-CALNAME:RSU 23 Old Orchard Beach Schools
X-ORIGINAL-URL:https://rsu23.org
X-WR-CALDESC:Events for RSU 23 Old Orchard Beach Schools
REFRESH-INTERVAL;VALUE=DURATION:PT1H
X-Robots-Tag:noindex
X-PUBLISHED-TTL:PT1H
BEGIN:VTIMEZONE
TZID:America/New_York
BEGIN:DAYLIGHT
TZOFFSETFROM:-0500
TZOFFSETTO:-0400
TZNAME:EDT
DTSTART:20200308T070000
END:DAYLIGHT
BEGIN:STANDARD
TZOFFSETFROM:-0400
TZOFFSETTO:-0500
TZNAME:EST
DTSTART:20201101T060000
END:STANDARD
BEGIN:DAYLIGHT
TZOFFSETFROM:-0500
TZOFFSETTO:-0400
TZNAME:EDT
DTSTART:20210314T070000
END:DAYLIGHT
BEGIN:STANDARD
TZOFFSETFROM:-0400
TZOFFSETTO:-0500
TZNAME:EST
DTSTART:20211107T060000
END:STANDARD
BEGIN:DAYLIGHT
TZOFFSETFROM:-0500
TZOFFSETTO:-0400
TZNAME:EDT
DTSTART:20220313T070000
END:DAYLIGHT
BEGIN:STANDARD
TZOFFSETFROM:-0400
TZOFFSETTO:-0500
TZNAME:EST
DTSTART:20221106T060000
END:STANDARD
BEGIN:DAYLIGHT
TZOFFSETFROM:-0500
TZOFFSETTO:-0400
TZNAME:EDT
DTSTART:20230312T070000
END:DAYLIGHT
BEGIN:STANDARD
TZOFFSETFROM:-0400
TZOFFSETTO:-0500
TZNAME:EST
DTSTART:20231105T060000
END:STANDARD
END:VTIMEZONE
BEGIN:VEVENT
DTSTART;VALUE=DATE:20220112
DTEND;VALUE=DATE:20220113
DTSTAMP:20260420T040345
CREATED:20211028T171510Z
LAST-MODIFIED:20220112T234459Z
UID:51602-1641945600-1642031999@rsu23.org
SUMMARY:Early Release Day
DESCRIPTION:
URL:https://rsu23.org/event/early-release-day-40/
CATEGORIES:Jameson Elementary
END:VEVENT
BEGIN:VEVENT
DTSTART;VALUE=DATE:20220112
DTEND;VALUE=DATE:20220113
DTSTAMP:20260420T040345
CREATED:20211021T174711Z
LAST-MODIFIED:20220112T233009Z
UID:51020-1641945600-1642031999@rsu23.org
SUMMARY:Early Release
DESCRIPTION:Noon Dismissal
URL:https://rsu23.org/event/early-release-7/
CATEGORIES:OOBHS
END:VEVENT
BEGIN:VEVENT
DTSTART;VALUE=DATE:20211227
DTEND;VALUE=DATE:20220101
DTSTAMP:20260420T040345
CREATED:20211021T174711Z
LAST-MODIFIED:20211231T233412Z
UID:51019-1640563200-1640995199@rsu23.org
SUMMARY:NO SCHOOL - Holiday Break
DESCRIPTION:
URL:https://rsu23.org/event/no-school-holiday-break-3/
CATEGORIES:OOBHS
END:VEVENT
BEGIN:VEVENT
DTSTART;VALUE=DATE:20211223
DTEND;VALUE=DATE:20220101
DTSTAMP:20260420T040345
CREATED:20211108T170815Z
LAST-MODIFIED:20211231T234849Z
UID:52513-1640217600-1640995199@rsu23.org
SUMMARY:No School- Holiday Break
DESCRIPTION:
URL:https://rsu23.org/event/no-school-holiday-break-5/
CATEGORIES:Loranger Memorial
END:VEVENT
BEGIN:VEVENT
DTSTART;VALUE=DATE:20211223
DTEND;VALUE=DATE:20220101
DTSTAMP:20260420T040345
CREATED:20211028T171510Z
LAST-MODIFIED:20211231T233412Z
UID:51601-1640217600-1640995199@rsu23.org
SUMMARY:No School- Holiday Break
DESCRIPTION:
URL:https://rsu23.org/event/no-school-holiday-break-4/
CATEGORIES:Jameson Elementary
END:VEVENT
BEGIN:VEVENT
DTSTART;VALUE=DATE:20211223
DTEND;VALUE=DATE:20211225
DTSTAMP:20260420T040345
CREATED:20211021T174711Z
LAST-MODIFIED:20211224T234535Z
UID:51018-1640217600-1640390399@rsu23.org
SUMMARY:NO SCHOOL - Holiday Break
DESCRIPTION:
URL:https://rsu23.org/event/no-school-holiday-break-2/
CATEGORIES:OOBHS
END:VEVENT
BEGIN:VEVENT
DTSTART;VALUE=DATE:20211201
DTEND;VALUE=DATE:20211202
DTSTAMP:20260420T040345
CREATED:20211108T170815Z
LAST-MODIFIED:20211202T000110Z
UID:52512-1638316800-1638403199@rsu23.org
SUMMARY:Early Release Day
DESCRIPTION:
URL:https://rsu23.org/event/early-release-day-42/
CATEGORIES:Loranger Memorial
END:VEVENT
BEGIN:VEVENT
DTSTART;VALUE=DATE:20211201
DTEND;VALUE=DATE:20211202
DTSTAMP:20260420T040345
CREATED:20211028T171510Z
LAST-MODIFIED:20211201T233102Z
UID:51600-1638316800-1638403199@rsu23.org
SUMMARY:Early Release Day
DESCRIPTION:
URL:https://rsu23.org/event/early-release-day-39/
CATEGORIES:Jameson Elementary
END:VEVENT
BEGIN:VEVENT
DTSTART;VALUE=DATE:20211201
DTEND;VALUE=DATE:20211202
DTSTAMP:20260420T040345
CREATED:20211021T171545Z
LAST-MODIFIED:20211201T234822Z
UID:51008-1638316800-1638403199@rsu23.org
SUMMARY:Early Release
DESCRIPTION:Noon Dismissal
URL:https://rsu23.org/event/early-release-6/
CATEGORIES:OOBHS
END:VEVENT
BEGIN:VEVENT
DTSTART;VALUE=DATE:20211124
DTEND;VALUE=DATE:20211127
DTSTAMP:20260420T040345
CREATED:20211021T171545Z
LAST-MODIFIED:20211123T191501Z
UID:51007-1637712000-1637971199@rsu23.org
SUMMARY:NO SCHOOL - Thanksgiving Break
DESCRIPTION:
URL:https://rsu23.org/event/thanksgiving-break-no-school/
CATEGORIES:OOBHS
END:VEVENT
BEGIN:VEVENT
DTSTART;VALUE=DATE:20211124
DTEND;VALUE=DATE:20211126
DTSTAMP:20260420T040345
CREATED:20211108T170815Z
LAST-MODIFIED:20211125T233110Z
UID:52511-1637712000-1637884799@rsu23.org
SUMMARY:No School- Thanksgiving Break
DESCRIPTION:
URL:https://rsu23.org/event/no-school-thanksgiving-break-2/
CATEGORIES:Loranger Memorial
END:VEVENT
BEGIN:VEVENT
DTSTART;VALUE=DATE:20211124
DTEND;VALUE=DATE:20211126
DTSTAMP:20260420T040345
CREATED:20211028T171510Z
LAST-MODIFIED:20211125T231849Z
UID:51599-1637712000-1637884799@rsu23.org
SUMMARY:No School- Thanksgiving Break
DESCRIPTION:
URL:https://rsu23.org/event/no-school-thanksgiving-break/
CATEGORIES:Jameson Elementary
END:VEVENT
BEGIN:VEVENT
DTSTART;VALUE=DATE:20211111
DTEND;VALUE=DATE:20211112
DTSTAMP:20260420T040345
CREATED:20211108T170815Z
LAST-MODIFIED:20211111T234554Z
UID:52510-1636588800-1636675199@rsu23.org
SUMMARY:No School- Veterans Day
DESCRIPTION:
URL:https://rsu23.org/event/no-school-veterans-day-3/
CATEGORIES:Loranger Memorial
END:VEVENT
BEGIN:VEVENT
DTSTART;VALUE=DATE:20211111
DTEND;VALUE=DATE:20211112
DTSTAMP:20260420T040345
CREATED:20211028T171510Z
LAST-MODIFIED:20211111T234554Z
UID:51598-1636588800-1636675199@rsu23.org
SUMMARY:No School- Veterans Day
DESCRIPTION:
URL:https://rsu23.org/event/no-school-veterans-day-2/
CATEGORIES:Jameson Elementary
END:VEVENT
BEGIN:VEVENT
DTSTART;VALUE=DATE:20211111
DTEND;VALUE=DATE:20211112
DTSTAMP:20260420T040345
CREATED:20211021T171545Z
LAST-MODIFIED:20211111T233115Z
UID:51006-1636588800-1636675199@rsu23.org
SUMMARY:NO SCHOOL - Veterans Day
DESCRIPTION:
URL:https://rsu23.org/event/veterans-day-no-school-5/
CATEGORIES:OOBHS
END:VEVENT
BEGIN:VEVENT
DTSTART;TZID=America/New_York:20211103T130000
DTEND;TZID=America/New_York:20211103T190000
DTSTAMP:20260420T040345
CREATED:20211021T171544Z
LAST-MODIFIED:20211103T224607Z
UID:51004-1635944400-1635966000@rsu23.org
SUMMARY:Parent-Teacher Conferences
DESCRIPTION:
URL:https://rsu23.org/event/parent-teacher-conferences-16/
CATEGORIES:OOBHS
END:VEVENT
BEGIN:VEVENT
DTSTART;VALUE=DATE:20211103
DTEND;VALUE=DATE:20211104
DTSTAMP:20260420T040345
CREATED:20211021T171545Z
LAST-MODIFIED:20211103T234723Z
UID:51005-1635897600-1635983999@rsu23.org
SUMMARY:Early Release
DESCRIPTION:Noon Dismissal
URL:https://rsu23.org/event/early-release-5/
CATEGORIES:OOBHS
END:VEVENT
BEGIN:VEVENT
DTSTART;VALUE=DATE:20211103
DTEND;VALUE=DATE:20211104
DTSTAMP:20260420T040345
CREATED:20210824T203043Z
LAST-MODIFIED:20211006T160240Z
UID:44171-1635897600-1635983999@rsu23.org
SUMMARY:Early Release Day
DESCRIPTION:
URL:https://rsu23.org/event/early-release-day-38/
CATEGORIES:Loranger Memorial
END:VEVENT
BEGIN:VEVENT
DTSTART;VALUE=DATE:20211103
DTEND;VALUE=DATE:20211104
DTSTAMP:20260420T040345
CREATED:20210824T201523Z
LAST-MODIFIED:20211103T233133Z
UID:44165-1635897600-1635983999@rsu23.org
SUMMARY:Early Release Day
DESCRIPTION:
URL:https://rsu23.org/event/early-release-day-36/
CATEGORIES:Jameson Elementary
END:VEVENT
BEGIN:VEVENT
DTSTART;VALUE=DATE:20211102
DTEND;VALUE=DATE:20211103
DTSTAMP:20260420T040345
CREATED:20211021T171544Z
LAST-MODIFIED:20211102T233132Z
UID:51003-1635811200-1635897599@rsu23.org
SUMMARY:Election Day (Asynchronous Learning Day Grades
DESCRIPTION:
URL:https://rsu23.org/event/election-day-asynchronous-learning-day-grades/
CATEGORIES:OOBHS
END:VEVENT
BEGIN:VEVENT
DTSTART;TZID=America/New_York:20211028T153000
DTEND;TZID=America/New_York:20211028T190000
DTSTAMP:20260420T040345
CREATED:20211021T171544Z
LAST-MODIFIED:20211028T230033Z
UID:51002-1635435000-1635447600@rsu23.org
SUMMARY:Parent-Teacher Conferences
DESCRIPTION:
URL:https://rsu23.org/event/parent-teacher-conferences-15/
CATEGORIES:OOBHS
END:VEVENT
BEGIN:VEVENT
DTSTART;VALUE=DATE:20211013
DTEND;VALUE=DATE:20211014
DTSTAMP:20260420T040345
CREATED:20211001T180237Z
LAST-MODIFIED:20211014T000204Z
UID:49036-1634083200-1634169599@rsu23.org
SUMMARY:PSAT
DESCRIPTION:
URL:https://rsu23.org/event/psat/
CATEGORIES:OOBHS
END:VEVENT
BEGIN:VEVENT
DTSTART;VALUE=DATE:20211011
DTEND;VALUE=DATE:20211012
DTSTAMP:20260420T040345
CREATED:20211001T180237Z
LAST-MODIFIED:20211011T231616Z
UID:49035-1633910400-1633996799@rsu23.org
SUMMARY:NO SCHOOL - Indigenous Peoples’ Day
DESCRIPTION:
URL:https://rsu23.org/event/no-school-indigenous-peoples-day-3/
CATEGORIES:OOBHS
END:VEVENT
BEGIN:VEVENT
DTSTART;VALUE=DATE:20211011
DTEND;VALUE=DATE:20211012
DTSTAMP:20260420T040345
CREATED:20210824T203043Z
LAST-MODIFIED:20211006T160240Z
UID:44170-1633910400-1633996799@rsu23.org
SUMMARY:No School- Indigenous People's Day
DESCRIPTION:
URL:https://rsu23.org/event/no-school-indigenous-peoples-day-2/
CATEGORIES:Loranger Memorial
END:VEVENT
BEGIN:VEVENT
DTSTART;VALUE=DATE:20211011
DTEND;VALUE=DATE:20211012
DTSTAMP:20260420T040345
CREATED:20210824T201523Z
LAST-MODIFIED:20211011T234508Z
UID:44164-1633910400-1633996799@rsu23.org
SUMMARY:No School- Indigenous People's Day
DESCRIPTION:
URL:https://rsu23.org/event/no-school-indigenous-peoples-day/
CATEGORIES:Jameson Elementary
END:VEVENT
BEGIN:VEVENT
DTSTART;TZID=America/New_York:20211009T190000
DTEND;TZID=America/New_York:20211009T210000
DTSTAMP:20260420T040345
CREATED:20211001T180237Z
LAST-MODIFIED:20211010T004546Z
UID:49034-1633806000-1633813200@rsu23.org
SUMMARY:Homecoming Dance
DESCRIPTION:
URL:https://rsu23.org/event/homecoming-dance-2/
CATEGORIES:OOBHS
END:VEVENT
BEGIN:VEVENT
DTSTART;VALUE=DATE:20211008
DTEND;VALUE=DATE:20211009
DTSTAMP:20260420T040345
CREATED:20210921T131553Z
LAST-MODIFIED:20211008T233309Z
UID:47734-1633651200-1633737599@rsu23.org
SUMMARY:Jameson School Picture Day
DESCRIPTION:
URL:https://rsu23.org/event/jameson-school-picture-day-2/
CATEGORIES:Jameson Elementary
END:VEVENT
BEGIN:VEVENT
DTSTART;VALUE=DATE:20211006
DTEND;VALUE=DATE:20211007
DTSTAMP:20260420T040345
CREATED:20211001T180237Z
LAST-MODIFIED:20211006T163134Z
UID:49031-1633478400-1633564799@rsu23.org
SUMMARY:Early Release
DESCRIPTION:
URL:https://rsu23.org/event/early-release-4/
CATEGORIES:OOBHS
END:VEVENT
BEGIN:VEVENT
DTSTART;VALUE=DATE:20211006
DTEND;VALUE=DATE:20211007
DTSTAMP:20260420T040345
CREATED:20210824T203042Z
LAST-MODIFIED:20211006T160240Z
UID:44169-1633478400-1633564799@rsu23.org
SUMMARY:Early Release Day
DESCRIPTION:
URL:https://rsu23.org/event/early-release-day-37/
CATEGORIES:Loranger Memorial
END:VEVENT
BEGIN:VEVENT
DTSTART;VALUE=DATE:20211006
DTEND;VALUE=DATE:20211007
DTSTAMP:20260420T040345
CREATED:20210824T201523Z
LAST-MODIFIED:20211006T163137Z
UID:44163-1633478400-1633564799@rsu23.org
SUMMARY:Early Release Day
DESCRIPTION:
URL:https://rsu23.org/event/early-release-day-35/
CATEGORIES:Jameson Elementary
END:VEVENT
END:VCALENDAR