BEGIN:VCALENDAR
VERSION:2.0
PRODID:-//RSU 23 Old Orchard Beach Schools - ECPv6.15.18//NONSGML v1.0//EN
CALSCALE:GREGORIAN
METHOD:PUBLISH
X-WR-CALNAME:RSU 23 Old Orchard Beach Schools
X-ORIGINAL-URL:https://rsu23.org
X-WR-CALDESC:Events for RSU 23 Old Orchard Beach Schools
REFRESH-INTERVAL;VALUE=DURATION:PT1H
X-Robots-Tag:noindex
X-PUBLISHED-TTL:PT1H
BEGIN:VTIMEZONE
TZID:America/New_York
BEGIN:DAYLIGHT
TZOFFSETFROM:-0500
TZOFFSETTO:-0400
TZNAME:EDT
DTSTART:20210314T070000
END:DAYLIGHT
BEGIN:STANDARD
TZOFFSETFROM:-0400
TZOFFSETTO:-0500
TZNAME:EST
DTSTART:20211107T060000
END:STANDARD
BEGIN:DAYLIGHT
TZOFFSETFROM:-0500
TZOFFSETTO:-0400
TZNAME:EDT
DTSTART:20220313T070000
END:DAYLIGHT
BEGIN:STANDARD
TZOFFSETFROM:-0400
TZOFFSETTO:-0500
TZNAME:EST
DTSTART:20221106T060000
END:STANDARD
BEGIN:DAYLIGHT
TZOFFSETFROM:-0500
TZOFFSETTO:-0400
TZNAME:EDT
DTSTART:20230312T070000
END:DAYLIGHT
BEGIN:STANDARD
TZOFFSETFROM:-0400
TZOFFSETTO:-0500
TZNAME:EST
DTSTART:20231105T060000
END:STANDARD
END:VTIMEZONE
BEGIN:VEVENT
DTSTART;VALUE=DATE:20220415
DTEND;VALUE=DATE:20220416
DTSTAMP:20260420T021329
CREATED:20220115T000333Z
LAST-MODIFIED:20220415T234939Z
UID:60532-1649980800-1650067199@rsu23.org
SUMMARY:No School- Teacher Compensation Day
DESCRIPTION:
URL:https://rsu23.org/event/no-school-teacher-compensation-day/
CATEGORIES:Loranger Memorial
END:VEVENT
BEGIN:VEVENT
DTSTART;VALUE=DATE:20220415
DTEND;VALUE=DATE:20220416
DTSTAMP:20260420T021329
CREATED:20220115T000333Z
LAST-MODIFIED:20220415T233350Z
UID:60533-1649980800-1650067199@rsu23.org
SUMMARY:NO SCHOOL - April Break
DESCRIPTION:
URL:https://rsu23.org/event/no-school-april-break/
CATEGORIES:OOBHS
END:VEVENT
BEGIN:VEVENT
DTSTART;VALUE=DATE:20220412
DTEND;VALUE=DATE:20220413
DTSTAMP:20260420T021329
CREATED:20220216T210213Z
LAST-MODIFIED:20220412T234602Z
UID:64184-1649721600-1649807999@rsu23.org
SUMMARY:College\, Career and Financial Aid Information Night
DESCRIPTION:
URL:https://rsu23.org/event/college-career-and-financial-aid-information-night/
CATEGORIES:OOBHS
END:VEVENT
BEGIN:VEVENT
DTSTART;VALUE=DATE:20220406
DTEND;VALUE=DATE:20220407
DTSTAMP:20260420T021329
CREATED:20220216T203018Z
LAST-MODIFIED:20220406T234622Z
UID:64161-1649203200-1649289599@rsu23.org
SUMMARY:Scholarship Night
DESCRIPTION:
URL:https://rsu23.org/event/scholarship-night/
CATEGORIES:OOBHS
END:VEVENT
BEGIN:VEVENT
DTSTART;VALUE=DATE:20220406
DTEND;VALUE=DATE:20220407
DTSTAMP:20260420T021329
CREATED:20220106T001502Z
LAST-MODIFIED:20220406T233123Z
UID:59431-1649203200-1649289599@rsu23.org
SUMMARY:Early Release Day
DESCRIPTION:
URL:https://rsu23.org/event/early-release-day-48/
CATEGORIES:Jameson Elementary
END:VEVENT
BEGIN:VEVENT
DTSTART;VALUE=DATE:20220406
DTEND;VALUE=DATE:20220407
DTSTAMP:20260420T021329
CREATED:20220106T000017Z
LAST-MODIFIED:20220406T234622Z
UID:59429-1649203200-1649289599@rsu23.org
SUMMARY:Early Release
DESCRIPTION:Noon Dismissal
URL:https://rsu23.org/event/early-release-10/
CATEGORIES:OOBHS
END:VEVENT
BEGIN:VEVENT
DTSTART;VALUE=DATE:20220406
DTEND;VALUE=DATE:20220407
DTSTAMP:20260420T021329
CREATED:20220106T000016Z
LAST-MODIFIED:20220406T234622Z
UID:59428-1649203200-1649289599@rsu23.org
SUMMARY:Early Release Day
DESCRIPTION:
URL:https://rsu23.org/event/early-release-day-47/
CATEGORIES:Loranger Memorial
END:VEVENT
BEGIN:VEVENT
DTSTART;VALUE=DATE:20220330
DTEND;VALUE=DATE:20220331
DTSTAMP:20260420T021329
CREATED:20220321T141524Z
LAST-MODIFIED:20220330T233016Z
UID:68145-1648598400-1648684799@rsu23.org
SUMMARY:8th Grade Family Night
DESCRIPTION:
URL:https://rsu23.org/event/8th-grade-family-night-2/
CATEGORIES:Loranger Memorial
END:VEVENT
BEGIN:VEVENT
DTSTART;VALUE=DATE:20220330
DTEND;VALUE=DATE:20220331
DTSTAMP:20260420T021329
CREATED:20220216T210213Z
LAST-MODIFIED:20220330T234607Z
UID:64183-1648598400-1648684799@rsu23.org
SUMMARY:8th Grade Family Night
DESCRIPTION:
URL:https://rsu23.org/event/8th-grade-family-night/
CATEGORIES:OOBHS
END:VEVENT
BEGIN:VEVENT
DTSTART;TZID=America/New_York:20220324T150000
DTEND;TZID=America/New_York:20220324T190000
DTSTAMP:20260420T021329
CREATED:20220321T141524Z
LAST-MODIFIED:20220324T224618Z
UID:68144-1648134000-1648148400@rsu23.org
SUMMARY:Parent/Teacher conferences
DESCRIPTION:
URL:https://rsu23.org/event/parent-teacher-conferences-17/
CATEGORIES:Loranger Memorial
END:VEVENT
BEGIN:VEVENT
DTSTART;TZID=America/New_York:20220314T160000
DTEND;TZID=America/New_York:20220314T170000
DTSTAMP:20260420T021329
CREATED:20220216T210213Z
LAST-MODIFIED:20220311T181548Z
UID:64182-1647273600-1647277200@rsu23.org
SUMMARY:OOB Unified BB vs Greely
DESCRIPTION:
URL:https://rsu23.org/event/oob-unified-bb-vs-greely/
CATEGORIES:OOBHS
END:VEVENT
BEGIN:VEVENT
DTSTART;TZID=America/New_York:20220310T160000
DTEND;TZID=America/New_York:20220310T170000
DTSTAMP:20260420T021329
CREATED:20220216T210213Z
LAST-MODIFIED:20220310T211755Z
UID:64181-1646928000-1646931600@rsu23.org
SUMMARY:OOB Unified BB @ CE
DESCRIPTION:
URL:https://rsu23.org/event/oob-unified-bb-ce/
CATEGORIES:OOBHS
END:VEVENT
BEGIN:VEVENT
DTSTART;TZID=America/New_York:20220308T160000
DTEND;TZID=America/New_York:20220308T170000
DTSTAMP:20260420T021329
CREATED:20220216T210213Z
LAST-MODIFIED:20220308T213031Z
UID:64180-1646755200-1646758800@rsu23.org
SUMMARY:OOB Unified BB @ GNG
DESCRIPTION:
URL:https://rsu23.org/event/oob-unified-bb-gng/
CATEGORIES:OOBHS
END:VEVENT
BEGIN:VEVENT
DTSTART;TZID=America/New_York:20220303T160000
DTEND;TZID=America/New_York:20220303T170000
DTSTAMP:20260420T021329
CREATED:20220216T210213Z
LAST-MODIFIED:20220303T213043Z
UID:64179-1646323200-1646326800@rsu23.org
SUMMARY:OOB Unified BB vs CE
DESCRIPTION:
URL:https://rsu23.org/event/oob-unified-bb-vs-ce/
CATEGORIES:OOBHS
END:VEVENT
BEGIN:VEVENT
DTSTART;VALUE=DATE:20220302
DTEND;VALUE=DATE:20220303
DTSTAMP:20260420T021329
CREATED:20211202T003057Z
LAST-MODIFIED:20220302T231657Z
UID:55253-1646179200-1646265599@rsu23.org
SUMMARY:Early Release Day
DESCRIPTION:
URL:https://rsu23.org/event/early-release-day-46/
CATEGORIES:Loranger Memorial
END:VEVENT
BEGIN:VEVENT
DTSTART;VALUE=DATE:20220302
DTEND;VALUE=DATE:20220303
DTSTAMP:20260420T021329
CREATED:20211202T001502Z
LAST-MODIFIED:20220303T000008Z
UID:55251-1646179200-1646265599@rsu23.org
SUMMARY:Early Release Day
DESCRIPTION:
URL:https://rsu23.org/event/early-release-day-45/
CATEGORIES:Jameson Elementary
END:VEVENT
BEGIN:VEVENT
DTSTART;VALUE=DATE:20220302
DTEND;VALUE=DATE:20220303
DTSTAMP:20260420T021329
CREATED:20211202T001501Z
LAST-MODIFIED:20220302T234546Z
UID:55250-1646179200-1646265599@rsu23.org
SUMMARY:Early Release
DESCRIPTION:Noon Dismissal
URL:https://rsu23.org/event/early-release-9/
CATEGORIES:OOBHS
END:VEVENT
BEGIN:VEVENT
DTSTART;VALUE=DATE:20220222
DTEND;VALUE=DATE:20220226
DTSTAMP:20260420T021329
CREATED:20211124T003021Z
LAST-MODIFIED:20220225T234627Z
UID:54310-1645488000-1645833599@rsu23.org
SUMMARY:NO SCHOOL - February Vacation
DESCRIPTION:
URL:https://rsu23.org/event/no-school-february-vacation/
CATEGORIES:OOBHS
END:VEVENT
BEGIN:VEVENT
DTSTART;VALUE=DATE:20220221
DTEND;VALUE=DATE:20220226
DTSTAMP:20260420T021329
CREATED:20211123T001642Z
LAST-MODIFIED:20220225T233142Z
UID:54188-1645401600-1645833599@rsu23.org
SUMMARY:No School- President's Day & School Vacation
DESCRIPTION:
URL:https://rsu23.org/event/no-school-presidents-day-school-vacation-2/
CATEGORIES:Loranger Memorial
END:VEVENT
BEGIN:VEVENT
DTSTART;VALUE=DATE:20220221
DTEND;VALUE=DATE:20220226
DTSTAMP:20260420T021329
CREATED:20211123T000135Z
LAST-MODIFIED:20220225T231632Z
UID:54185-1645401600-1645833599@rsu23.org
SUMMARY:No School- President's Day & School Vacation
DESCRIPTION:
URL:https://rsu23.org/event/no-school-presidents-day-school-vacation/
CATEGORIES:Jameson Elementary
END:VEVENT
BEGIN:VEVENT
DTSTART;VALUE=DATE:20220221
DTEND;VALUE=DATE:20220222
DTSTAMP:20260420T021329
CREATED:20211123T000136Z
LAST-MODIFIED:20220221T234733Z
UID:54186-1645401600-1645487999@rsu23.org
SUMMARY:NO SCHOOL - Presidents' Day
DESCRIPTION:
URL:https://rsu23.org/event/no-school-presidents-day/
CATEGORIES:OOBHS
END:VEVENT
BEGIN:VEVENT
DTSTART;VALUE=DATE:20220202
DTEND;VALUE=DATE:20220203
DTSTAMP:20260420T021329
CREATED:20211108T170815Z
LAST-MODIFIED:20220202T234552Z
UID:52516-1643760000-1643846399@rsu23.org
SUMMARY:Early Release Day
DESCRIPTION:
URL:https://rsu23.org/event/early-release-day-44/
CATEGORIES:Loranger Memorial
END:VEVENT
BEGIN:VEVENT
DTSTART;VALUE=DATE:20220202
DTEND;VALUE=DATE:20220203
DTSTAMP:20260420T021329
CREATED:20211104T003011Z
LAST-MODIFIED:20220203T000035Z
UID:52126-1643760000-1643846399@rsu23.org
SUMMARY:Early Release
DESCRIPTION:Noon Dismissal
URL:https://rsu23.org/event/early-release-8/
CATEGORIES:OOBHS
END:VEVENT
BEGIN:VEVENT
DTSTART;VALUE=DATE:20220202
DTEND;VALUE=DATE:20220203
DTSTAMP:20260420T021329
CREATED:20211104T000125Z
LAST-MODIFIED:20220202T234551Z
UID:52122-1643760000-1643846399@rsu23.org
SUMMARY:Early Release Day
DESCRIPTION:
URL:https://rsu23.org/event/early-release-day-41/
CATEGORIES:Jameson Elementary
END:VEVENT
BEGIN:VEVENT
DTSTART;TZID=America/New_York:20220121T123000
DTEND;TZID=America/New_York:20220121T144500
DTSTAMP:20260420T021329
CREATED:20220110T144726Z
LAST-MODIFIED:20220111T163003Z
UID:60000-1642768200-1642776300@rsu23.org
SUMMARY:Midterm Make-Up
DESCRIPTION:
URL:https://rsu23.org/event/midterm-make-up-4/
CATEGORIES:OOBHS
END:VEVENT
BEGIN:VEVENT
DTSTART;TZID=America/New_York:20220121T103000
DTEND;TZID=America/New_York:20220121T120000
DTSTAMP:20260420T021329
CREATED:20220110T144726Z
LAST-MODIFIED:20220111T163003Z
UID:59999-1642761000-1642766400@rsu23.org
SUMMARY:Block 8 - Midterm
DESCRIPTION:
URL:https://rsu23.org/event/block-8-midterm/
CATEGORIES:OOBHS
END:VEVENT
BEGIN:VEVENT
DTSTART;TZID=America/New_York:20220121T083000
DTEND;TZID=America/New_York:20220121T100000
DTSTAMP:20260420T021329
CREATED:20220110T144726Z
LAST-MODIFIED:20220111T163003Z
UID:59998-1642753800-1642759200@rsu23.org
SUMMARY:Block 6 - Midterm
DESCRIPTION:
URL:https://rsu23.org/event/block-6-midterm/
CATEGORIES:OOBHS
END:VEVENT
BEGIN:VEVENT
DTSTART;TZID=America/New_York:20220120T180000
DTEND;TZID=America/New_York:20220120T200000
DTSTAMP:20260420T021329
CREATED:20220110T144726Z
LAST-MODIFIED:20220111T163003Z
UID:59997-1642701600-1642708800@rsu23.org
SUMMARY:Trivia Night
DESCRIPTION:
URL:https://rsu23.org/event/trivia-night/
CATEGORIES:OOBHS
END:VEVENT
BEGIN:VEVENT
DTSTART;TZID=America/New_York:20220120T123000
DTEND;TZID=America/New_York:20220120T144500
DTSTAMP:20260420T021329
CREATED:20220110T144726Z
LAST-MODIFIED:20220111T163003Z
UID:59996-1642681800-1642689900@rsu23.org
SUMMARY:Midterm Make-Up
DESCRIPTION:
URL:https://rsu23.org/event/midterm-make-up-3/
CATEGORIES:OOBHS
END:VEVENT
BEGIN:VEVENT
DTSTART;TZID=America/New_York:20220120T103000
DTEND;TZID=America/New_York:20220120T120000
DTSTAMP:20260420T021329
CREATED:20220110T144726Z
LAST-MODIFIED:20220111T163003Z
UID:59995-1642674600-1642680000@rsu23.org
SUMMARY:Block 7 - Midterm
DESCRIPTION:
URL:https://rsu23.org/event/block-7-midterm/
CATEGORIES:OOBHS
END:VEVENT
END:VCALENDAR