BEGIN:VCALENDAR
VERSION:2.0
PRODID:-//RSU 23 Old Orchard Beach Schools - ECPv6.15.18//NONSGML v1.0//EN
CALSCALE:GREGORIAN
METHOD:PUBLISH
X-WR-CALNAME:RSU 23 Old Orchard Beach Schools
X-ORIGINAL-URL:https://rsu23.org
X-WR-CALDESC:Events for RSU 23 Old Orchard Beach Schools
REFRESH-INTERVAL;VALUE=DURATION:PT1H
X-Robots-Tag:noindex
X-PUBLISHED-TTL:PT1H
BEGIN:VTIMEZONE
TZID:America/New_York
BEGIN:DAYLIGHT
TZOFFSETFROM:-0500
TZOFFSETTO:-0400
TZNAME:EDT
DTSTART:20200308T070000
END:DAYLIGHT
BEGIN:STANDARD
TZOFFSETFROM:-0400
TZOFFSETTO:-0500
TZNAME:EST
DTSTART:20201101T060000
END:STANDARD
BEGIN:DAYLIGHT
TZOFFSETFROM:-0500
TZOFFSETTO:-0400
TZNAME:EDT
DTSTART:20210314T070000
END:DAYLIGHT
BEGIN:STANDARD
TZOFFSETFROM:-0400
TZOFFSETTO:-0500
TZNAME:EST
DTSTART:20211107T060000
END:STANDARD
BEGIN:DAYLIGHT
TZOFFSETFROM:-0500
TZOFFSETTO:-0400
TZNAME:EDT
DTSTART:20220313T070000
END:DAYLIGHT
BEGIN:STANDARD
TZOFFSETFROM:-0400
TZOFFSETTO:-0500
TZNAME:EST
DTSTART:20221106T060000
END:STANDARD
END:VTIMEZONE
BEGIN:VEVENT
DTSTART;TZID=America/New_York:20211103T130000
DTEND;TZID=America/New_York:20211103T190000
DTSTAMP:20260420T032246
CREATED:20211021T171544Z
LAST-MODIFIED:20211103T224607Z
UID:51004-1635944400-1635966000@rsu23.org
SUMMARY:Parent-Teacher Conferences
DESCRIPTION:
URL:https://rsu23.org/event/parent-teacher-conferences-16/
CATEGORIES:OOBHS
END:VEVENT
BEGIN:VEVENT
DTSTART;VALUE=DATE:20211103
DTEND;VALUE=DATE:20211104
DTSTAMP:20260420T032246
CREATED:20211021T171545Z
LAST-MODIFIED:20211103T234723Z
UID:51005-1635897600-1635983999@rsu23.org
SUMMARY:Early Release
DESCRIPTION:Noon Dismissal
URL:https://rsu23.org/event/early-release-5/
CATEGORIES:OOBHS
END:VEVENT
BEGIN:VEVENT
DTSTART;VALUE=DATE:20211103
DTEND;VALUE=DATE:20211104
DTSTAMP:20260420T032246
CREATED:20210824T203043Z
LAST-MODIFIED:20211006T160240Z
UID:44171-1635897600-1635983999@rsu23.org
SUMMARY:Early Release Day
DESCRIPTION:
URL:https://rsu23.org/event/early-release-day-38/
CATEGORIES:Loranger Memorial
END:VEVENT
BEGIN:VEVENT
DTSTART;VALUE=DATE:20211103
DTEND;VALUE=DATE:20211104
DTSTAMP:20260420T032246
CREATED:20210824T201523Z
LAST-MODIFIED:20211103T233133Z
UID:44165-1635897600-1635983999@rsu23.org
SUMMARY:Early Release Day
DESCRIPTION:
URL:https://rsu23.org/event/early-release-day-36/
CATEGORIES:Jameson Elementary
END:VEVENT
BEGIN:VEVENT
DTSTART;VALUE=DATE:20211102
DTEND;VALUE=DATE:20211103
DTSTAMP:20260420T032246
CREATED:20211021T171544Z
LAST-MODIFIED:20211102T233132Z
UID:51003-1635811200-1635897599@rsu23.org
SUMMARY:Election Day (Asynchronous Learning Day Grades
DESCRIPTION:
URL:https://rsu23.org/event/election-day-asynchronous-learning-day-grades/
CATEGORIES:OOBHS
END:VEVENT
BEGIN:VEVENT
DTSTART;TZID=America/New_York:20211028T153000
DTEND;TZID=America/New_York:20211028T190000
DTSTAMP:20260420T032246
CREATED:20211021T171544Z
LAST-MODIFIED:20211028T230033Z
UID:51002-1635435000-1635447600@rsu23.org
SUMMARY:Parent-Teacher Conferences
DESCRIPTION:
URL:https://rsu23.org/event/parent-teacher-conferences-15/
CATEGORIES:OOBHS
END:VEVENT
BEGIN:VEVENT
DTSTART;VALUE=DATE:20211013
DTEND;VALUE=DATE:20211014
DTSTAMP:20260420T032246
CREATED:20211001T180237Z
LAST-MODIFIED:20211014T000204Z
UID:49036-1634083200-1634169599@rsu23.org
SUMMARY:PSAT
DESCRIPTION:
URL:https://rsu23.org/event/psat/
CATEGORIES:OOBHS
END:VEVENT
BEGIN:VEVENT
DTSTART;VALUE=DATE:20211011
DTEND;VALUE=DATE:20211012
DTSTAMP:20260420T032246
CREATED:20211001T180237Z
LAST-MODIFIED:20211011T231616Z
UID:49035-1633910400-1633996799@rsu23.org
SUMMARY:NO SCHOOL - Indigenous Peoples’ Day
DESCRIPTION:
URL:https://rsu23.org/event/no-school-indigenous-peoples-day-3/
CATEGORIES:OOBHS
END:VEVENT
BEGIN:VEVENT
DTSTART;VALUE=DATE:20211011
DTEND;VALUE=DATE:20211012
DTSTAMP:20260420T032246
CREATED:20210824T203043Z
LAST-MODIFIED:20211006T160240Z
UID:44170-1633910400-1633996799@rsu23.org
SUMMARY:No School- Indigenous People's Day
DESCRIPTION:
URL:https://rsu23.org/event/no-school-indigenous-peoples-day-2/
CATEGORIES:Loranger Memorial
END:VEVENT
BEGIN:VEVENT
DTSTART;VALUE=DATE:20211011
DTEND;VALUE=DATE:20211012
DTSTAMP:20260420T032246
CREATED:20210824T201523Z
LAST-MODIFIED:20211011T234508Z
UID:44164-1633910400-1633996799@rsu23.org
SUMMARY:No School- Indigenous People's Day
DESCRIPTION:
URL:https://rsu23.org/event/no-school-indigenous-peoples-day/
CATEGORIES:Jameson Elementary
END:VEVENT
BEGIN:VEVENT
DTSTART;TZID=America/New_York:20211009T190000
DTEND;TZID=America/New_York:20211009T210000
DTSTAMP:20260420T032246
CREATED:20211001T180237Z
LAST-MODIFIED:20211010T004546Z
UID:49034-1633806000-1633813200@rsu23.org
SUMMARY:Homecoming Dance
DESCRIPTION:
URL:https://rsu23.org/event/homecoming-dance-2/
CATEGORIES:OOBHS
END:VEVENT
BEGIN:VEVENT
DTSTART;VALUE=DATE:20211008
DTEND;VALUE=DATE:20211009
DTSTAMP:20260420T032246
CREATED:20210921T131553Z
LAST-MODIFIED:20211008T233309Z
UID:47734-1633651200-1633737599@rsu23.org
SUMMARY:Jameson School Picture Day
DESCRIPTION:
URL:https://rsu23.org/event/jameson-school-picture-day-2/
CATEGORIES:Jameson Elementary
END:VEVENT
BEGIN:VEVENT
DTSTART;VALUE=DATE:20211006
DTEND;VALUE=DATE:20211007
DTSTAMP:20260420T032246
CREATED:20211001T180237Z
LAST-MODIFIED:20211006T163134Z
UID:49031-1633478400-1633564799@rsu23.org
SUMMARY:Early Release
DESCRIPTION:
URL:https://rsu23.org/event/early-release-4/
CATEGORIES:OOBHS
END:VEVENT
BEGIN:VEVENT
DTSTART;VALUE=DATE:20211006
DTEND;VALUE=DATE:20211007
DTSTAMP:20260420T032246
CREATED:20210824T203042Z
LAST-MODIFIED:20211006T160240Z
UID:44169-1633478400-1633564799@rsu23.org
SUMMARY:Early Release Day
DESCRIPTION:
URL:https://rsu23.org/event/early-release-day-37/
CATEGORIES:Loranger Memorial
END:VEVENT
BEGIN:VEVENT
DTSTART;VALUE=DATE:20211006
DTEND;VALUE=DATE:20211007
DTSTAMP:20260420T032246
CREATED:20210824T201523Z
LAST-MODIFIED:20211006T163137Z
UID:44163-1633478400-1633564799@rsu23.org
SUMMARY:Early Release Day
DESCRIPTION:
URL:https://rsu23.org/event/early-release-day-35/
CATEGORIES:Jameson Elementary
END:VEVENT
BEGIN:VEVENT
DTSTART;VALUE=DATE:20211005
DTEND;VALUE=DATE:20211006
DTSTAMP:20260420T032246
CREATED:20211001T180237Z
LAST-MODIFIED:20211005T233453Z
UID:49033-1633392000-1633478399@rsu23.org
SUMMARY:College Information Night for Seniors
DESCRIPTION:
URL:https://rsu23.org/event/college-information-night-for-seniors/
CATEGORIES:OOBHS
END:VEVENT
BEGIN:VEVENT
DTSTART;VALUE=DATE:20211004
DTEND;VALUE=DATE:20211009
DTSTAMP:20260420T032246
CREATED:20211001T180237Z
LAST-MODIFIED:20211008T234719Z
UID:49032-1633305600-1633737599@rsu23.org
SUMMARY:Spirit Week
DESCRIPTION:
URL:https://rsu23.org/event/spirit-week/
CATEGORIES:OOBHS
END:VEVENT
BEGIN:VEVENT
DTSTART;TZID=America/New_York:20211001T080000
DTEND;TZID=America/New_York:20211001T110000
DTSTAMP:20260420T032246
CREATED:20210901T193113Z
LAST-MODIFIED:20211001T143441Z
UID:45213-1633075200-1633086000@rsu23.org
SUMMARY:School Picture Day
DESCRIPTION:
URL:https://rsu23.org/event/school-picture-day-4/
CATEGORIES:Loranger Memorial
END:VEVENT
BEGIN:VEVENT
DTSTART;TZID=America/New_York:20210915T170000
DTEND;TZID=America/New_York:20210915T180000
DTSTAMP:20260420T032246
CREATED:20210824T190927Z
LAST-MODIFIED:20210915T213016Z
UID:44149-1631725200-1631728800@rsu23.org
SUMMARY:Loranger Open House
DESCRIPTION:
URL:https://rsu23.org/event/loranger-open-house-2/
CATEGORIES:Loranger Memorial
END:VEVENT
BEGIN:VEVENT
DTSTART;VALUE=DATE:20210915
DTEND;VALUE=DATE:20210916
DTSTAMP:20260420T032246
CREATED:20210824T201523Z
LAST-MODIFIED:20210915T234527Z
UID:44162-1631664000-1631750399@rsu23.org
SUMMARY:Early Release Day
DESCRIPTION:
URL:https://rsu23.org/event/early-release-day-34/
CATEGORIES:Jameson Elementary
END:VEVENT
BEGIN:VEVENT
DTSTART;VALUE=DATE:20210915
DTEND;VALUE=DATE:20210916
DTSTAMP:20260420T032246
CREATED:20210824T190926Z
LAST-MODIFIED:20210915T234527Z
UID:44148-1631664000-1631750399@rsu23.org
SUMMARY:Early Release Day
DESCRIPTION:
URL:https://rsu23.org/event/early-release-day-33/
CATEGORIES:Loranger Memorial
END:VEVENT
BEGIN:VEVENT
DTSTART;VALUE=DATE:20210913
DTEND;VALUE=DATE:20210914
DTSTAMP:20260420T032246
CREATED:20210824T214525Z
LAST-MODIFIED:20210913T233055Z
UID:44181-1631491200-1631577599@rsu23.org
SUMMARY:First day of school Grades K & PreK
DESCRIPTION:
URL:https://rsu23.org/event/first-day-of-school-grades-k-prek/
CATEGORIES:Jameson Elementary
END:VEVENT
BEGIN:VEVENT
DTSTART;VALUE=DATE:20210910
DTEND;VALUE=DATE:20210911
DTSTAMP:20260420T032246
CREATED:20210824T201523Z
LAST-MODIFIED:20210910T231534Z
UID:44161-1631232000-1631318399@rsu23.org
SUMMARY:PreK & K Visit Day
DESCRIPTION:
URL:https://rsu23.org/event/prek-k-visit-day/
CATEGORIES:Jameson Elementary
END:VEVENT
BEGIN:VEVENT
DTSTART;VALUE=DATE:20210906
DTEND;VALUE=DATE:20210907
DTSTAMP:20260420T032246
CREATED:20210824T203042Z
LAST-MODIFIED:20210907T000104Z
UID:44168-1630886400-1630972799@rsu23.org
SUMMARY:No School- Labor Day
DESCRIPTION:
URL:https://rsu23.org/event/no-school-labor-day-2/
CATEGORIES:Loranger Memorial
END:VEVENT
BEGIN:VEVENT
DTSTART;VALUE=DATE:20210906
DTEND;VALUE=DATE:20210907
DTSTAMP:20260420T032246
CREATED:20210824T201522Z
LAST-MODIFIED:20210906T234535Z
UID:44160-1630886400-1630972799@rsu23.org
SUMMARY:No School- Labor Day
DESCRIPTION:
URL:https://rsu23.org/event/no-school-labor-day/
CATEGORIES:Jameson Elementary
END:VEVENT
BEGIN:VEVENT
DTSTART;VALUE=DATE:20210902
DTEND;VALUE=DATE:20210903
DTSTAMP:20260420T032246
CREATED:20210824T201522Z
LAST-MODIFIED:20210902T233031Z
UID:44159-1630540800-1630627199@rsu23.org
SUMMARY:First day of school Grades 1 & 2
DESCRIPTION:
URL:https://rsu23.org/event/first-day-of-school-grades-1-2/
CATEGORIES:Jameson Elementary
END:VEVENT
BEGIN:VEVENT
DTSTART;TZID=America/New_York:20210831T173000
DTEND;TZID=America/New_York:20210831T183000
DTSTAMP:20260420T032246
CREATED:20210824T201522Z
LAST-MODIFIED:20210831T223032Z
UID:44158-1630431000-1630434600@rsu23.org
SUMMARY:Jameson Open House
DESCRIPTION:
URL:https://rsu23.org/event/jameson-open-house/
CATEGORIES:Jameson Elementary
END:VEVENT
BEGIN:VEVENT
DTSTART;TZID=America/New_York:20210715T180000
DTEND;TZID=America/New_York:20210715T190000
DTSTAMP:20260420T032246
CREATED:20210416T000150Z
LAST-MODIFIED:20210503T161707Z
UID:38772-1626372000-1626375600@rsu23.org
SUMMARY:School Board meeting
DESCRIPTION:
URL:https://rsu23.org/event/school-board-meeting-33/
LOCATION:Old Orchard Beach Town Hall\, 1 Portland Ave\, Old Orchard Beach\, ME 04064\, USA\, 2 Portland Ave\, United States
CATEGORIES:Jameson Elementary
END:VEVENT
BEGIN:VEVENT
DTSTART;TZID=America/New_York:20210617T180000
DTEND;TZID=America/New_York:20210617T190000
DTSTAMP:20260420T032246
CREATED:20210326T175034Z
LAST-MODIFIED:20210503T161707Z
UID:37713-1623952800-1623956400@rsu23.org
SUMMARY:School Board meeting
DESCRIPTION:
URL:https://rsu23.org/event/school-board-meeting-32/
LOCATION:Old Orchard Beach Town Hall\, 1 Portland Ave\, Old Orchard Beach\, ME 04064\, USA\, 2 Portland Ave\, United States
CATEGORIES:Jameson Elementary
END:VEVENT
BEGIN:VEVENT
DTSTART;VALUE=DATE:20210611
DTEND;VALUE=DATE:20210612
DTSTAMP:20260420T032246
CREATED:20210528T163015Z
LAST-MODIFIED:20210611T234458Z
UID:40814-1623369600-1623455999@rsu23.org
SUMMARY:Early Release- Last day of school
DESCRIPTION:
URL:https://rsu23.org/event/early-release-last-day-of-school/
CATEGORIES:Jameson Elementary
END:VEVENT
END:VCALENDAR