BEGIN:VCALENDAR
VERSION:2.0
PRODID:-//RSU 23 Old Orchard Beach Schools - ECPv6.15.18//NONSGML v1.0//EN
CALSCALE:GREGORIAN
METHOD:PUBLISH
X-WR-CALNAME:RSU 23 Old Orchard Beach Schools
X-ORIGINAL-URL:https://rsu23.org
X-WR-CALDESC:Events for RSU 23 Old Orchard Beach Schools
REFRESH-INTERVAL;VALUE=DURATION:PT1H
X-Robots-Tag:noindex
X-PUBLISHED-TTL:PT1H
BEGIN:VTIMEZONE
TZID:America/New_York
BEGIN:DAYLIGHT
TZOFFSETFROM:-0500
TZOFFSETTO:-0400
TZNAME:EDT
DTSTART:20200308T070000
END:DAYLIGHT
BEGIN:STANDARD
TZOFFSETFROM:-0400
TZOFFSETTO:-0500
TZNAME:EST
DTSTART:20201101T060000
END:STANDARD
BEGIN:DAYLIGHT
TZOFFSETFROM:-0500
TZOFFSETTO:-0400
TZNAME:EDT
DTSTART:20210314T070000
END:DAYLIGHT
BEGIN:STANDARD
TZOFFSETFROM:-0400
TZOFFSETTO:-0500
TZNAME:EST
DTSTART:20211107T060000
END:STANDARD
BEGIN:DAYLIGHT
TZOFFSETFROM:-0500
TZOFFSETTO:-0400
TZNAME:EDT
DTSTART:20220313T070000
END:DAYLIGHT
BEGIN:STANDARD
TZOFFSETFROM:-0400
TZOFFSETTO:-0500
TZNAME:EST
DTSTART:20221106T060000
END:STANDARD
END:VTIMEZONE
BEGIN:VEVENT
DTSTART;VALUE=DATE:20210913
DTEND;VALUE=DATE:20210914
DTSTAMP:20260420T201700
CREATED:20210824T214525Z
LAST-MODIFIED:20210913T233055Z
UID:44181-1631491200-1631577599@rsu23.org
SUMMARY:First day of school Grades K & PreK
DESCRIPTION:
URL:https://rsu23.org/event/first-day-of-school-grades-k-prek/
CATEGORIES:Jameson Elementary
END:VEVENT
BEGIN:VEVENT
DTSTART;VALUE=DATE:20210910
DTEND;VALUE=DATE:20210911
DTSTAMP:20260420T201700
CREATED:20210824T201523Z
LAST-MODIFIED:20210910T231534Z
UID:44161-1631232000-1631318399@rsu23.org
SUMMARY:PreK & K Visit Day
DESCRIPTION:
URL:https://rsu23.org/event/prek-k-visit-day/
CATEGORIES:Jameson Elementary
END:VEVENT
BEGIN:VEVENT
DTSTART;VALUE=DATE:20210906
DTEND;VALUE=DATE:20210907
DTSTAMP:20260420T201700
CREATED:20210824T203042Z
LAST-MODIFIED:20210907T000104Z
UID:44168-1630886400-1630972799@rsu23.org
SUMMARY:No School- Labor Day
DESCRIPTION:
URL:https://rsu23.org/event/no-school-labor-day-2/
CATEGORIES:Loranger Memorial
END:VEVENT
BEGIN:VEVENT
DTSTART;VALUE=DATE:20210906
DTEND;VALUE=DATE:20210907
DTSTAMP:20260420T201700
CREATED:20210824T201522Z
LAST-MODIFIED:20210906T234535Z
UID:44160-1630886400-1630972799@rsu23.org
SUMMARY:No School- Labor Day
DESCRIPTION:
URL:https://rsu23.org/event/no-school-labor-day/
CATEGORIES:Jameson Elementary
END:VEVENT
BEGIN:VEVENT
DTSTART;VALUE=DATE:20210902
DTEND;VALUE=DATE:20210903
DTSTAMP:20260420T201700
CREATED:20210824T201522Z
LAST-MODIFIED:20210902T233031Z
UID:44159-1630540800-1630627199@rsu23.org
SUMMARY:First day of school Grades 1 & 2
DESCRIPTION:
URL:https://rsu23.org/event/first-day-of-school-grades-1-2/
CATEGORIES:Jameson Elementary
END:VEVENT
BEGIN:VEVENT
DTSTART;TZID=America/New_York:20210831T173000
DTEND;TZID=America/New_York:20210831T183000
DTSTAMP:20260420T201700
CREATED:20210824T201522Z
LAST-MODIFIED:20210831T223032Z
UID:44158-1630431000-1630434600@rsu23.org
SUMMARY:Jameson Open House
DESCRIPTION:
URL:https://rsu23.org/event/jameson-open-house/
CATEGORIES:Jameson Elementary
END:VEVENT
BEGIN:VEVENT
DTSTART;TZID=America/New_York:20210715T180000
DTEND;TZID=America/New_York:20210715T190000
DTSTAMP:20260420T201700
CREATED:20210416T000150Z
LAST-MODIFIED:20210503T161707Z
UID:38772-1626372000-1626375600@rsu23.org
SUMMARY:School Board meeting
DESCRIPTION:
URL:https://rsu23.org/event/school-board-meeting-33/
LOCATION:Old Orchard Beach Town Hall\, 1 Portland Ave\, Old Orchard Beach\, ME 04064\, USA\, 2 Portland Ave\, United States
CATEGORIES:Jameson Elementary
END:VEVENT
BEGIN:VEVENT
DTSTART;TZID=America/New_York:20210617T180000
DTEND;TZID=America/New_York:20210617T190000
DTSTAMP:20260420T201700
CREATED:20210326T175034Z
LAST-MODIFIED:20210503T161707Z
UID:37713-1623952800-1623956400@rsu23.org
SUMMARY:School Board meeting
DESCRIPTION:
URL:https://rsu23.org/event/school-board-meeting-32/
LOCATION:Old Orchard Beach Town Hall\, 1 Portland Ave\, Old Orchard Beach\, ME 04064\, USA\, 2 Portland Ave\, United States
CATEGORIES:Jameson Elementary
END:VEVENT
BEGIN:VEVENT
DTSTART;VALUE=DATE:20210611
DTEND;VALUE=DATE:20210612
DTSTAMP:20260420T201700
CREATED:20210528T163015Z
LAST-MODIFIED:20210611T234458Z
UID:40814-1623369600-1623455999@rsu23.org
SUMMARY:Early Release- Last day of school
DESCRIPTION:
URL:https://rsu23.org/event/early-release-last-day-of-school/
CATEGORIES:Jameson Elementary
END:VEVENT
BEGIN:VEVENT
DTSTART;VALUE=DATE:20210611
DTEND;VALUE=DATE:20210612
DTSTAMP:20260420T201700
CREATED:20210326T175115Z
LAST-MODIFIED:20210327T233134Z
UID:37726-1623369600-1623455999@rsu23.org
SUMMARY:End of Trimester 3
DESCRIPTION:
URL:https://rsu23.org/event/end-of-trimester-3-2/
CATEGORIES:Loranger Memorial
END:VEVENT
BEGIN:VEVENT
DTSTART;VALUE=DATE:20210611
DTEND;VALUE=DATE:20210612
DTSTAMP:20260420T201700
CREATED:20210326T175034Z
LAST-MODIFIED:20210611T234458Z
UID:37712-1623369600-1623455999@rsu23.org
SUMMARY:End of Trimester 3
DESCRIPTION:
URL:https://rsu23.org/event/end-of-trimester-3/
CATEGORIES:Jameson Elementary
END:VEVENT
BEGIN:VEVENT
DTSTART;TZID=America/New_York:20210606T140000
DTEND;TZID=America/New_York:20210606T160000
DTSTAMP:20260420T201700
CREATED:20210604T141528Z
LAST-MODIFIED:20210606T184625Z
UID:41132-1622988000-1622995200@rsu23.org
SUMMARY:Class of 2021 Graduation
DESCRIPTION:
URL:https://rsu23.org/event/class-of-2021-graduation/
LOCATION:The Seaside Pavilion\, 8 6th St\, Old Orchard Beach\, ME 04064\, USA
CATEGORIES:OOBHS
END:VEVENT
BEGIN:VEVENT
DTSTART;TZID=America/New_York:20210602T093000
DTEND;TZID=America/New_York:20210602T113000
DTSTAMP:20260420T201700
CREATED:20210520T170035Z
LAST-MODIFIED:20210602T141457Z
UID:40436-1622626200-1622633400@rsu23.org
SUMMARY:Library Book Retirement Party
DESCRIPTION:At the tent behind Loranger Memorial School.
URL:https://rsu23.org/event/library-book-retirement-party/
CATEGORIES:Jameson Elementary
END:VEVENT
BEGIN:VEVENT
DTSTART;VALUE=DATE:20210602
DTEND;VALUE=DATE:20210603
DTSTAMP:20260420T201700
CREATED:20210326T175115Z
LAST-MODIFIED:20210327T233134Z
UID:37725-1622592000-1622678399@rsu23.org
SUMMARY:Early Release Day
DESCRIPTION:
URL:https://rsu23.org/event/early-release-day-31/
CATEGORIES:Loranger Memorial
END:VEVENT
BEGIN:VEVENT
DTSTART;VALUE=DATE:20210602
DTEND;VALUE=DATE:20210603
DTSTAMP:20260420T201700
CREATED:20210326T175034Z
LAST-MODIFIED:20210528T153012Z
UID:37711-1622592000-1622678399@rsu23.org
SUMMARY:Early Release Day
DESCRIPTION:
URL:https://rsu23.org/event/early-release-day-28/
CATEGORIES:Jameson Elementary
END:VEVENT
BEGIN:VEVENT
DTSTART;VALUE=DATE:20210531
DTEND;VALUE=DATE:20210601
DTSTAMP:20260420T201700
CREATED:20210326T175142Z
LAST-MODIFIED:20210531T234606Z
UID:37733-1622419200-1622505599@rsu23.org
SUMMARY:No School Holiday - Memorial Day
DESCRIPTION:
URL:https://rsu23.org/event/no-school-holiday-memorial-day/
CATEGORIES:OOBHS
END:VEVENT
BEGIN:VEVENT
DTSTART;VALUE=DATE:20210531
DTEND;VALUE=DATE:20210601
DTSTAMP:20260420T201700
CREATED:20210326T175115Z
LAST-MODIFIED:20210327T233134Z
UID:37724-1622419200-1622505599@rsu23.org
SUMMARY:Memorial Day- No School
DESCRIPTION:
URL:https://rsu23.org/event/memorial-day-no-school-4/
CATEGORIES:Loranger Memorial
END:VEVENT
BEGIN:VEVENT
DTSTART;VALUE=DATE:20210531
DTEND;VALUE=DATE:20210601
DTSTAMP:20260420T201700
CREATED:20210326T175033Z
LAST-MODIFIED:20210601T000109Z
UID:37710-1622419200-1622505599@rsu23.org
SUMMARY:Memorial Day- No School
DESCRIPTION:
URL:https://rsu23.org/event/memorial-day-no-school-3/
CATEGORIES:Jameson Elementary
END:VEVENT
BEGIN:VEVENT
DTSTART;TZID=America/New_York:20210528T132000
DTEND;TZID=America/New_York:20210528T144000
DTSTAMP:20260420T201700
CREATED:20210503T174454Z
LAST-MODIFIED:20210528T180019Z
UID:39579-1622208000-1622212800@rsu23.org
SUMMARY:Block 8 - Senior Final Exam
DESCRIPTION:
URL:https://rsu23.org/event/block-8-senior-final-exam/
CATEGORIES:OOBHS
END:VEVENT
BEGIN:VEVENT
DTSTART;TZID=America/New_York:20210528T112000
DTEND;TZID=America/New_York:20210528T131500
DTSTAMP:20260420T201700
CREATED:20210503T174454Z
LAST-MODIFIED:20210528T170014Z
UID:39578-1622200800-1622207700@rsu23.org
SUMMARY:Block 6 - Senior Final Exam
DESCRIPTION:
URL:https://rsu23.org/event/block-6-senior-final-exam/
CATEGORIES:OOBHS
END:VEVENT
BEGIN:VEVENT
DTSTART;TZID=America/New_York:20210527T132000
DTEND;TZID=America/New_York:20210527T144000
DTSTAMP:20260420T201700
CREATED:20210503T174454Z
LAST-MODIFIED:20210527T174515Z
UID:39577-1622121600-1622126400@rsu23.org
SUMMARY:Block 7 - Senior Final Exam
DESCRIPTION:
URL:https://rsu23.org/event/block-7-senior-final-exam/
CATEGORIES:OOBHS
END:VEVENT
BEGIN:VEVENT
DTSTART;TZID=America/New_York:20210527T112000
DTEND;TZID=America/New_York:20210527T131500
DTSTAMP:20260420T201700
CREATED:20210503T174454Z
LAST-MODIFIED:20210527T164500Z
UID:39576-1622114400-1622121300@rsu23.org
SUMMARY:Block 5 - Senior Final Exam
DESCRIPTION:
URL:https://rsu23.org/event/block-5-senior-final-exam/
CATEGORIES:OOBHS
END:VEVENT
BEGIN:VEVENT
DTSTART;TZID=America/New_York:20210525T095500
DTEND;TZID=America/New_York:20210525T112500
DTSTAMP:20260420T201700
CREATED:20210503T174454Z
LAST-MODIFIED:20210525T143126Z
UID:39575-1621936500-1621941900@rsu23.org
SUMMARY:Block 4 - Senior Final Exam
DESCRIPTION:
URL:https://rsu23.org/event/block-4-senior-final-exam/
CATEGORIES:OOBHS
END:VEVENT
BEGIN:VEVENT
DTSTART;TZID=America/New_York:20210525T083000
DTEND;TZID=America/New_York:20210525T095000
DTSTAMP:20260420T201700
CREATED:20210503T164505Z
LAST-MODIFIED:20210525T131649Z
UID:39569-1621931400-1621936200@rsu23.org
SUMMARY:Block 2 - Senior Final Exam
DESCRIPTION:
URL:https://rsu23.org/event/block-2-senior-final-exam/
CATEGORIES:OOBHS
END:VEVENT
BEGIN:VEVENT
DTSTART;TZID=America/New_York:20210524T095500
DTEND;TZID=America/New_York:20210524T112500
DTSTAMP:20260420T201700
CREATED:20210503T164505Z
LAST-MODIFIED:20210524T141941Z
UID:39568-1621850100-1621855500@rsu23.org
SUMMARY:Block 3 - Senior Final Exam
DESCRIPTION:
URL:https://rsu23.org/event/block-3-senior-final-exam/
CATEGORIES:OOBHS
END:VEVENT
BEGIN:VEVENT
DTSTART;TZID=America/New_York:20210524T083000
DTEND;TZID=America/New_York:20210524T095000
DTSTAMP:20260420T201700
CREATED:20210503T164505Z
LAST-MODIFIED:20210524T131542Z
UID:39567-1621845000-1621849800@rsu23.org
SUMMARY:Block 1 - Senior Final Exam
DESCRIPTION:
URL:https://rsu23.org/event/block-1-senior-final-exam/
CATEGORIES:OOBHS
END:VEVENT
BEGIN:VEVENT
DTSTART;TZID=America/New_York:20210520T180000
DTEND;TZID=America/New_York:20210520T190000
DTSTAMP:20260420T201700
CREATED:20210326T175033Z
LAST-MODIFIED:20210520T221943Z
UID:37709-1621533600-1621537200@rsu23.org
SUMMARY:School Board meeting
DESCRIPTION:
URL:https://rsu23.org/event/school-board-meeting-31/
LOCATION:Old Orchard Beach Town Hall\, 1 Portland Ave\, Old Orchard Beach\, ME 04064\, USA\, 2 Portland Ave\, United States
CATEGORIES:Jameson Elementary
END:VEVENT
BEGIN:VEVENT
DTSTART;TZID=America/New_York:20210505T120000
DTEND;TZID=America/New_York:20210505T160000
DTSTAMP:20260420T201700
CREATED:20210326T175115Z
LAST-MODIFIED:20210327T233134Z
UID:37722-1620216000-1620230400@rsu23.org
SUMMARY:Professional Development
DESCRIPTION:
URL:https://rsu23.org/event/professional-development-13/
CATEGORIES:Loranger Memorial
END:VEVENT
BEGIN:VEVENT
DTSTART;TZID=America/New_York:20210505T120000
DTEND;TZID=America/New_York:20210505T160000
DTSTAMP:20260420T201700
CREATED:20210326T175033Z
LAST-MODIFIED:20210505T193113Z
UID:37707-1620216000-1620230400@rsu23.org
SUMMARY:Professional Development
DESCRIPTION:
URL:https://rsu23.org/event/professional-development-11/
CATEGORIES:Jameson Elementary
END:VEVENT
BEGIN:VEVENT
DTSTART;VALUE=DATE:20210505
DTEND;VALUE=DATE:20210506
DTSTAMP:20260420T201700
CREATED:20210326T175142Z
LAST-MODIFIED:20210505T231814Z
UID:37732-1620172800-1620259199@rsu23.org
SUMMARY:Early Release
DESCRIPTION:
URL:https://rsu23.org/event/early-release-3/
CATEGORIES:OOBHS
END:VEVENT
END:VCALENDAR