BEGIN:VCALENDAR
VERSION:2.0
PRODID:-//RSU 23 Old Orchard Beach Schools - ECPv6.15.18//NONSGML v1.0//EN
CALSCALE:GREGORIAN
METHOD:PUBLISH
X-WR-CALNAME:RSU 23 Old Orchard Beach Schools
X-ORIGINAL-URL:https://rsu23.org
X-WR-CALDESC:Events for RSU 23 Old Orchard Beach Schools
REFRESH-INTERVAL;VALUE=DURATION:PT1H
X-Robots-Tag:noindex
X-PUBLISHED-TTL:PT1H
BEGIN:VTIMEZONE
TZID:America/New_York
BEGIN:DAYLIGHT
TZOFFSETFROM:-0500
TZOFFSETTO:-0400
TZNAME:EDT
DTSTART:20210314T070000
END:DAYLIGHT
BEGIN:STANDARD
TZOFFSETFROM:-0400
TZOFFSETTO:-0500
TZNAME:EST
DTSTART:20211107T060000
END:STANDARD
BEGIN:DAYLIGHT
TZOFFSETFROM:-0500
TZOFFSETTO:-0400
TZNAME:EDT
DTSTART:20220313T070000
END:DAYLIGHT
BEGIN:STANDARD
TZOFFSETFROM:-0400
TZOFFSETTO:-0500
TZNAME:EST
DTSTART:20221106T060000
END:STANDARD
BEGIN:DAYLIGHT
TZOFFSETFROM:-0500
TZOFFSETTO:-0400
TZNAME:EDT
DTSTART:20230312T070000
END:DAYLIGHT
BEGIN:STANDARD
TZOFFSETFROM:-0400
TZOFFSETTO:-0500
TZNAME:EST
DTSTART:20231105T060000
END:STANDARD
END:VTIMEZONE
BEGIN:VEVENT
DTSTART;TZID=America/New_York:20221214T180000
DTEND;TZID=America/New_York:20221214T190000
DTSTAMP:20260421T124825
CREATED:20221212T161536Z
LAST-MODIFIED:20221214T233238Z
UID:99721-1671040800-1671044400@rsu23.org
SUMMARY:LMS & OOBHS Holiday Concert
DESCRIPTION:
URL:https://rsu23.org/event/lms-oobhs-holiday-concert/
LOCATION:Loranger Middle School\, 148 Saco Ave\, Old Orchard Beach\, ME 04064\, USA
CATEGORIES:Loranger Memorial
END:VEVENT
BEGIN:VEVENT
DTSTART;TZID=America/New_York:20221214T180000
DTEND;TZID=America/New_York:20221214T190000
DTSTAMP:20260421T124825
CREATED:20221212T163626Z
LAST-MODIFIED:20221214T232245Z
UID:99723-1671040800-1671044400@rsu23.org
SUMMARY:LMS & OOBHS Holiday Concert
DESCRIPTION:
URL:https://rsu23.org/event/lms-oobhs-holiday-concert-2/
LOCATION:Loranger Middle School\, 148 Saco Ave\, Old Orchard Beach\, ME 04064\, USA
CATEGORIES:OOBHS
END:VEVENT
END:VCALENDAR