BEGIN:VCALENDAR
VERSION:2.0
PRODID:-//RSU 23 Old Orchard Beach Schools - ECPv6.15.18//NONSGML v1.0//EN
CALSCALE:GREGORIAN
METHOD:PUBLISH
X-WR-CALNAME:RSU 23 Old Orchard Beach Schools
X-ORIGINAL-URL:https://rsu23.org
X-WR-CALDESC:Events for RSU 23 Old Orchard Beach Schools
REFRESH-INTERVAL;VALUE=DURATION:PT1H
X-Robots-Tag:noindex
X-PUBLISHED-TTL:PT1H
BEGIN:VTIMEZONE
TZID:America/New_York
BEGIN:DAYLIGHT
TZOFFSETFROM:-0500
TZOFFSETTO:-0400
TZNAME:EDT
DTSTART:20210314T070000
END:DAYLIGHT
BEGIN:STANDARD
TZOFFSETFROM:-0400
TZOFFSETTO:-0500
TZNAME:EST
DTSTART:20211107T060000
END:STANDARD
BEGIN:DAYLIGHT
TZOFFSETFROM:-0500
TZOFFSETTO:-0400
TZNAME:EDT
DTSTART:20220313T070000
END:DAYLIGHT
BEGIN:STANDARD
TZOFFSETFROM:-0400
TZOFFSETTO:-0500
TZNAME:EST
DTSTART:20221106T060000
END:STANDARD
BEGIN:DAYLIGHT
TZOFFSETFROM:-0500
TZOFFSETTO:-0400
TZNAME:EDT
DTSTART:20230312T070000
END:DAYLIGHT
BEGIN:STANDARD
TZOFFSETFROM:-0400
TZOFFSETTO:-0500
TZNAME:EST
DTSTART:20231105T060000
END:STANDARD
END:VTIMEZONE
BEGIN:VEVENT
DTSTART;TZID=America/New_York:20220606T083000
DTEND;TZID=America/New_York:20220606T100000
DTSTAMP:20260422T003034
CREATED:20220517T143019Z
LAST-MODIFIED:20220603T173004Z
UID:74861-1654504200-1654509600@rsu23.org
SUMMARY:Final Exams- Block 1 (Blue Day)
DESCRIPTION:
URL:https://rsu23.org/event/final-exams-block-1-blue-day/
CATEGORIES:OOBHS
END:VEVENT
BEGIN:VEVENT
DTSTART;TZID=America/New_York:20220606T103000
DTEND;TZID=America/New_York:20220606T120000
DTSTAMP:20260422T003034
CREATED:20220517T143020Z
LAST-MODIFIED:20220603T173004Z
UID:74862-1654511400-1654516800@rsu23.org
SUMMARY:Final Exams-Block 3 (Blue Day)
DESCRIPTION:
URL:https://rsu23.org/event/final-exams-block-3-blue-day/
CATEGORIES:OOBHS
END:VEVENT
BEGIN:VEVENT
DTSTART;TZID=America/New_York:20220606T123000
DTEND;TZID=America/New_York:20220606T144500
DTSTAMP:20260422T003034
CREATED:20220517T143020Z
LAST-MODIFIED:20220603T173004Z
UID:74863-1654518600-1654526700@rsu23.org
SUMMARY:Final Exam Make-up
DESCRIPTION:
URL:https://rsu23.org/event/final-exam-make-up/
CATEGORIES:OOBHS
END:VEVENT
END:VCALENDAR