BEGIN:VCALENDAR
VERSION:2.0
PRODID:-//RSU 23 Old Orchard Beach Schools - ECPv6.15.18//NONSGML v1.0//EN
CALSCALE:GREGORIAN
METHOD:PUBLISH
X-WR-CALNAME:RSU 23 Old Orchard Beach Schools
X-ORIGINAL-URL:https://rsu23.org
X-WR-CALDESC:Events for RSU 23 Old Orchard Beach Schools
REFRESH-INTERVAL;VALUE=DURATION:PT1H
X-Robots-Tag:noindex
X-PUBLISHED-TTL:PT1H
BEGIN:VTIMEZONE
TZID:America/New_York
BEGIN:DAYLIGHT
TZOFFSETFROM:-0500
TZOFFSETTO:-0400
TZNAME:EDT
DTSTART:20210314T070000
END:DAYLIGHT
BEGIN:STANDARD
TZOFFSETFROM:-0400
TZOFFSETTO:-0500
TZNAME:EST
DTSTART:20211107T060000
END:STANDARD
BEGIN:DAYLIGHT
TZOFFSETFROM:-0500
TZOFFSETTO:-0400
TZNAME:EDT
DTSTART:20220313T070000
END:DAYLIGHT
BEGIN:STANDARD
TZOFFSETFROM:-0400
TZOFFSETTO:-0500
TZNAME:EST
DTSTART:20221106T060000
END:STANDARD
BEGIN:DAYLIGHT
TZOFFSETFROM:-0500
TZOFFSETTO:-0400
TZNAME:EDT
DTSTART:20230312T070000
END:DAYLIGHT
BEGIN:STANDARD
TZOFFSETFROM:-0400
TZOFFSETTO:-0500
TZNAME:EST
DTSTART:20231105T060000
END:STANDARD
END:VTIMEZONE
BEGIN:VEVENT
DTSTART;VALUE=DATE:20220602
DTEND;VALUE=DATE:20220603
DTSTAMP:20260422T003035
CREATED:20220304T003012Z
LAST-MODIFIED:20220602T231528Z
UID:66009-1654128000-1654214399@rsu23.org
SUMMARY:Senior Week
DESCRIPTION:
URL:https://rsu23.org/event/senior-week-3/
CATEGORIES:OOBHS
END:VEVENT
BEGIN:VEVENT
DTSTART;VALUE=DATE:20220602
DTEND;VALUE=DATE:20220603
DTSTAMP:20260422T003035
CREATED:20220304T003012Z
LAST-MODIFIED:20220602T231528Z
UID:66010-1654128000-1654214399@rsu23.org
SUMMARY:Marching Practice
DESCRIPTION:
URL:https://rsu23.org/event/marching-practice/
CATEGORIES:OOBHS
END:VEVENT
BEGIN:VEVENT
DTSTART;VALUE=DATE:20220602
DTEND;VALUE=DATE:20220603
DTSTAMP:20260422T003035
CREATED:20220304T003012Z
LAST-MODIFIED:20220602T231528Z
UID:66011-1654128000-1654214399@rsu23.org
SUMMARY:Awards Night
DESCRIPTION:
URL:https://rsu23.org/event/awards-night/
CATEGORIES:OOBHS
END:VEVENT
BEGIN:VEVENT
DTSTART;VALUE=DATE:20220602
DTEND;VALUE=DATE:20220603
DTSTAMP:20260422T003035
CREATED:20220517T194848Z
LAST-MODIFIED:20220602T231528Z
UID:75023-1654128000-1654214399@rsu23.org
SUMMARY:Last White Day
DESCRIPTION:
URL:https://rsu23.org/event/last-white-day/
CATEGORIES:OOBHS
END:VEVENT
BEGIN:VEVENT
DTSTART;TZID=America/New_York:20220602T171500
DTEND;TZID=America/New_York:20220602T190000
DTSTAMP:20260422T003035
CREATED:20220517T143019Z
LAST-MODIFIED:20220602T224509Z
UID:74860-1654190100-1654196400@rsu23.org
SUMMARY:Awards Night
DESCRIPTION:
URL:https://rsu23.org/event/awards-night-2/
CATEGORIES:OOBHS
END:VEVENT
END:VCALENDAR