BEGIN:VCALENDAR
VERSION:2.0
PRODID:-//RSU 23 Old Orchard Beach Schools - ECPv6.15.18//NONSGML v1.0//EN
CALSCALE:GREGORIAN
METHOD:PUBLISH
X-WR-CALNAME:RSU 23 Old Orchard Beach Schools
X-ORIGINAL-URL:https://rsu23.org
X-WR-CALDESC:Events for RSU 23 Old Orchard Beach Schools
REFRESH-INTERVAL;VALUE=DURATION:PT1H
X-Robots-Tag:noindex
X-PUBLISHED-TTL:PT1H
BEGIN:VTIMEZONE
TZID:America/New_York
BEGIN:DAYLIGHT
TZOFFSETFROM:-0500
TZOFFSETTO:-0400
TZNAME:EDT
DTSTART:20210314T070000
END:DAYLIGHT
BEGIN:STANDARD
TZOFFSETFROM:-0400
TZOFFSETTO:-0500
TZNAME:EST
DTSTART:20211107T060000
END:STANDARD
BEGIN:DAYLIGHT
TZOFFSETFROM:-0500
TZOFFSETTO:-0400
TZNAME:EDT
DTSTART:20220313T070000
END:DAYLIGHT
BEGIN:STANDARD
TZOFFSETFROM:-0400
TZOFFSETTO:-0500
TZNAME:EST
DTSTART:20221106T060000
END:STANDARD
BEGIN:DAYLIGHT
TZOFFSETFROM:-0500
TZOFFSETTO:-0400
TZNAME:EDT
DTSTART:20230312T070000
END:DAYLIGHT
BEGIN:STANDARD
TZOFFSETFROM:-0400
TZOFFSETTO:-0500
TZNAME:EST
DTSTART:20231105T060000
END:STANDARD
END:VTIMEZONE
BEGIN:VEVENT
DTSTART;VALUE=DATE:20220511
DTEND;VALUE=DATE:20220512
DTSTAMP:20260425T192315
CREATED:20220216T203019Z
LAST-MODIFIED:20220511T234651Z
UID:64164-1652227200-1652313599@rsu23.org
SUMMARY:Senior Exams
DESCRIPTION:
URL:https://rsu23.org/event/senior-exams-3/
CATEGORIES:OOBHS
END:VEVENT
BEGIN:VEVENT
DTSTART;TZID=America/New_York:20220511T083000
DTEND;TZID=America/New_York:20220511T094000
DTSTAMP:20260425T192315
CREATED:20220503T140004Z
LAST-MODIFIED:20220511T130149Z
UID:73187-1652257800-1652262000@rsu23.org
SUMMARY:Senior Final Exams- Block 5 (Blue Day)
DESCRIPTION:
URL:https://rsu23.org/event/senior-final-exams-block-5-blue-day/
CATEGORIES:OOBHS
END:VEVENT
BEGIN:VEVENT
DTSTART;TZID=America/New_York:20220511T094500
DTEND;TZID=America/New_York:20220511T105500
DTSTAMP:20260425T192315
CREATED:20220503T140004Z
LAST-MODIFIED:20220511T143137Z
UID:73188-1652262300-1652266500@rsu23.org
SUMMARY:Senior Final Exams- Block 7 (Blue Day)
DESCRIPTION:
URL:https://rsu23.org/event/senior-final-exams-block-7-blue-day/
CATEGORIES:OOBHS
END:VEVENT
END:VCALENDAR