BEGIN:VCALENDAR
VERSION:2.0
PRODID:-//RSU 23 Old Orchard Beach Schools - ECPv6.15.18//NONSGML v1.0//EN
CALSCALE:GREGORIAN
METHOD:PUBLISH
X-WR-CALNAME:RSU 23 Old Orchard Beach Schools
X-ORIGINAL-URL:https://rsu23.org
X-WR-CALDESC:Events for RSU 23 Old Orchard Beach Schools
REFRESH-INTERVAL;VALUE=DURATION:PT1H
X-Robots-Tag:noindex
X-PUBLISHED-TTL:PT1H
BEGIN:VTIMEZONE
TZID:America/New_York
BEGIN:DAYLIGHT
TZOFFSETFROM:-0500
TZOFFSETTO:-0400
TZNAME:EDT
DTSTART:20210314T070000
END:DAYLIGHT
BEGIN:STANDARD
TZOFFSETFROM:-0400
TZOFFSETTO:-0500
TZNAME:EST
DTSTART:20211107T060000
END:STANDARD
BEGIN:DAYLIGHT
TZOFFSETFROM:-0500
TZOFFSETTO:-0400
TZNAME:EDT
DTSTART:20220313T070000
END:DAYLIGHT
BEGIN:STANDARD
TZOFFSETFROM:-0400
TZOFFSETTO:-0500
TZNAME:EST
DTSTART:20221106T060000
END:STANDARD
BEGIN:DAYLIGHT
TZOFFSETFROM:-0500
TZOFFSETTO:-0400
TZNAME:EDT
DTSTART:20230312T070000
END:DAYLIGHT
BEGIN:STANDARD
TZOFFSETFROM:-0400
TZOFFSETTO:-0500
TZNAME:EST
DTSTART:20231105T060000
END:STANDARD
END:VTIMEZONE
BEGIN:VEVENT
DTSTART;VALUE=DATE:20220509
DTEND;VALUE=DATE:20220510
DTSTAMP:20260425T223556
CREATED:20220216T203018Z
LAST-MODIFIED:20220509T233006Z
UID:64162-1652054400-1652140799@rsu23.org
SUMMARY:Senior Exams
DESCRIPTION:
URL:https://rsu23.org/event/senior-exams/
CATEGORIES:OOBHS
END:VEVENT
BEGIN:VEVENT
DTSTART;TZID=America/New_York:20220509T083000
DTEND;TZID=America/New_York:20220509T094000
DTSTAMP:20260425T223556
CREATED:20220503T140003Z
LAST-MODIFIED:20220509T131604Z
UID:73183-1652085000-1652089200@rsu23.org
SUMMARY:Senior Final Exams- Block 1 (Blue Day)
DESCRIPTION:
URL:https://rsu23.org/event/senior-final-exams-block-1-blue-day/
CATEGORIES:OOBHS
END:VEVENT
BEGIN:VEVENT
DTSTART;TZID=America/New_York:20220509T094500
DTEND;TZID=America/New_York:20220509T105500
DTSTAMP:20260425T223556
CREATED:20220503T140003Z
LAST-MODIFIED:20220509T144631Z
UID:73184-1652089500-1652093700@rsu23.org
SUMMARY:Senior Final Exams- Block 3 (Blue Day)
DESCRIPTION:
URL:https://rsu23.org/event/senior-final-exams-block-3-blue-day/
CATEGORIES:OOBHS
END:VEVENT
END:VCALENDAR